BEGIN:VCALENDAR
VERSION:2.0
PRODID:-//Diwan - ECPv6.15.11//NONSGML v1.0//EN
CALSCALE:GREGORIAN
METHOD:PUBLISH
X-WR-CALNAME:Diwan
X-ORIGINAL-URL:https://diwan.clue-digital.com
X-WR-CALDESC:Events for Diwan
REFRESH-INTERVAL;VALUE=DURATION:PT1H
X-Robots-Tag:noindex
X-PUBLISHED-TTL:PT1H
BEGIN:VTIMEZONE
TZID:Africa/Cairo
BEGIN:DAYLIGHT
TZOFFSETFROM:+0200
TZOFFSETTO:+0300
TZNAME:EEST
DTSTART:20230427T220000
END:DAYLIGHT
BEGIN:STANDARD
TZOFFSETFROM:+0300
TZOFFSETTO:+0200
TZNAME:EET
DTSTART:20231026T210000
END:STANDARD
BEGIN:DAYLIGHT
TZOFFSETFROM:+0200
TZOFFSETTO:+0300
TZNAME:EEST
DTSTART:20240425T220000
END:DAYLIGHT
BEGIN:STANDARD
TZOFFSETFROM:+0300
TZOFFSETTO:+0200
TZNAME:EET
DTSTART:20241031T210000
END:STANDARD
BEGIN:DAYLIGHT
TZOFFSETFROM:+0200
TZOFFSETTO:+0300
TZNAME:EEST
DTSTART:20250424T220000
END:DAYLIGHT
BEGIN:STANDARD
TZOFFSETFROM:+0300
TZOFFSETTO:+0200
TZNAME:EET
DTSTART:20251030T210000
END:STANDARD
END:VTIMEZONE
BEGIN:VEVENT
DTSTART;TZID=Africa/Cairo:20241013T180000
DTEND;TZID=Africa/Cairo:20241201T203000
DTSTAMP:20260425T161742
CREATED:20240912T150758Z
LAST-MODIFIED:20241013T131921Z
UID:109850-1728842400-1733085000@diwan.clue-digital.com
SUMMARY:Creative Expression Workshop
DESCRIPTION:2nd Edition of the Creative Expression workshop\nwith Sara Fawcet & Helene Awad-Wahba\n7 sessions every Sunday\nStarting 13 Oct\nInpact Egypt\, Abaza Building\, 3 Mohamed Mazhar st. in Zamalek\n6 – 8:30pm\n5000LE\nBook Here
URL:https://diwan.clue-digital.com/event/creative-expression-workshop/
LOCATION:Cairo
CATEGORIES:Adults
ATTACH;FMTTYPE=image/png:https://diwan.clue-digital.com/wp-content/uploads/2024/09/Thumbnail-Website-size.png
ORGANIZER;CN="Diwan":MAILTO:info@diwanegypt.com
END:VEVENT
BEGIN:VEVENT
DTSTART;TZID=Africa/Cairo:20241101T190000
DTEND;TZID=Africa/Cairo:20241101T210000
DTSTAMP:20260425T161742
CREATED:20241026T081159Z
LAST-MODIFIED:20241026T081159Z
UID:111748-1730487600-1730494800@diwan.clue-digital.com
SUMMARY:حفل توقيع الغواص أبو حامد الغزالي
DESCRIPTION:حفل توقيع رواية الغواص أبو حامد الغزالي\nللدكتورة ريم بسيوني\nالجمعة ١ نوفمبر\nديوان الأسكندرية\n٧ مساءً
URL:https://diwan.clue-digital.com/event/%d8%ad%d9%81%d9%84-%d8%aa%d9%88%d9%82%d9%8a%d8%b9-%d8%a7%d9%84%d8%ba%d9%88%d8%a7%d8%b5-%d8%a3%d8%a8%d9%88-%d8%ad%d8%a7%d9%85%d8%af-%d8%a7%d9%84%d8%ba%d8%b2%d8%a7%d9%84%d9%8a/
LOCATION:Diwan City Centre\, Alexandria\, GA19 City Centre\, Alexandria Alexandria\, Egypt\, Alexandria\, Egypt
CATEGORIES:Adults
ATTACH;FMTTYPE=image/png:https://diwan.clue-digital.com/wp-content/uploads/2024/10/Website-thumbnail-2.png
ORGANIZER;CN="Diwan":MAILTO:info@diwanegypt.com
END:VEVENT
BEGIN:VEVENT
DTSTART;TZID=Africa/Cairo:20241106T193000
DTEND;TZID=Africa/Cairo:20241106T213000
DTSTAMP:20260425T161742
CREATED:20241104T104516Z
LAST-MODIFIED:20241104T104516Z
UID:112478-1730921400-1730928600@diwan.clue-digital.com
SUMMARY:CIF Jazz Talks
DESCRIPTION:The Balkans: Crossroads of Music\nZhivko Vasilev\nin conversation with\nAmmar Dajani\nWednesday 6 November\nDiwan Zamalek\n7.30pm\nTalk Language: English
URL:https://diwan.clue-digital.com/event/cif-jazz-talks/
LOCATION:Diwan Zamalek\, 159 26 July St\, Cairo\, Cairo\, 11568\, Egypt
CATEGORIES:Adults
ATTACH;FMTTYPE=image/png:https://diwan.clue-digital.com/wp-content/uploads/2024/11/Website-thumbnail-4.png
ORGANIZER;CN="Diwan":MAILTO:info@diwanegypt.com
END:VEVENT
BEGIN:VEVENT
DTSTART;TZID=Africa/Cairo:20241114T190000
DTEND;TZID=Africa/Cairo:20241114T210000
DTSTAMP:20260425T161742
CREATED:20241104T104132Z
LAST-MODIFIED:20241104T104158Z
UID:112472-1731610800-1731618000@diwan.clue-digital.com
SUMMARY:نادي كتاب طلال فيصل
DESCRIPTION:نادي كتاب طلال فيصل\nالخميس ١٤ نوفمبر، الساعة ٧ مساءً\nديوان الزمالك\nالنقاش مفتوح لكل من القراء باللغة العربية والإنجليزية. Talal Faisal Book Club\nThursday\, November 14th\, 7 PM\nDiwan Zamalek Discussion is open for both Arabic and English readers.
URL:https://diwan.clue-digital.com/event/%d9%86%d8%a7%d8%af%d9%8a-%d9%83%d8%aa%d8%a7%d8%a8-%d8%b7%d9%84%d8%a7%d9%84-%d9%81%d9%8a%d8%b5%d9%84/
LOCATION:Diwan Zamalek\, 159 26 July St\, Cairo\, Cairo\, 11568\, Egypt
CATEGORIES:Book Clubs
ATTACH;FMTTYPE=image/png:https://diwan.clue-digital.com/wp-content/uploads/2024/11/Website-Thumbnail-3.png
ORGANIZER;CN="Diwan":MAILTO:info@diwanegypt.com
END:VEVENT
BEGIN:VEVENT
DTSTART;TZID=Africa/Cairo:20241116T190000
DTEND;TZID=Africa/Cairo:20241116T210000
DTSTAMP:20260425T161742
CREATED:20241112T123623Z
LAST-MODIFIED:20241112T123623Z
UID:113104-1731783600-1731790800@diwan.clue-digital.com
SUMMARY:ديوان محفوظ 2
DESCRIPTION:ديوان محفوظ\nتقدمه هبة عبد العليم\nمصر القديمة في أدب نجيب محفوظ\nمع شريف شعبان\nالسبت ١٦ نوفمبر\nديوان مصر الجديدة\n٧ مساءً
URL:https://diwan.clue-digital.com/event/%d8%af%d9%8a%d9%88%d8%a7%d9%86-%d9%85%d8%ad%d9%81%d9%88%d8%b8-2/
LOCATION:Diwan Zamalek\, 159 26 July St\, Cairo\, Cairo\, 11568\, Egypt
CATEGORIES:Book Clubs
ATTACH;FMTTYPE=image/jpeg:https://diwan.clue-digital.com/wp-content/uploads/2024/11/Website-Thumbnail_Event-scaled.jpg
ORGANIZER;CN="Diwan":MAILTO:info@diwanegypt.com
END:VEVENT
BEGIN:VEVENT
DTSTART;TZID=Africa/Cairo:20241121T190000
DTEND;TZID=Africa/Cairo:20241121T210000
DTSTAMP:20260425T161742
CREATED:20241110T134349Z
LAST-MODIFIED:20241110T134531Z
UID:113111-1732215600-1732222800@diwan.clue-digital.com
SUMMARY:What is Narration? Part 4
DESCRIPTION:What is Narration: The history of a Space\,\na Conversation with Nadia Wassef\n21 November\, 2024\,\nDiwan Zamalek\, 7pm\,
URL:https://diwan.clue-digital.com/event/what-is-narration/
LOCATION:Diwan Zamalek\, 159 26 July St\, Cairo\, Cairo\, 11568\, Egypt
CATEGORIES:Adults
ATTACH;FMTTYPE=image/png:https://diwan.clue-digital.com/wp-content/uploads/2024/11/Website-Thumbnail-copy.png
ORGANIZER;CN="Diwan":MAILTO:info@diwanegypt.com
END:VEVENT
BEGIN:VEVENT
DTSTART;TZID=Africa/Cairo:20241125T190000
DTEND;TZID=Africa/Cairo:20241125T210000
DTSTAMP:20260425T161742
CREATED:20241118T121603Z
LAST-MODIFIED:20241118T121603Z
UID:113549-1732561200-1732568400@diwan.clue-digital.com
SUMMARY:حوار مفتوح عن الفن مع د. مراد درويش
DESCRIPTION:حوار مفتوح عن الفن\nمع د. مراد درويش مدرس بكلية الفنون الجميلة\nالأثنين ٢٥ نوفمبر\nديوان مصر الجديدة\n٧ مساءً
URL:https://diwan.clue-digital.com/event/%d8%ad%d9%88%d8%a7%d8%b1-%d9%85%d9%81%d8%aa%d9%88%d8%ad-%d8%b9%d9%86-%d8%a7%d9%84%d9%81%d9%86-%d9%85%d8%b9-%d8%af-%d9%85%d8%b1%d8%a7%d8%af-%d8%af%d8%b1%d9%88%d9%8a%d8%b4/
LOCATION:Diwan Heliopolis\, 105\, Abou Bakr El Seddiq St\, Heliopolis\, Cairo\, Egypt
CATEGORIES:Adults
ATTACH;FMTTYPE=image/png:https://diwan.clue-digital.com/wp-content/uploads/2024/11/Website-thumbnail-3-1.png
ORGANIZER;CN="Diwan":MAILTO:info@diwanegypt.com
END:VEVENT
BEGIN:VEVENT
DTSTART;TZID=Africa/Cairo:20241126T190000
DTEND;TZID=Africa/Cairo:20241126T210000
DTSTAMP:20260425T161742
CREATED:20241114T093339Z
LAST-MODIFIED:20241114T093339Z
UID:113337-1732647600-1732654800@diwan.clue-digital.com
SUMMARY:launching of the book on the artist Ahmed Farid
DESCRIPTION:launching of the book on the artist Ahmed Farid\nCurated by Professor Diego Faa\nTuesday 26 November\nEl Consoleya\, downtown\n7pm
URL:https://diwan.clue-digital.com/event/launching-of-the-book-on-the-artist-ahmed-farid/
LOCATION:Cairo
CATEGORIES:Adults
ATTACH;FMTTYPE=image/png:https://diwan.clue-digital.com/wp-content/uploads/2024/11/Website-Thumbnail-2.png
ORGANIZER;CN="Diwan":MAILTO:info@diwanegypt.com
END:VEVENT
END:VCALENDAR