BEGIN:VCALENDAR
VERSION:2.0
PRODID:-//Diwan - ECPv6.15.11//NONSGML v1.0//EN
CALSCALE:GREGORIAN
METHOD:PUBLISH
X-WR-CALNAME:Diwan
X-ORIGINAL-URL:https://diwan.clue-digital.com
X-WR-CALDESC:Events for Diwan
REFRESH-INTERVAL;VALUE=DURATION:PT1H
X-Robots-Tag:noindex
X-PUBLISHED-TTL:PT1H
BEGIN:VTIMEZONE
TZID:Africa/Cairo
BEGIN:DAYLIGHT
TZOFFSETFROM:+0200
TZOFFSETTO:+0300
TZNAME:EEST
DTSTART:20230427T220000
END:DAYLIGHT
BEGIN:STANDARD
TZOFFSETFROM:+0300
TZOFFSETTO:+0200
TZNAME:EET
DTSTART:20231026T210000
END:STANDARD
BEGIN:DAYLIGHT
TZOFFSETFROM:+0200
TZOFFSETTO:+0300
TZNAME:EEST
DTSTART:20240425T220000
END:DAYLIGHT
BEGIN:STANDARD
TZOFFSETFROM:+0300
TZOFFSETTO:+0200
TZNAME:EET
DTSTART:20241031T210000
END:STANDARD
BEGIN:DAYLIGHT
TZOFFSETFROM:+0200
TZOFFSETTO:+0300
TZNAME:EEST
DTSTART:20250424T220000
END:DAYLIGHT
BEGIN:STANDARD
TZOFFSETFROM:+0300
TZOFFSETTO:+0200
TZNAME:EET
DTSTART:20251030T210000
END:STANDARD
END:VTIMEZONE
BEGIN:VEVENT
DTSTART;TZID=Africa/Cairo:20240606T190000
DTEND;TZID=Africa/Cairo:20240606T210000
DTSTAMP:20260426T042948
CREATED:20240528T120558Z
LAST-MODIFIED:20240528T120558Z
UID:103474-1717700400-1717707600@diwan.clue-digital.com
SUMMARY:حفل توقيع ومناقشة كتاب 44 أصوان
DESCRIPTION:حفل توقيع ومناقشة كتاب 44 أصوان\nعائشة خليل عبد الكريم\nتدير اللقاء الصحفية يسرا الشرقاوي\nالخميس ٦ يونيو\nديوان سينما راديو\n٧ مساءً
URL:https://diwan.clue-digital.com/event/%d8%ad%d9%81%d9%84-%d8%aa%d9%88%d9%82%d9%8a%d8%b9-%d9%88%d9%85%d9%86%d8%a7%d9%82%d8%b4%d8%a9-%d9%83%d8%aa%d8%a7%d8%a8-44-%d8%a3%d8%b5%d9%88%d8%a7%d9%86/
LOCATION:Diwan Cinema Radio\, ٢٤ طلعت حرب\, قصر النيل\, القاهرة\, مصر\, Cairo\, Egypt
CATEGORIES:Adults
ATTACH;FMTTYPE=image/jpeg:https://diwan.clue-digital.com/wp-content/uploads/2024/05/Event_Website-1.jpg
END:VEVENT
BEGIN:VEVENT
DTSTART;TZID=Africa/Cairo:20240627T190000
DTEND;TZID=Africa/Cairo:20240627T210000
DTSTAMP:20260426T042948
CREATED:20240606T094623Z
LAST-MODIFIED:20240606T094623Z
UID:103703-1719514800-1719522000@diwan.clue-digital.com
SUMMARY:حفل توقيع ومناقشة كتاب الدنيا اللي في بالي
DESCRIPTION:حفل توقيع ومناقشة كتاب الدنيا اللي في بالي\nأميرة محمود يوسف\nيدير اللقاء أحمد جمال عز\nالخميس ٢٧ يونيو\nديوان سينما راديو\n٧ مساءً
URL:https://diwan.clue-digital.com/event/%d8%ad%d9%81%d9%84-%d8%aa%d9%88%d9%82%d9%8a%d8%b9-%d9%88%d9%85%d9%86%d8%a7%d9%82%d8%b4%d8%a9-%d9%83%d8%aa%d8%a7%d8%a8-%d8%a7%d9%84%d8%af%d9%86%d9%8a%d8%a7-%d8%a7%d9%84%d9%84%d9%8a-%d9%81%d9%8a-%d8%a8/
LOCATION:Diwan Cinema Radio\, ٢٤ طلعت حرب\, قصر النيل\, القاهرة\, مصر\, Cairo\, Egypt
CATEGORIES:Adults
ATTACH;FMTTYPE=image/jpeg:https://diwan.clue-digital.com/wp-content/uploads/2024/06/El-donia-el-fe-bali_Website.jpg
ORGANIZER;CN="Diwan":MAILTO:info@diwanegypt.com
END:VEVENT
BEGIN:VEVENT
DTSTART;TZID=Africa/Cairo:20240629T130000
DTEND;TZID=Africa/Cairo:20240629T150000
DTSTAMP:20260426T042948
CREATED:20240623T143346Z
LAST-MODIFIED:20240623T143346Z
UID:104086-1719666000-1719673200@diwan.clue-digital.com
SUMMARY:Book reading for "قالوا زمان"
DESCRIPTION:Date: 29.6.2024\nTime: 1 pm\nLocation: Diwan Heliopolis\nEvent: Book reading for\n“قالوا زمان”
URL:https://diwan.clue-digital.com/event/book-reading-for-%d9%82%d8%a7%d9%84%d9%88%d8%a7-%d8%b2%d9%85%d8%a7%d9%86/
LOCATION:Diwan Heliopolis\, 105\, Abou Bakr El Seddiq St\, Heliopolis\, Cairo\, Egypt
CATEGORIES:Children
ATTACH;FMTTYPE=image/jpeg:https://diwan.clue-digital.com/wp-content/uploads/2024/06/WhatsApp-Image-2024-06-23-at-5.04.53-PM.jpeg
ORGANIZER;CN="Diwan":MAILTO:info@diwanegypt.com
END:VEVENT
END:VCALENDAR