BEGIN:VCALENDAR
VERSION:2.0
PRODID:-//Diwan - ECPv6.15.11//NONSGML v1.0//EN
CALSCALE:GREGORIAN
METHOD:PUBLISH
X-WR-CALNAME:Diwan
X-ORIGINAL-URL:https://diwan.clue-digital.com
X-WR-CALDESC:Events for Diwan
REFRESH-INTERVAL;VALUE=DURATION:PT1H
X-Robots-Tag:noindex
X-PUBLISHED-TTL:PT1H
BEGIN:VTIMEZONE
TZID:Africa/Cairo
BEGIN:DAYLIGHT
TZOFFSETFROM:+0200
TZOFFSETTO:+0300
TZNAME:EEST
DTSTART:20230427T220000
END:DAYLIGHT
BEGIN:STANDARD
TZOFFSETFROM:+0300
TZOFFSETTO:+0200
TZNAME:EET
DTSTART:20231026T210000
END:STANDARD
END:VTIMEZONE
BEGIN:VEVENT
DTSTART;VALUE=DATE:20221209
DTEND;VALUE=DATE:20221211
DTSTAMP:20260425T183125
CREATED:20221127T194014Z
LAST-MODIFIED:20221127T194014Z
UID:74300-1670544000-1670716799@diwan.clue-digital.com
SUMMARY:بطولة شطرنج للهواه والمحترفين
DESCRIPTION:البطولة الثامنة للجميزة\nيوم 9 ديسمبر الجمعة هواه\nيوم 10 ديسمبر السبت محترفين\nفي ديوان مصر الجديدة من الساعة 6م \nالاشتراك للهواه 100\nالاشتراك للمحترفين 150\nجوايز مادية + ميدالية للمركزين الأول والثاني في كل مسابقة فيهم\nالدفع في ديوان أو في الجميزة أو تحويل اتصالات كاش على رقم 01146453322 \nبالتعاون مع الجميزة\nEl Gemeza Co-Working Space
URL:https://diwan.clue-digital.com/event/%d8%a8%d8%b7%d9%88%d9%84%d8%a9-%d8%b4%d8%b7%d8%b1%d9%86%d8%ac-%d9%84%d9%84%d9%87%d9%88%d8%a7%d9%87-%d9%88%d8%a7%d9%84%d9%85%d8%ad%d8%aa%d8%b1%d9%81%d9%8a%d9%86-3/
LOCATION:Diwan Heliopolis\, 105\, Abou Bakr El Seddiq St\, Heliopolis\, Cairo\, Egypt
ATTACH;FMTTYPE=image/jpeg:https://diwan.clue-digital.com/wp-content/uploads/2022/11/Thumbnail-2.jpg
ORGANIZER;CN="Diwan":MAILTO:info@diwanegypt.com
END:VEVENT
BEGIN:VEVENT
DTSTART;TZID=Africa/Cairo:20221205T190000
DTEND;TZID=Africa/Cairo:20221205T210000
DTSTAMP:20260425T183125
CREATED:20221126T134644Z
LAST-MODIFIED:20221126T170129Z
UID:73687-1670266800-1670274000@diwan.clue-digital.com
SUMMARY:Book Signing & Discussion with Stefania Auci
DESCRIPTION:حفل توقيع ومناقشة مع ستيفانيا أوشي\nيدير الحوار أ. شريف بكري\nالاثنين ٥ ديسمبر\nديوان سينما راديو\n٧ مساء
URL:https://diwan.clue-digital.com/event/book-signing-discussion-with-stefania-auci/
ATTACH;FMTTYPE=image/jpeg:https://diwan.clue-digital.com/wp-content/uploads/2022/11/Thumbnail.jpg
ORGANIZER;CN="Diwan":MAILTO:info@diwanegypt.com
END:VEVENT
BEGIN:VEVENT
DTSTART;TZID=Africa/Cairo:20221203T180000
DTEND;TZID=Africa/Cairo:20221203T200000
DTSTAMP:20260425T183125
CREATED:20221126T110846Z
LAST-MODIFIED:20221126T110846Z
UID:73683-1670090400-1670097600@diwan.clue-digital.com
SUMMARY:Book Signing with Ashraf Talaat
DESCRIPTION:Saturday 3 Dec\nDiwan\, Cinema Radio\n6pm \nAbout the event:\nWe’re happy to host a book signing event for Award-winning photographer Ashraf Talaat on Saturday\, December 3rd in Diwan Cinema Radio. Come meet the photographer\, grab your copy of Moments in Our Life\, and enjoy the evening with us. \nAbout the photographer:\nAshraf Talaat studied “Genetics” before starting his career as a photographer in 1989\, after attending a workshop with Magnum photographers Abbas.\nHe has traveled to over 103 countries for his photographic projects about human interest and living heritage.\nHis work has been exhibited worldwide and part of his photographs have been collected in 4 books\, Vision\, People through The lens\, point of view\, and Moments In Our Life.\nHe worked as a documentary and storyteller photographer for several years with different magazines including\, Business\, Egypt Today\, Le Revue\, Travel Today\, Carnival\, and National Geographic Arabia.
URL:https://diwan.clue-digital.com/event/book-signing-with-ashraf-talaat/
ATTACH;FMTTYPE=image/jpeg:https://diwan.clue-digital.com/wp-content/uploads/2022/11/Website-Thumbnail-1.jpg
ORGANIZER;CN="Diwan":MAILTO:info@diwanegypt.com
END:VEVENT
BEGIN:VEVENT
DTSTART;TZID=Africa/Cairo:20221128T180000
DTEND;TZID=Africa/Cairo:20221128T220000
DTSTAMP:20260425T183125
CREATED:20221123T145455Z
LAST-MODIFIED:20221123T145455Z
UID:73477-1669658400-1669672800@diwan.clue-digital.com
SUMMARY:In The Eye of the Beholder Exhibition
DESCRIPTION:Monday 28 Nov\nDiwan\, Cinema Radio\n6pm \nAbout the event:\nDiwan Cinema Radio branch is happy to announce the opening of “In The Eye of the Beholder” exhibition by Shereen Ragab. Join us this Monday at 6pm at our newest branch in Downtown Cairo to explore Shereen’s captivating artwork. \nAbout the author:\nI’ve had a passion towards painting since I was four\, my mom helped me in developing my artistic skills. I believe that any kind of art isn’t about acquiring the best drawing and painting skills\, it’s all about feelings and sensations. This is the only thing that makes an artist unique\, that’s why I decided to follow my feelings in everything I do. \nI started to paint and follow the steps of great artists in Egypt like Khalid Ragab and Mohamed Elazhary. They helped me to understand many things about art\, I painted hyper realism style\, impressionism\, and tried different styles of painting. I’m in love with oil paints\, I feel it takes me to a wonderland. I also took online private art courses with Netherland-based artist Mahmoud Badarni\, who taught me abstract art. Finally\, I discovered and reached my own painting style.
URL:https://diwan.clue-digital.com/event/in-the-eye-of-the-beholder-exhibition/
ATTACH;FMTTYPE=image/jpeg:https://diwan.clue-digital.com/wp-content/uploads/2022/11/Website-Thumbnail.jpg
ORGANIZER;CN="Diwan":MAILTO:info@diwanegypt.com
END:VEVENT
BEGIN:VEVENT
DTSTART;TZID=Africa/Cairo:20221126T120000
DTEND;TZID=Africa/Cairo:20221126T140000
DTSTAMP:20260425T183125
CREATED:20221122T165056Z
LAST-MODIFIED:20221122T165056Z
UID:73462-1669464000-1669471200@diwan.clue-digital.com
SUMMARY:Opening of Glass Bowls Exhibition by Aziza Abou Zeid at Diwan\, Heliopolis Branch
DESCRIPTION:Join us this Saturday\, November 26th at 12 pm for the opening of the glass bowls exhibition by Aziza Abou Zeid with guest artist Khalil Aboelalla. Glass sculpting has been a journey of love for Aziza Abou Zeid and she can’t wait to share her work with you.
URL:https://diwan.clue-digital.com/event/opening-of-glass-bowls-exhibition-by-aziza-abou-zeid-at-diwan-heliopolis-branch/
LOCATION:Diwan Heliopolis\, 105\, Abou Bakr El Seddiq St\, Heliopolis\, Cairo\, Egypt
ATTACH;FMTTYPE=image/jpeg:https://diwan.clue-digital.com/wp-content/uploads/2022/11/Event-Cover.jpg
ORGANIZER;CN="Diwan":MAILTO:info@diwanegypt.com
END:VEVENT
BEGIN:VEVENT
DTSTART;VALUE=DATE:20221125
DTEND;VALUE=DATE:20221126
DTSTAMP:20260425T183125
CREATED:20221020T085406Z
LAST-MODIFIED:20221020T085406Z
UID:71874-1669334400-1669420799@diwan.clue-digital.com
SUMMARY:Creative Doll Making Workshop - Zamalek
DESCRIPTION:
URL:https://diwan.clue-digital.com/event/creative-doll-making-workshop-zamalek/
LOCATION:Diwan Zamalek\, 159 26 July St\, Cairo\, Cairo\, 11568\, Egypt
ATTACH;FMTTYPE=image/png:https://diwan.clue-digital.com/wp-content/uploads/2022/10/Web-Thumb-06.png
ORGANIZER;CN="Diwan":MAILTO:info@diwanegypt.com
END:VEVENT
BEGIN:VEVENT
DTSTART;VALUE=DATE:20221106
DTEND;VALUE=DATE:20221118
DTSTAMP:20260425T183125
CREATED:20221028T180251Z
LAST-MODIFIED:20221028T180251Z
UID:72056-1667692800-1668729599@diwan.clue-digital.com
SUMMARY:Thyself In Abstract Art workshop by Mirette Saleheen
DESCRIPTION:Thyself In Abstract Art Workshop\nWith Mirette Saleheen\n6 Classes + An Exhibition\nAt Diwan Heliopolis
URL:https://diwan.clue-digital.com/event/thyself-in-abstract-art-workshop-by-mirette-saleheen/
LOCATION:Diwan Heliopolis\, 105\, Abou Bakr El Seddiq St\, Heliopolis\, Cairo\, Egypt
ATTACH;FMTTYPE=image/png:https://diwan.clue-digital.com/wp-content/uploads/2022/10/Thyself-Workshop_Web-Cover.png
ORGANIZER;CN="Diwan":MAILTO:info@diwanegypt.com
END:VEVENT
BEGIN:VEVENT
DTSTART;VALUE=DATE:20221105
DTEND;VALUE=DATE:20221106
DTSTAMP:20260425T183125
CREATED:20221020T085311Z
LAST-MODIFIED:20221020T085311Z
UID:71871-1667606400-1667692799@diwan.clue-digital.com
SUMMARY:Creative Doll Making Workshop - Heliopolis
DESCRIPTION:
URL:https://diwan.clue-digital.com/event/creative-doll-making-workshop-heliopolis/
LOCATION:Diwan Heliopolis\, 105\, Abou Bakr El Seddiq St\, Heliopolis\, Cairo\, Egypt
ATTACH;FMTTYPE=image/png:https://diwan.clue-digital.com/wp-content/uploads/2022/10/Web-Thumb-05.png
ORGANIZER;CN="Diwan":MAILTO:info@diwanegypt.com
END:VEVENT
BEGIN:VEVENT
DTSTART;VALUE=DATE:20221029
DTEND;VALUE=DATE:20221030
DTSTAMP:20260425T183125
CREATED:20221020T084409Z
LAST-MODIFIED:20221020T084409Z
UID:71868-1667001600-1667087999@diwan.clue-digital.com
SUMMARY:Creative Doll Making Workshop - Maadi
DESCRIPTION:
URL:https://diwan.clue-digital.com/event/creative-doll-making-workshop-maadi/
LOCATION:Diwan Maadi\, 1\, Rd. 254 (Off Rd. 213)\, Degla\, Maadi\, Cairo\, Egypt
CATEGORIES:Children
ATTACH;FMTTYPE=image/png:https://diwan.clue-digital.com/wp-content/uploads/2022/10/Web-Thumb-04.png
ORGANIZER;CN="Diwan":MAILTO:info@diwanegypt.com
END:VEVENT
BEGIN:VEVENT
DTSTART;TZID=Africa/Cairo:20221027T190000
DTEND;TZID=Africa/Cairo:20221027T203000
DTSTAMP:20260425T183125
CREATED:20221024T063211Z
LAST-MODIFIED:20221024T063211Z
UID:71960-1666897200-1666902600@diwan.clue-digital.com
SUMMARY:حفل توقيع الياقوت
DESCRIPTION:ندعوكم لحضور حفل توقيع كتاب الياقوت
URL:https://diwan.clue-digital.com/event/%d8%ad%d9%81%d9%84-%d8%aa%d9%88%d9%82%d9%8a%d8%b9-%d8%a7%d9%84%d9%8a%d8%a7%d9%82%d9%88%d8%aa/
LOCATION:Diwan Heliopolis\, 105\, Abou Bakr El Seddiq St\, Heliopolis\, Cairo\, Egypt
ATTACH;FMTTYPE=image/jpeg:https://diwan.clue-digital.com/wp-content/uploads/2022/10/Thumbnail.jpg
ORGANIZER;CN="Diwan":MAILTO:info@diwanegypt.com
END:VEVENT
BEGIN:VEVENT
DTSTART;TZID=Africa/Cairo:20221015T190000
DTEND;TZID=Africa/Cairo:20221015T203000
DTSTAMP:20260425T183125
CREATED:20220920T073051Z
LAST-MODIFIED:20220920T073051Z
UID:70959-1665860400-1665865800@diwan.clue-digital.com
SUMMARY:ICF Reading Community - Unlock Your Potentials
DESCRIPTION:Find a like-minded group who all want to discuss this important book with a certified ICF coach.\nJoin us on Saturday 15th of OCT\, with ICF Book Club to discuss the International Bestseller Book ‘Thinking Fast and Slow’ التفكير السريع والبطيء
URL:https://diwan.clue-digital.com/event/icf-reading-community-unlock-your-potentials/
LOCATION:Diwan Heliopolis\, 105\, Abou Bakr El Seddiq St\, Heliopolis\, Cairo\, Egypt
ATTACH;FMTTYPE=image/jpeg:https://diwan.clue-digital.com/wp-content/uploads/2022/09/Website-2.jpg
ORGANIZER;CN="Diwan":MAILTO:info@diwanegypt.com
END:VEVENT
BEGIN:VEVENT
DTSTART;TZID=Africa/Cairo:20220923T180000
DTEND;TZID=Africa/Cairo:20220923T193000
DTSTAMP:20260425T183125
CREATED:20220920T071539Z
LAST-MODIFIED:20220920T071539Z
UID:70956-1663956000-1663961400@diwan.clue-digital.com
SUMMARY:حفل توقيع كتاب تنذكر ما تنعاد مع الكاتبة ميرنا الهلباوي
DESCRIPTION:ندعوكم لحضورحفل توقيع كتاب\nتنذكر ما تنعاد\nمع الكاتبة ميرنا الهلباوي \nالجمعة 23 سبتمبر\nالساعة 6 مساءً\nديوان مصر الجديدة
URL:https://diwan.clue-digital.com/event/%d8%ad%d9%81%d9%84-%d8%aa%d9%88%d9%82%d9%8a%d8%b9-%d9%83%d8%aa%d8%a7%d8%a8-%d8%aa%d9%86%d8%b0%d9%83%d8%b1-%d9%85%d8%a7-%d8%aa%d9%86%d8%b9%d8%a7%d8%af-%d9%85%d8%b9-%d8%a7%d9%84%d9%83%d8%a7%d8%aa%d8%a8/
LOCATION:Diwan Heliopolis\, 105\, Abou Bakr El Seddiq St\, Heliopolis\, Cairo\, Egypt
ATTACH;FMTTYPE=image/jpeg:https://diwan.clue-digital.com/wp-content/uploads/2022/09/Website-Thumbnail-1.jpg
ORGANIZER;CN="Diwan":MAILTO:info@diwanegypt.com
END:VEVENT
BEGIN:VEVENT
DTSTART;VALUE=DATE:20220923
DTEND;VALUE=DATE:20220925
DTSTAMP:20260425T183125
CREATED:20220911T100907Z
LAST-MODIFIED:20220914T115558Z
UID:70609-1663891200-1664063999@diwan.clue-digital.com
SUMMARY:بطولة شطرنج للهواه والمحترفين
DESCRIPTION:Amateur يوم 23 جمعة هواه\nProfessional يوم 24 سبت محترفين\nفي ديوان مصر الجديدة من الساعة 6م \nبالتعاون مع الجميزة\nEl Gemeza Co-Working Space \nالاشتراك للهواه 100\nالاشتراك للمحترفين 150\nالدفع في ديوان أو في الجميزة أو تحويل اتصالات كاش على رقم 01146453322\nجوايز مادية + ميدالية للمركزين الأول والثاني في كل مسابقة فيهم
URL:https://diwan.clue-digital.com/event/%d8%a8%d8%b7%d9%88%d9%84%d8%a9-%d8%b4%d8%b7%d8%b1%d9%86%d8%ac-%d9%84%d9%84%d9%87%d9%88%d8%a7%d9%87-%d9%88%d8%a7%d9%84%d9%85%d8%ad%d8%aa%d8%b1%d9%81%d9%8a%d9%86-2/
LOCATION:Diwan Heliopolis\, 105\, Abou Bakr El Seddiq St\, Heliopolis\, Cairo\, Egypt
ATTACH;FMTTYPE=image/jpeg:https://diwan.clue-digital.com/wp-content/uploads/2022/09/Website-Thumbnail.jpg
ORGANIZER;CN="Diwan":MAILTO:info@diwanegypt.com
END:VEVENT
BEGIN:VEVENT
DTSTART;TZID=Africa/Cairo:20220917T100000
DTEND;TZID=Africa/Cairo:20220917T133000
DTSTAMP:20260425T183125
CREATED:20220901T095350Z
LAST-MODIFIED:20220903T120134Z
UID:70091-1663408800-1663421400@diwan.clue-digital.com
SUMMARY:Creative Doll Making Workshop
DESCRIPTION:Creative Doll Making Workshop\nSaturday 17/9\nDiwan Heliopolis \nMeshmesh Cat Pillow Making\n(3 – 6 Years Old)\n10:00 – 11:30 am\nBook a seat here! \nLoza DIY Doll Making\n(7 – 9 Years Old)\n12:00 – 1:30 pm\nBook a seat here! \nBook your spot in advance\, limited number per workshop.
URL:https://diwan.clue-digital.com/event/creative-doll-making-workshop/
LOCATION:Diwan Heliopolis\, 105\, Abou Bakr El Seddiq St\, Heliopolis\, Cairo\, Egypt
CATEGORIES:Children
ATTACH;FMTTYPE=image/png:https://diwan.clue-digital.com/wp-content/uploads/2022/09/Web-Thumb-08.png
ORGANIZER;CN="Diwan":MAILTO:info@diwanegypt.com
END:VEVENT
BEGIN:VEVENT
DTSTART;TZID=Africa/Cairo:20220916T190000
DTEND;TZID=Africa/Cairo:20220916T203000
DTSTAMP:20260425T183125
CREATED:20220904T143641Z
LAST-MODIFIED:20220904T143641Z
UID:70301-1663354800-1663360200@diwan.clue-digital.com
SUMMARY:مناقشة كتاب أسطورة السكير المقدس ومصير ناظر المحطة
DESCRIPTION:مناقشة كتاب أسطورة السكير المقدس ومصير ناظر المحطة مع نادي كتاب أدب 360 وحضور المترجم حسن الحديدي
URL:https://diwan.clue-digital.com/event/%d9%85%d9%86%d8%a7%d9%82%d8%b4%d8%a9-%d9%83%d8%aa%d8%a7%d8%a8-%d8%a3%d8%b3%d8%b7%d9%88%d8%b1%d8%a9-%d8%a7%d9%84%d8%b3%d9%83%d9%8a%d8%b1-%d8%a7%d9%84%d9%85%d9%82%d8%af%d8%b3-%d9%88%d9%85%d8%b5%d9%8a/
LOCATION:Diwan Heliopolis\, 105\, Abou Bakr El Seddiq St\, Heliopolis\, Cairo\, Egypt
ATTACH;FMTTYPE=image/jpeg:https://diwan.clue-digital.com/wp-content/uploads/2022/09/Thumbnail.jpg
ORGANIZER;CN="Diwan":MAILTO:info@diwanegypt.com
END:VEVENT
BEGIN:VEVENT
DTSTART;TZID=Africa/Cairo:20220727T190000
DTEND;TZID=Africa/Cairo:20220727T203000
DTSTAMP:20260425T183125
CREATED:20220723T045014Z
LAST-MODIFIED:20220723T045014Z
UID:67686-1658948400-1658953800@diwan.clue-digital.com
SUMMARY:حفل توقيع رواية فيكتوريا مع كارولين كامل
DESCRIPTION:
URL:https://diwan.clue-digital.com/event/%d8%ad%d9%81%d9%84-%d8%aa%d9%88%d9%82%d9%8a%d8%b9-%d8%b1%d9%88%d8%a7%d9%8a%d8%a9-%d9%81%d9%8a%d9%83%d8%aa%d9%88%d8%b1%d9%8a%d8%a7-%d9%85%d8%b9-%d9%83%d8%a7%d8%b1%d9%88%d9%84%d9%8a%d9%86-%d9%83%d8%a7/
LOCATION:Diwan Heliopolis\, 105\, Abou Bakr El Seddiq St\, Heliopolis\, Cairo\, Egypt
ATTACH;FMTTYPE=image/jpeg:https://diwan.clue-digital.com/wp-content/uploads/2022/07/Website-Thumbnail.jpg
ORGANIZER;CN="Diwan":MAILTO:info@diwanegypt.com
END:VEVENT
BEGIN:VEVENT
DTSTART;TZID=Africa/Cairo:20220722T190000
DTEND;TZID=Africa/Cairo:20220722T203000
DTSTAMP:20260425T183125
CREATED:20220712T203250Z
LAST-MODIFIED:20220712T203250Z
UID:66780-1658516400-1658521800@diwan.clue-digital.com
SUMMARY:مناقشة رواية أقفاص فارغة بالتعاون مع نادي كتاب أدب 360 وحضور الكاتبة فاطمة قنديل
DESCRIPTION:ندعوكم لحضور مناقشة رواية\nأقفاص فارغة\nبالتعاون مع نادي كتاب أدب 360\nوحضور الكاتبة فاطمة قنديل \nالجمعة 22 يوليو\nالساعة 7 مساءً\nديوان مصر الجديدة
URL:https://diwan.clue-digital.com/event/%d9%85%d9%86%d8%a7%d9%82%d8%b4%d8%a9-%d8%b1%d9%88%d8%a7%d9%8a%d8%a9-%d8%a3%d9%82%d9%81%d8%a7%d8%b5-%d9%81%d8%a7%d8%b1%d8%ba%d8%a9-%d8%a8%d8%a7%d9%84%d8%aa%d8%b9%d8%a7%d9%88%d9%86-%d9%85%d8%b9-%d9%86/
LOCATION:Diwan Heliopolis\, 105\, Abou Bakr El Seddiq St\, Heliopolis\, Cairo\, Egypt
ATTACH;FMTTYPE=image/png:https://diwan.clue-digital.com/wp-content/uploads/2022/07/Thumbnail.png
ORGANIZER;CN="Diwan":MAILTO:info@diwanegypt.com
END:VEVENT
BEGIN:VEVENT
DTSTART;TZID=Africa/Cairo:20220720T190000
DTEND;TZID=Africa/Cairo:20220720T203000
DTSTAMP:20260425T183125
CREATED:20220712T203716Z
LAST-MODIFIED:20220712T203716Z
UID:66783-1658343600-1658349000@diwan.clue-digital.com
SUMMARY:حفل توقيع شبيك لبيك مع الكاتبة والفنانة المبدعة دينا محمد يحيى
DESCRIPTION:
URL:https://diwan.clue-digital.com/event/%d8%ad%d9%81%d9%84-%d8%aa%d9%88%d9%82%d9%8a%d8%b9-%d8%b4%d8%a8%d9%8a%d9%83-%d9%84%d8%a8%d9%8a%d9%83-%d9%85%d8%b9-%d8%a7%d9%84%d9%83%d8%a7%d8%aa%d8%a8%d8%a9-%d9%88%d8%a7%d9%84%d9%81%d9%86%d8%a7%d9%86/
LOCATION:Diwan Heliopolis\, 105\, Abou Bakr El Seddiq St\, Heliopolis\, Cairo\, Egypt
ATTACH;FMTTYPE=image/jpeg:https://diwan.clue-digital.com/wp-content/uploads/2022/07/Website-Thumb-scaled.jpg
ORGANIZER;CN="Diwan":MAILTO:info@diwanegypt.com
END:VEVENT
BEGIN:VEVENT
DTSTART;VALUE=DATE:20220715
DTEND;VALUE=DATE:20220717
DTSTAMP:20260425T183125
CREATED:20220706T191735Z
LAST-MODIFIED:20220706T191911Z
UID:66407-1657843200-1658015999@diwan.clue-digital.com
SUMMARY:بطولة شطرنج للهواه والمحترفين
DESCRIPTION:بطولة شطرنج للهواة والمحترفين \n\n\nلو بتحب الشطرنج ونفسك تنافس ناس حريفة. سجل دلوقتي في بطولة الشطرنج مع الجميزة وديوان \n\n\nالمكان: ديوان مصر الجديدة\nيوم الجمعة 15/7 للهواة\nيوم السبت 16/7 للمحترفين\nالساعة 6 مساءً\n\n\nبالتعاون مع الجميزة\n@elgemezaspace\nhttps://www.facebook.com/elgemezaspace\n\n\nالاشتراك للهواة 100 جنيه\nالاشتراك للمحترفين 150 جنيه\n\n\nجوايز للمركزين الأول والثاني في كل مسابقة فيهم \n\n\nكيفية الحجز:\nالدفع مسبقاً لتأكيد الحجز وتسجيل إسمك ورقم الموبايل والبطولة اللي حابب تشارك فيها (هواة / محترفين) في ديوان مصر الجديدة أو في الجميزة أو عن طريق اتصالات كاش على رقم 0114645332
URL:https://diwan.clue-digital.com/event/%d8%a8%d8%b7%d9%88%d9%84%d8%a9-%d8%b4%d8%b7%d8%b1%d9%86%d8%ac-%d9%84%d9%84%d9%87%d9%88%d8%a7%d9%87-%d9%88%d8%a7%d9%84%d9%85%d8%ad%d8%aa%d8%b1%d9%81%d9%8a%d9%86/
LOCATION:Diwan Heliopolis\, 105\, Abou Bakr El Seddiq St\, Heliopolis\, Cairo\, Egypt
ATTACH;FMTTYPE=image/jpeg:https://diwan.clue-digital.com/wp-content/uploads/2022/07/Thumbnail-scaled.jpg
ORGANIZER;CN="Diwan":MAILTO:info@diwanegypt.com
END:VEVENT
BEGIN:VEVENT
DTSTART;TZID=Africa/Cairo:20220701T190000
DTEND;TZID=Africa/Cairo:20220701T203000
DTSTAMP:20260425T183125
CREATED:20220624T170751Z
LAST-MODIFIED:20220624T170751Z
UID:65383-1656702000-1656707400@diwan.clue-digital.com
SUMMARY:مناقشة ممتعة مع هبة المنسي وحفل توقيع كتابها سبرتاية قهوة
DESCRIPTION:
URL:https://diwan.clue-digital.com/event/%d9%85%d9%86%d8%a7%d9%82%d8%b4%d8%a9-%d9%85%d9%85%d8%aa%d8%b9%d8%a9-%d9%85%d8%b9-%d9%87%d8%a8%d8%a9-%d8%a7%d9%84%d9%85%d9%86%d8%b3%d9%8a-%d9%88%d8%ad%d9%81%d9%84-%d8%aa%d9%88%d9%82%d9%8a%d8%b9-%d9%83/
LOCATION:Diwan Heliopolis\, 105\, Abou Bakr El Seddiq St\, Heliopolis\, Cairo\, Egypt
ATTACH;FMTTYPE=image/jpeg:https://diwan.clue-digital.com/wp-content/uploads/2022/06/Website-Thumbnail-1.jpg
ORGANIZER;CN="Diwan":MAILTO:info@diwanegypt.com
END:VEVENT
BEGIN:VEVENT
DTSTART;TZID=Africa/Cairo:20220613T190000
DTEND;TZID=Africa/Cairo:20220613T203000
DTSTAMP:20260425T183125
CREATED:20220605T163522Z
LAST-MODIFIED:20220605T163522Z
UID:63765-1655146800-1655152200@diwan.clue-digital.com
SUMMARY:حفل توقيع "اللبان السحري" مع ريم جميل
DESCRIPTION:
URL:https://diwan.clue-digital.com/event/%d8%ad%d9%81%d9%84-%d8%aa%d9%88%d9%82%d9%8a%d8%b9-%d8%a7%d9%84%d9%84%d8%a8%d8%a7%d9%86-%d8%a7%d9%84%d8%b3%d8%ad%d8%b1%d9%8a-%d9%85%d8%b9-%d8%b1%d9%8a%d9%85-%d8%ac%d9%85%d9%8a%d9%84/
LOCATION:Diwan Maadi\, 1\, Rd. 254 (Off Rd. 213)\, Degla\, Maadi\, Cairo\, Egypt
ATTACH;FMTTYPE=image/png:https://diwan.clue-digital.com/wp-content/uploads/2022/06/leban-el-s7ry-web-thumbnail-01.png
ORGANIZER;CN="Diwan":MAILTO:info@diwanegypt.com
END:VEVENT
BEGIN:VEVENT
DTSTART;TZID=Africa/Cairo:20220611T190000
DTEND;TZID=Africa/Cairo:20220611T203000
DTSTAMP:20260425T183125
CREATED:20220604T093407Z
LAST-MODIFIED:20220604T093407Z
UID:63691-1654974000-1654979400@diwan.clue-digital.com
SUMMARY:حفل توقيع كتاب حيطان ورق مع الكاتب أرسان منير
DESCRIPTION:
URL:https://diwan.clue-digital.com/event/%d8%ad%d9%81%d9%84-%d8%aa%d9%88%d9%82%d9%8a%d8%b9-%d9%83%d8%aa%d8%a7%d8%a8-%d8%ad%d9%8a%d8%b7%d8%a7%d9%86-%d9%88%d8%b1%d9%82-%d9%85%d8%b9-%d8%a7%d9%84%d9%83%d8%a7%d8%aa%d8%a8-%d8%a3%d8%b1%d8%b3%d8%a7/
LOCATION:Diwan Heliopolis\, 105\, Abou Bakr El Seddiq St\, Heliopolis\, Cairo\, Egypt
ATTACH;FMTTYPE=image/jpeg:https://diwan.clue-digital.com/wp-content/uploads/2022/06/Website-Thumbnail.jpg
ORGANIZER;CN="Diwan":MAILTO:info@diwanegypt.com
END:VEVENT
BEGIN:VEVENT
DTSTART;TZID=Africa/Cairo:20220528T180000
DTEND;TZID=Africa/Cairo:20220528T200000
DTSTAMP:20260425T183125
CREATED:20220516T112902Z
LAST-MODIFIED:20220516T112902Z
UID:63270-1653760800-1653768000@diwan.clue-digital.com
SUMMARY:حفل توقيع ومناقشة مع الكاتبة رولا خرسا
DESCRIPTION:
URL:https://diwan.clue-digital.com/event/%d8%ad%d9%81%d9%84-%d8%aa%d9%88%d9%82%d9%8a%d8%b9-%d9%88%d9%85%d9%86%d8%a7%d9%82%d8%b4%d8%a9-%d9%85%d8%b9-%d8%a7%d9%84%d9%83%d8%a7%d8%aa%d8%a8%d8%a9-%d8%b1%d9%88%d9%84%d8%a7-%d8%ae%d8%b1%d8%b3%d8%a7/
LOCATION:Diwan Heliopolis\, 105\, Abou Bakr El Seddiq St\, Heliopolis\, Cairo\, Egypt
ATTACH;FMTTYPE=image/jpeg:https://diwan.clue-digital.com/wp-content/uploads/2022/05/Website-Thumbnail-1-1.jpg
ORGANIZER;CN="Diwan":MAILTO:info@diwanegypt.com
END:VEVENT
BEGIN:VEVENT
DTSTART;TZID=Africa/Cairo:20220523T180000
DTEND;TZID=Africa/Cairo:20220523T193000
DTSTAMP:20260425T183125
CREATED:20220516T111813Z
LAST-MODIFIED:20220516T111813Z
UID:63261-1653328800-1653334200@diwan.clue-digital.com
SUMMARY:Sinai People Faces of Time book discussion and signing with Katherin Sombold
DESCRIPTION:Book discussion and signing with Katherin Sombold. Seize the Chance to Discover Sinai People Faces of Time
URL:https://diwan.clue-digital.com/event/sinai-people-faces-of-time-book-discussion-and-signing-with-katherin-sombold/
LOCATION:Diwan Maadi\, 1\, Rd. 254 (Off Rd. 213)\, Degla\, Maadi\, Cairo\, Egypt
ATTACH;FMTTYPE=image/jpeg:https://diwan.clue-digital.com/wp-content/uploads/2022/05/Website-Thumbnail-1.jpg
ORGANIZER;CN="Diwan":MAILTO:info@diwanegypt.com
END:VEVENT
BEGIN:VEVENT
DTSTART;VALUE=DATE:20220521
DTEND;VALUE=DATE:20220523
DTSTAMP:20260425T183125
CREATED:20220516T112333Z
LAST-MODIFIED:20220516T112441Z
UID:63266-1653091200-1653263999@diwan.clue-digital.com
SUMMARY:خبرات عملية وفنية لكتابة السيناريو مع الكاتب محمود عزت
DESCRIPTION:
URL:https://diwan.clue-digital.com/event/%d8%ae%d8%a8%d8%b1%d8%a7%d8%aa-%d8%b9%d9%85%d9%84%d9%8a%d8%a9-%d9%88%d9%81%d9%86%d9%8a%d8%a9-%d9%84%d9%83%d8%aa%d8%a7%d8%a8%d8%a9-%d8%a7%d9%84%d8%b3%d9%8a%d9%86%d8%a7%d8%b1%d9%8a%d9%88-%d9%85%d8%b9/
ATTACH;FMTTYPE=image/jpeg:https://diwan.clue-digital.com/wp-content/uploads/2022/05/Website-Thumbnail-2.jpg
ORGANIZER;CN="Diwan":MAILTO:info@diwanegypt.com
END:VEVENT
BEGIN:VEVENT
DTSTART;TZID=Africa/Cairo:20220519T193000
DTEND;TZID=Africa/Cairo:20220519T220000
DTSTAMP:20260425T183125
CREATED:20220516T110903Z
LAST-MODIFIED:20220516T110903Z
UID:63255-1652988600-1652997600@diwan.clue-digital.com
SUMMARY:Coaching Sessions & One to One Coaching
DESCRIPTION:Thursday 19/5 and Sat 21/5 at Diwan Heliopolis
URL:https://diwan.clue-digital.com/event/coaching-sessions-one-to-one-coaching/
LOCATION:Diwan Heliopolis\, 105\, Abou Bakr El Seddiq St\, Heliopolis\, Cairo\, Egypt
ATTACH;FMTTYPE=image/jpeg:https://diwan.clue-digital.com/wp-content/uploads/2022/05/Website-Thumbnail.jpg
ORGANIZER;CN="Diwan":MAILTO:info@diwanegypt.com
END:VEVENT
BEGIN:VEVENT
DTSTART;TZID=Africa/Cairo:20220429T150000
DTEND;TZID=Africa/Cairo:20220429T170000
DTSTAMP:20260425T183126
CREATED:20220425T130434Z
LAST-MODIFIED:20220425T130506Z
UID:62405-1651244400-1651251600@diwan.clue-digital.com
SUMMARY:Blossoming Kindness Book Reading & Ramadan Food Packaging With Yasmine Hammad
DESCRIPTION:
URL:https://diwan.clue-digital.com/event/blossoming-kindness-book-reading-ramadan-food-packaging/
LOCATION:Diwan Maadi\, 1\, Rd. 254 (Off Rd. 213)\, Degla\, Maadi\, Cairo\, Egypt
CATEGORIES:Adults,Children
ATTACH;FMTTYPE=image/png:https://diwan.clue-digital.com/wp-content/uploads/2022/04/Blossoming-Kindness_Web-Thumbnail.png
ORGANIZER;CN="Diwan":MAILTO:info@diwanegypt.com
END:VEVENT
BEGIN:VEVENT
DTSTART;TZID=Africa/Cairo:20220426T210000
DTEND;TZID=Africa/Cairo:20220426T220000
DTSTAMP:20260425T183126
CREATED:20220425T131326Z
LAST-MODIFIED:20220425T131326Z
UID:62412-1651006800-1651010400@diwan.clue-digital.com
SUMMARY:حفل توقيع كتابي نهى محي الدين مع أناشيد صوفية
DESCRIPTION:
URL:https://diwan.clue-digital.com/event/%d8%ad%d9%81%d9%84-%d8%aa%d9%88%d9%82%d9%8a%d8%b9-%d9%83%d8%aa%d8%a7%d8%a8%d9%8a-%d9%86%d9%87%d9%89-%d9%85%d8%ad%d9%8a-%d8%a7%d9%84%d8%af%d9%8a%d9%86-%d9%85%d8%b9-%d8%a3%d9%86%d8%a7%d8%b4%d9%8a%d8%af/
LOCATION:Diwan Maadi\, 1\, Rd. 254 (Off Rd. 213)\, Degla\, Maadi\, Cairo\, Egypt
ATTACH;FMTTYPE=image/jpeg:https://diwan.clue-digital.com/wp-content/uploads/2022/04/Website-Small-Banner-scaled.jpg
ORGANIZER;CN="Diwan":MAILTO:info@diwanegypt.com
END:VEVENT
BEGIN:VEVENT
DTSTART;TZID=Africa/Cairo:20220331T180000
DTEND;TZID=Africa/Cairo:20220331T193000
DTSTAMP:20260425T183126
CREATED:20220327T113752Z
LAST-MODIFIED:20220327T113752Z
UID:59063-1648749600-1648755000@diwan.clue-digital.com
SUMMARY:حفل توقيع ومناقشة على هذه الأرض ما يستحق الحياة
DESCRIPTION:
URL:https://diwan.clue-digital.com/event/%d8%ad%d9%81%d9%84-%d8%aa%d9%88%d9%82%d9%8a%d8%b9-%d9%88%d9%85%d9%86%d8%a7%d9%82%d8%b4%d8%a9-%d8%b9%d9%84%d9%89-%d9%87%d8%b0%d9%87-%d8%a7%d9%84%d8%a3%d8%b1%d8%b6-%d9%85%d8%a7-%d9%8a%d8%b3%d8%aa%d8%ad/
LOCATION:Diwan Heliopolis\, 105\, Abou Bakr El Seddiq St\, Heliopolis\, Cairo\, Egypt
ATTACH;FMTTYPE=image/jpeg:https://diwan.clue-digital.com/wp-content/uploads/2022/03/Website-Thumbnail-1.jpg
ORGANIZER;CN="Diwan":MAILTO:info@diwanegypt.com
END:VEVENT
BEGIN:VEVENT
DTSTART;TZID=Africa/Cairo:20220326T180000
DTEND;TZID=Africa/Cairo:20220326T200000
DTSTAMP:20260425T183126
CREATED:20220319T155751Z
LAST-MODIFIED:20220319T155751Z
UID:57890-1648317600-1648324800@diwan.clue-digital.com
SUMMARY:Book Signing & Discussion of Another Man
DESCRIPTION:
URL:https://diwan.clue-digital.com/event/book-signing-discussion-of-another-man/
LOCATION:Diwan Zamalek\, 159 26 July St\, Cairo\, Cairo\, 11568\, Egypt
ATTACH;FMTTYPE=image/png:https://diwan.clue-digital.com/wp-content/uploads/2022/03/Web-Thumbnail.png
ORGANIZER;CN="Diwan":MAILTO:info@diwanegypt.com
END:VEVENT
END:VCALENDAR