BEGIN:VCALENDAR
VERSION:2.0
PRODID:-//Diwan - ECPv6.15.11//NONSGML v1.0//EN
CALSCALE:GREGORIAN
METHOD:PUBLISH
X-WR-CALNAME:Diwan
X-ORIGINAL-URL:https://diwan.clue-digital.com
X-WR-CALDESC:Events for Diwan
REFRESH-INTERVAL;VALUE=DURATION:PT1H
X-Robots-Tag:noindex
X-PUBLISHED-TTL:PT1H
BEGIN:VTIMEZONE
TZID:Africa/Cairo
BEGIN:DAYLIGHT
TZOFFSETFROM:+0200
TZOFFSETTO:+0300
TZNAME:EEST
DTSTART:20230427T220000
END:DAYLIGHT
BEGIN:STANDARD
TZOFFSETFROM:+0300
TZOFFSETTO:+0200
TZNAME:EET
DTSTART:20231026T210000
END:STANDARD
BEGIN:DAYLIGHT
TZOFFSETFROM:+0200
TZOFFSETTO:+0300
TZNAME:EEST
DTSTART:20240425T220000
END:DAYLIGHT
BEGIN:STANDARD
TZOFFSETFROM:+0300
TZOFFSETTO:+0200
TZNAME:EET
DTSTART:20241031T210000
END:STANDARD
BEGIN:DAYLIGHT
TZOFFSETFROM:+0200
TZOFFSETTO:+0300
TZNAME:EEST
DTSTART:20250424T220000
END:DAYLIGHT
BEGIN:STANDARD
TZOFFSETFROM:+0300
TZOFFSETTO:+0200
TZNAME:EET
DTSTART:20251030T210000
END:STANDARD
END:VTIMEZONE
BEGIN:VEVENT
DTSTART;TZID=Africa/Cairo:20240308T110000
DTEND;TZID=Africa/Cairo:20240308T123000
DTSTAMP:20260425T170534
CREATED:20240303T084929Z
LAST-MODIFIED:20240304T101105Z
UID:97184-1709895600-1709901000@diwan.clue-digital.com
SUMMARY:حلوة ولا ملتوتة
DESCRIPTION:حلوة ولا ملتوتة\nby Bookly Ever After\nFriday * Mar\, 8*\nDiwan\, Heliopolis\n11:00am – 12:30pm\nAge group: 3-6\n300LE per session \nhttps://tinyurl.com/r5kmf8jj
URL:https://diwan.clue-digital.com/event/%d8%ad%d9%84%d9%88%d8%a9-%d9%88%d9%84%d8%a7-%d9%85%d9%84%d8%aa%d9%88%d8%aa%d8%a9/
LOCATION:Diwan Heliopolis\, 105\, Abou Bakr El Seddiq St\, Heliopolis\, Cairo\, Egypt
CATEGORIES:Children
ATTACH;FMTTYPE=image/jpeg:https://diwan.clue-digital.com/wp-content/uploads/2024/03/Helwa-Walla-Maltouta_8-3-Website.jpg
ORGANIZER;CN="Diwan":MAILTO:info@diwanegypt.com
END:VEVENT
BEGIN:VEVENT
DTSTART;TZID=Africa/Cairo:20240304T190000
DTEND;TZID=Africa/Cairo:20240304T210000
DTSTAMP:20260425T170534
CREATED:20240226T131431Z
LAST-MODIFIED:20240226T132029Z
UID:96766-1709578800-1709586000@diwan.clue-digital.com
SUMMARY:حفل توقيع و مناقشة على يمين القلب
DESCRIPTION:حفل توقيع و مناقشة على يمين القلب لليالي بدر\nتدير النقاش د. نيفين النصيري\nالاثنين ٤ مارس\n٧ مساء\nديوان الزمالك
URL:https://diwan.clue-digital.com/event/%d8%ad%d9%81%d9%84-%d8%aa%d9%88%d9%82%d9%8a%d8%b9-%d9%88-%d9%85%d9%86%d8%a7%d9%82%d8%b4%d8%a9-%d8%b9%d9%84%d9%89-%d9%8a%d9%85%d9%8a%d9%86-%d8%a7%d9%84%d9%82%d9%84%d8%a8/
LOCATION:Diwan Zamalek\, 159 26 July St\, Cairo\, Cairo\, 11568\, Egypt
CATEGORIES:Adults
ATTACH;FMTTYPE=image/jpeg:https://diwan.clue-digital.com/wp-content/uploads/2024/02/Yamen-El-Qalb2_Event.jpg
ORGANIZER;CN="Diwan":MAILTO:info@diwanegypt.com
END:VEVENT
BEGIN:VEVENT
DTSTART;TZID=Africa/Cairo:20240303T190000
DTEND;TZID=Africa/Cairo:20240303T210000
DTSTAMP:20260425T170534
CREATED:20240229T143036Z
LAST-MODIFIED:20240229T143036Z
UID:96904-1709492400-1709499600@diwan.clue-digital.com
SUMMARY:The journey of a soul
DESCRIPTION:The journey of a soul\nwith Rana Chalabi\nSunday\, March 3\nDiwan\, Zamalek\n7pm
URL:https://diwan.clue-digital.com/event/the-journey-of-a-soul/
LOCATION:Diwan Zamalek\, 159 26 July St\, Cairo\, Cairo\, 11568\, Egypt
CATEGORIES:Adults
ATTACH;FMTTYPE=image/jpeg:https://diwan.clue-digital.com/wp-content/uploads/2024/02/The-journey-of-a-soul_Event.jpg
ORGANIZER;CN="Diwan":MAILTO:info@diwanegypt.com
END:VEVENT
BEGIN:VEVENT
DTSTART;TZID=Africa/Cairo:20240302T190000
DTEND;TZID=Africa/Cairo:20240302T210000
DTSTAMP:20260425T170534
CREATED:20240225T105809Z
LAST-MODIFIED:20240225T111338Z
UID:96634-1709406000-1709413200@diwan.clue-digital.com
SUMMARY:حفل إطلاق الرواية المسروقة
DESCRIPTION:حفل إطلاق الرواية المسروقة لحسن كمال\nتدير النقاش مريم ناعوم\nالسبت ٢ مارس\n٧ مساءً\nديوان مصر الجديدة
URL:https://diwan.clue-digital.com/event/%d8%ad%d9%81%d9%84-%d8%a5%d8%b7%d9%84%d8%a7%d9%82-%d8%a7%d9%84%d8%b1%d9%88%d8%a7%d9%8a%d8%a9-%d8%a7%d9%84%d9%85%d8%b3%d8%b1%d9%88%d9%82%d8%a9/
LOCATION:Diwan Heliopolis\, 105\, Abou Bakr El Seddiq St\, Heliopolis\, Cairo\, Egypt
CATEGORIES:Adults
ATTACH;FMTTYPE=image/jpeg:https://diwan.clue-digital.com/wp-content/uploads/2024/02/Stolen_Event.jpg
ORGANIZER;CN="Diwan":MAILTO:info@diwanegypt.com
END:VEVENT
BEGIN:VEVENT
DTSTART;TZID=Africa/Cairo:20240302T180000
DTEND;TZID=Africa/Cairo:20240302T200000
DTSTAMP:20260425T170534
CREATED:20240225T111033Z
LAST-MODIFIED:20240226T130844Z
UID:96648-1709402400-1709409600@diwan.clue-digital.com
SUMMARY:حفل إطلاق رواية حواء آدم
DESCRIPTION:حفل إطلاق رواية حواء آدم لرشا زيدان\nتدير النقاش الفنانة هنا شيحة\nالسبت ٢ مارس\n٦ مساء\nديوان الزمالك
URL:https://diwan.clue-digital.com/event/%d8%ad%d9%81%d9%84-%d8%a5%d8%b7%d9%84%d8%a7%d9%82-%d8%b1%d9%88%d8%a7%d9%8a%d8%a9-%d8%ad%d9%88%d8%a7%d8%a1-%d8%a2%d8%af%d9%85/
LOCATION:Diwan Zamalek\, 159 26 July St\, Cairo\, Cairo\, 11568\, Egypt
CATEGORIES:Adults
ATTACH;FMTTYPE=image/jpeg:https://diwan.clue-digital.com/wp-content/uploads/2024/02/Event-3.jpg
ORGANIZER;CN="Diwan":MAILTO:info@diwanegypt.com
END:VEVENT
BEGIN:VEVENT
DTSTART;TZID=Africa/Cairo:20240229T190000
DTEND;TZID=Africa/Cairo:20240229T210000
DTSTAMP:20260425T170534
CREATED:20240225T104951Z
LAST-MODIFIED:20240225T104951Z
UID:96628-1709233200-1709240400@diwan.clue-digital.com
SUMMARY:حفل إطلاق بدون فصل اخير
DESCRIPTION:حفل إطلاق بدون فصل اخير لسمر علي\nيدير النقاش طارق إمام، نوارة نجم، محمد امين راضي\nالخميس ٢٩ فبراير\n٧ مساء\nديوان الزمالك
URL:https://diwan.clue-digital.com/event/%d8%ad%d9%81%d9%84-%d8%a5%d8%b7%d9%84%d8%a7%d9%82-%d8%a8%d8%af%d9%88%d9%86-%d9%81%d8%b5%d9%84-%d8%a7%d8%ae%d9%8a%d8%b1/
LOCATION:Diwan Zamalek\, 159 26 July St\, Cairo\, Cairo\, 11568\, Egypt
CATEGORIES:Adults
ATTACH;FMTTYPE=image/jpeg:https://diwan.clue-digital.com/wp-content/uploads/2024/02/Event.jpg
ORGANIZER;CN="Diwan":MAILTO:info@diwanegypt.com
END:VEVENT
BEGIN:VEVENT
DTSTART;TZID=Africa/Cairo:20240229T180000
DTEND;TZID=Africa/Cairo:20240229T200000
DTSTAMP:20260425T170534
CREATED:20240226T132747Z
LAST-MODIFIED:20240226T133005Z
UID:96770-1709229600-1709236800@diwan.clue-digital.com
SUMMARY:نادي كتاب ديوان
DESCRIPTION:مناقشة كتاب شهر فبراير\nكتاب: عهد دميانة\nمع صموئيل صفيان\nالخميس 29 فبراير\nديوان سينما راديو\n٦ مساءً\nاستمارة التسجيل:\nhttp://tinyurl.com/yw26r9nt
URL:https://diwan.clue-digital.com/event/%d9%86%d8%a7%d8%af%d9%8a-%d9%83%d8%aa%d8%a7%d8%a8-%d8%af%d9%8a%d9%88%d8%a7%d9%86/
LOCATION:Diwan Cinema Radio\, ٢٤ طلعت حرب\, قصر النيل\, القاهرة\, مصر\, Cairo\, Egypt
CATEGORIES:Book Clubs
ATTACH;FMTTYPE=image/jpeg:https://diwan.clue-digital.com/wp-content/uploads/2024/02/Book-Club-Event_Website-AR.jpg
ORGANIZER;CN="Diwan":MAILTO:info@diwanegypt.com
END:VEVENT
BEGIN:VEVENT
DTSTART;TZID=Africa/Cairo:20240228T190000
DTEND;TZID=Africa/Cairo:20240228T190000
DTSTAMP:20260425T170534
CREATED:20240225T110622Z
LAST-MODIFIED:20240225T110622Z
UID:96645-1709146800-1709146800@diwan.clue-digital.com
SUMMARY:Decolonizing Images
DESCRIPTION:Decolonizing Images\nA launch of Ronnie Close’s new book in discussion with artists Ibrahim Ahmed and Nadia Mounier\nWednesday\, Feb 28\nDiwan\, Zamalek\n7pm
URL:https://diwan.clue-digital.com/event/decolonizing-images/
LOCATION:Diwan Zamalek\, 159 26 July St\, Cairo\, Cairo\, 11568\, Egypt
CATEGORIES:Adults
ATTACH;FMTTYPE=image/jpeg:https://diwan.clue-digital.com/wp-content/uploads/2024/02/Event-1.jpg
ORGANIZER;CN="Diwan":MAILTO:info@diwanegypt.com
END:VEVENT
BEGIN:VEVENT
DTSTART;TZID=Africa/Cairo:20240227T190000
DTEND;TZID=Africa/Cairo:20240227T210000
DTSTAMP:20260425T170534
CREATED:20240226T133245Z
LAST-MODIFIED:20240226T133338Z
UID:96777-1709060400-1709067600@diwan.clue-digital.com
SUMMARY:Diwan Book Club
DESCRIPTION:Date: Tuesday February 27th\nTime: 7pm\nBranch: Zamalek\nMan’s Search for Meaning\nhttps://forms.gle/aGNzSAvHr8Fxf9fTA
URL:https://diwan.clue-digital.com/event/diwan-book-club/
LOCATION:Diwan Zamalek\, 159 26 July St\, Cairo\, Cairo\, 11568\, Egypt
CATEGORIES:Book Clubs
ATTACH;FMTTYPE=image/jpeg:https://diwan.clue-digital.com/wp-content/uploads/2024/02/Book-Club-Event_Event-ENG.jpg
ORGANIZER;CN="Diwan":MAILTO:info@diwanegypt.com
END:VEVENT
BEGIN:VEVENT
DTSTART;TZID=Africa/Cairo:20240227T190000
DTEND;TZID=Africa/Cairo:20240227T210000
DTSTAMP:20260425T170534
CREATED:20240225T110254Z
LAST-MODIFIED:20240225T110254Z
UID:96641-1709060400-1709067600@diwan.clue-digital.com
SUMMARY:The Coach's Casebook
DESCRIPTION:The Coach’s Casebook\nA talk on how to overcome your fears and step out of your comfort zone.\nBy Christine Guirguis\nTuesday\, Feb 27\nDiwan\, Heliopolis\n7pm
URL:https://diwan.clue-digital.com/event/the-coachs-casebook/
LOCATION:Diwan Heliopolis\, 105\, Abou Bakr El Seddiq St\, Heliopolis\, Cairo\, Egypt
CATEGORIES:Adults
ATTACH;FMTTYPE=image/jpeg:https://diwan.clue-digital.com/wp-content/uploads/2024/02/Coach_Event.jpg
ORGANIZER;CN="Diwan":MAILTO:info@diwanegypt.com
END:VEVENT
BEGIN:VEVENT
DTSTART;VALUE=DATE:20231031
DTEND;VALUE=DATE:20231129
DTSTAMP:20260425T170534
CREATED:20231012T183357Z
LAST-MODIFIED:20231012T183357Z
UID:91094-1698710400-1701215999@diwan.clue-digital.com
SUMMARY:Creative Expression for Adults
DESCRIPTION:Creative Expression for Adults: 5-week workshop of self-discovery through creative play by Helene Awad and Sara Fawcett\nStarting Tuesday\, October 31st\nDiwan\, Heliopolis\n7-9pm\nLimited spaces available\nBook your spot here \nLooking for a fun and creative way to rediscover your ability to play and create? Join the Creative Expression for Adults workshop. This five-week workshop is designed to help you reconnect with your inner self and increase self-awareness through music and art. You’ll have the opportunity to express yourself in a safe and supportive environment\, while also enjoying the company of others. The workshop is facilitated by Artist Helene Awad and Musician Sara Fawcett\, who will provide a holding environment for you to explore your creativity. The workshops will be held at Diwan Heliopolis every Tuesday starting October 31st and are limited to 8 participants\, so sign up as soon. \nSara is a Creative Music Therapist from London\, now living in Cairo. She recently completed a Masters programme with Nordoff and Robbins in Music\, Health\, Society\, an internationally renowned programme validated by Goldsmiths University of London. Helene has a Master degree in Creative Arts Therapy from NYU and is a certified art therapist. She has participated in group and solo exhibitions and has worked on textiles and illustrations in collaboration with artisans. Together\, they will provide a holding environment for you to explore your creativity. Sign up now for this unique opportunity to rediscover your ability to play and create through music and art!\n“Creativity is intelligence having fun.” – Albert Einstein
URL:https://diwan.clue-digital.com/event/creative-expression-for-adults/
LOCATION:Diwan Heliopolis\, 105\, Abou Bakr El Seddiq St\, Heliopolis\, Cairo\, Egypt
CATEGORIES:Adults
ATTACH;FMTTYPE=image/jpeg:https://diwan.clue-digital.com/wp-content/uploads/2023/10/Creative-Expression-for-Adults_Website-1.jpg
ORGANIZER;CN="Diwan":MAILTO:info@diwanegypt.com
END:VEVENT
BEGIN:VEVENT
DTSTART;TZID=Africa/Cairo:20231027T110000
DTEND;TZID=Africa/Cairo:20231027T130000
DTSTAMP:20260425T170534
CREATED:20231003T204716Z
LAST-MODIFIED:20231003T204716Z
UID:90725-1698404400-1698411600@diwan.clue-digital.com
SUMMARY:Wear The Author’s Hat in Zayed
DESCRIPTION:Wear The Author’s Hat with Myriam Rizkallah\nA 2-hour kids’ creative writing workshop\n11am to 1pm\nAge group: 9-13\n450LE\nDiwan Capital\, Sheikh Zayed: Friday\, Oct 27\nBook your spot here
URL:https://diwan.clue-digital.com/event/wear-the-authors-hat-in-zayed/
LOCATION:Diwan Capital Business Park\, Capital Business park plot-15-16 Sheikh Zayed City\, 6th of October\, Cairo\, Cairo\, Egypt
CATEGORIES:Children
ATTACH;FMTTYPE=image/jpeg:https://diwan.clue-digital.com/wp-content/uploads/2023/10/Website-6.jpg
ORGANIZER;CN="Diwan":MAILTO:info@diwanegypt.com
END:VEVENT
BEGIN:VEVENT
DTSTART;TZID=Africa/Cairo:20231026T190000
DTEND;TZID=Africa/Cairo:20231026T210000
DTSTAMP:20260425T170534
CREATED:20231004T060733Z
LAST-MODIFIED:20231004T060733Z
UID:90728-1698346800-1698354000@diwan.clue-digital.com
SUMMARY:لقاء مفتوح مع نهلة كرم
DESCRIPTION:لقاء مفتوح مع نهلة كرم\nيناقشها الإعلامي البارز خالد منصور\nالخميس ٢٦ أكتوبر\n٧ مساءً\nديوان، سينما راديو
URL:https://diwan.clue-digital.com/event/%d9%84%d9%82%d8%a7%d8%a1-%d9%85%d9%81%d8%aa%d9%88%d8%ad-%d9%85%d8%b9-%d9%86%d9%87%d9%84%d8%a9-%d9%83%d8%b1%d9%85/
LOCATION:Diwan Cinema Radio\, ٢٤ طلعت حرب\, قصر النيل\, القاهرة\, مصر\, Cairo\, Egypt
CATEGORIES:Adults
ATTACH;FMTTYPE=image/jpeg:https://diwan.clue-digital.com/wp-content/uploads/2023/10/Website-7.jpg
ORGANIZER;CN="Diwan":MAILTO:info@diwanegypt.com
END:VEVENT
BEGIN:VEVENT
DTSTART;TZID=Africa/Cairo:20231025T190000
DTEND;TZID=Africa/Cairo:20231025T210000
DTSTAMP:20260425T170534
CREATED:20231003T193646Z
LAST-MODIFIED:20231003T193646Z
UID:90705-1698260400-1698267600@diwan.clue-digital.com
SUMMARY:مناقشة وحفل توقيع الدولة والمجتمع في مصر الحديثة
DESCRIPTION:مناقشة وحفل توقيع الدولة والمجتمع في مصر الحديثة مع عمرو عدلي\nيناقشه الباحث عمرو عبد الرحمن\nالأربعاء ٢٥ أكتوبر\n٧ مساءً\nديوان الزمالك
URL:https://diwan.clue-digital.com/event/%d9%85%d9%86%d8%a7%d9%82%d8%b4%d8%a9-%d9%88%d8%ad%d9%81%d9%84-%d8%aa%d9%88%d9%82%d9%8a%d8%b9-%d8%a7%d9%84%d8%af%d9%88%d9%84%d8%a9-%d9%88%d8%a7%d9%84%d9%85%d8%ac%d8%aa%d9%85%d8%b9-%d9%81%d9%8a-%d9%85/
LOCATION:Diwan Zamalek\, 159 26 July St\, Cairo\, Cairo\, 11568\, Egypt
CATEGORIES:Adults
ATTACH;FMTTYPE=image/jpeg:https://diwan.clue-digital.com/wp-content/uploads/2023/10/Website-2.jpg
ORGANIZER;CN="Diwan":MAILTO:info@diwanegypt.com
END:VEVENT
BEGIN:VEVENT
DTSTART;TZID=Africa/Cairo:20231021T190000
DTEND;TZID=Africa/Cairo:20231021T210000
DTSTAMP:20260425T170534
CREATED:20231003T200038Z
LAST-MODIFIED:20231003T200038Z
UID:90709-1697914800-1697922000@diwan.clue-digital.com
SUMMARY:لقاء مفتوح مع هشام الخشن
DESCRIPTION:لقاء مفتوح مع هشام الخشن\nالسبت ٢١ أكتوبر\nديوان الزمالك\n٧ مساءً
URL:https://diwan.clue-digital.com/event/%d9%84%d9%82%d8%a7%d8%a1-%d9%85%d9%81%d8%aa%d9%88%d8%ad-%d9%85%d8%b9-%d9%87%d8%b4%d8%a7%d9%85-%d8%a7%d9%84%d8%ae%d8%b4%d9%86/
LOCATION:Diwan Zamalek\, 159 26 July St\, Cairo\, Cairo\, 11568\, Egypt
CATEGORIES:Adults
ATTACH;FMTTYPE=image/jpeg:https://diwan.clue-digital.com/wp-content/uploads/2023/10/Website-3.jpg
ORGANIZER;CN="Diwan":MAILTO:info@diwanegypt.com
END:VEVENT
BEGIN:VEVENT
DTSTART;TZID=Africa/Cairo:20231021T120000
DTEND;TZID=Africa/Cairo:20231021T130000
DTSTAMP:20260425T170534
CREATED:20230916T090402Z
LAST-MODIFIED:20231004T093201Z
UID:90109-1697889600-1697893200@diwan.clue-digital.com
SUMMARY:Expat Moms & Kids in Cairo Meetup
DESCRIPTION:Expat Moms & Kids in Cairo Meetup with Rachel Marcelle\nSaturday\, October 21st\nDiwan\, Maadi\n12 to 1pm\nAge group 7-14\nRegister here
URL:https://diwan.clue-digital.com/event/expat-moms-kids-in-cairo-meetup-2/
LOCATION:Diwan Maadi\, 1\, Rd. 254 (Off Rd. 213)\, Degla\, Maadi\, Cairo\, Egypt
CATEGORIES:Book Clubs,Children
ATTACH;FMTTYPE=image/jpeg:https://diwan.clue-digital.com/wp-content/uploads/2023/09/Website-30.jpg
ORGANIZER;CN="Diwan":MAILTO:info@diwanegypt.com
END:VEVENT
BEGIN:VEVENT
DTSTART;TZID=Africa/Cairo:20231020T110000
DTEND;TZID=Africa/Cairo:20231020T130000
DTSTAMP:20260425T170534
CREATED:20231003T204539Z
LAST-MODIFIED:20231003T204807Z
UID:90723-1697799600-1697806800@diwan.clue-digital.com
SUMMARY:Wear The Author’s Hat in Zamalek
DESCRIPTION:Wear The Author’s Hat with Myriam Rizkallah\nA 2-hour kids’ creative writing workshop\n11am to 1pm\nAge group: 9-13\n450LE\nDiwan Zamalek: Friday\, Oct 20\nBook your spot here
URL:https://diwan.clue-digital.com/event/wear-the-authors-hat-in-zamalek/
LOCATION:Diwan Zamalek\, 159 26 July St\, Cairo\, Cairo\, 11568\, Egypt
CATEGORIES:Children
ATTACH;FMTTYPE=image/jpeg:https://diwan.clue-digital.com/wp-content/uploads/2023/10/Website-6.jpg
ORGANIZER;CN="Diwan":MAILTO:info@diwanegypt.com
END:VEVENT
BEGIN:VEVENT
DTSTART;TZID=Africa/Cairo:20231020T110000
DTEND;TZID=Africa/Cairo:20231020T123000
DTSTAMP:20260425T170534
CREATED:20231004T075550Z
LAST-MODIFIED:20231004T075550Z
UID:90751-1697799600-1697805000@diwan.clue-digital.com
SUMMARY:حلوة ولا ملتوتة by Bookly Ever After - Oct. 20
DESCRIPTION:حلوة ولا ملتوتة is an engaging storytelling and activities sessions with Bookly Ever After. Every other Friday at Diwan Heliopolis\, kids get to learn along with a group through play and entertainment! They will read a story\, act it out\, enjoy a drama play and book discussion and wrap it all up with themed arts & crafts!\nFriday\, October 20th\n11am to 12:30pm\nAge group: 4-7\n300LE – Book HERE
URL:https://diwan.clue-digital.com/event/%d8%ad%d9%84%d9%88%d8%a9-%d9%88%d9%84%d8%a7-%d9%85%d9%84%d8%aa%d9%88%d8%aa%d8%a9-by-bookly-ever-after-oct-20/
LOCATION:Diwan Heliopolis\, 105\, Abou Bakr El Seddiq St\, Heliopolis\, Cairo\, Egypt
CATEGORIES:Children
ATTACH;FMTTYPE=image/jpeg:https://diwan.clue-digital.com/wp-content/uploads/2023/10/Website-30.jpg
ORGANIZER;CN="Diwan":MAILTO:info@diwanegypt.com
END:VEVENT
BEGIN:VEVENT
DTSTART;TZID=Africa/Cairo:20231018T190000
DTEND;TZID=Africa/Cairo:20231018T210000
DTSTAMP:20260425T170534
CREATED:20231004T071932Z
LAST-MODIFIED:20231004T071932Z
UID:90743-1697655600-1697662800@diwan.clue-digital.com
SUMMARY:Book Signing & Discussion for Super Vision
DESCRIPTION:Book Signing & Discussion for Super Vision by Sherife AbelMessih\nWednesday\, Oct 18\nDiwan\, Zamalek\n7pm
URL:https://diwan.clue-digital.com/event/book-signing-discussion-for-super-vision/
LOCATION:Diwan Zamalek\, 159 26 July St\, Cairo\, Cairo\, 11568\, Egypt
CATEGORIES:Adults
ATTACH;FMTTYPE=image/jpeg:https://diwan.clue-digital.com/wp-content/uploads/2023/10/Super-Vision_Website.jpg
ORGANIZER;CN="Diwan":MAILTO:info@diwanegypt.com
END:VEVENT
BEGIN:VEVENT
DTSTART;TZID=Africa/Cairo:20231018T190000
DTEND;TZID=Africa/Cairo:20231018T210000
DTSTAMP:20260425T170534
CREATED:20231004T061229Z
LAST-MODIFIED:20231004T061229Z
UID:90740-1697655600-1697662800@diwan.clue-digital.com
SUMMARY:مناقشة وحفل توقيع تحولات الثقافة في مصر
DESCRIPTION:مناقشة وحفل توقيع تحولات الثقافة في مصر\nلصبحي موسى\nيدير الحوار أ.د. أحمد زايد\nالأربعاء ١٨ أكتوبر\n٧ مساءً\nديوان سينما راديو
URL:https://diwan.clue-digital.com/event/%d9%85%d9%86%d8%a7%d9%82%d8%b4%d8%a9-%d9%88%d8%ad%d9%81%d9%84-%d8%aa%d9%88%d9%82%d9%8a%d8%b9-%d8%aa%d8%ad%d9%88%d9%84%d8%a7%d8%aa-%d8%a7%d9%84%d8%ab%d9%82%d8%a7%d9%81%d8%a9-%d9%81%d9%8a-%d9%85%d8%b5/
LOCATION:Diwan Cinema Radio\, ٢٤ طلعت حرب\, قصر النيل\, القاهرة\, مصر\, Cairo\, Egypt
CATEGORIES:Adults
ATTACH;FMTTYPE=image/jpeg:https://diwan.clue-digital.com/wp-content/uploads/2023/10/Website-8.jpg
ORGANIZER;CN="Diwan":MAILTO:info@diwanegypt.com
END:VEVENT
BEGIN:VEVENT
DTSTART;TZID=Africa/Cairo:20231018T190000
DTEND;TZID=Africa/Cairo:20231018T203000
DTSTAMP:20260425T170534
CREATED:20230221T105644Z
LAST-MODIFIED:20231004T081958Z
UID:77990-1697655600-1697661000@diwan.clue-digital.com
SUMMARY:Seniors Book Club – Heliopolis
DESCRIPTION:نادى الكتاب هو أحد انشطه مؤسسه جولدن ييرز للتنميه المجتمعيه بتعاون مع مكتبه ديوان.\nكل أول وثالث يوم أربعاء في الشهر الساعة ٦ مساء اجتماع محبى القراءة من أعضاء المؤسسه للتعرف على مجموعه منتقاه من الكتب ذات المحتوي الملائم للأعضاء.\nأقرا – شارك- أتعرف على أعضاء آخرين. الدعوه عامه و مجانيه. للمشاركة: https://forms.gle/5JRw53MByW1Yi8BV6 \nمؤسسة جولدن ييرز للتنميه المجتمعيه (Golden Years Foundation) مؤسسه غير هادفة للربح مسجلة بوزارة التضامن الاجتماعي رقم 1035 لعام 2021.\nالهدف الاساسى هو نشر الوعي المجتمعي عن كل ما يتعلق بتقدم السن وتقديم الدعم للعائلات ومقدمي الرعايه.\nالرعايه لا تتضمن الحاله البدنيه فقط بل و الحاله النفسيه أيضا و لقد ثبت علميا إنها من أهم العوامل فى تحسين الصحه البدنيه و جوده الحياة عاما.\nالمؤسسه لها انشطه متعدده و يمكنكم التواصل لمعرفه المزيد أو التطوع أو الاستفادة من خدمات المؤسسه بالدخول على الموقع او على صفحتي الفيس بوك و الانستجرام.\nhttp://Www.goldenyearscommunity.org
URL:https://diwan.clue-digital.com/event/seniors-book-club-heliopolis/
LOCATION:Diwan Heliopolis\, 105\, Abou Bakr El Seddiq St\, Heliopolis\, Cairo\, Egypt
CATEGORIES:Book Clubs
ATTACH;FMTTYPE=image/jpeg:https://diwan.clue-digital.com/wp-content/uploads/2023/02/Seniors-Book-Club-Website-Generic.jpg
ORGANIZER;CN="Diwan":MAILTO:info@diwanegypt.com
END:VEVENT
BEGIN:VEVENT
DTSTART;TZID=Africa/Cairo:20231015T190000
DTEND;TZID=Africa/Cairo:20231015T210000
DTSTAMP:20260425T170534
CREATED:20231003T192901Z
LAST-MODIFIED:20231003T192901Z
UID:90702-1697396400-1697403600@diwan.clue-digital.com
SUMMARY:لقاء مفتوح مع محمد عبد الجواد
DESCRIPTION:لقاء مفتوح مع محمد عبد الجواد\nيناقشه الإعلامي البارز خالد منصور\nالأحد ١٥ أكتوبر\n٧ مساءً\nديوان سينما راديو
URL:https://diwan.clue-digital.com/event/%d9%84%d9%82%d8%a7%d8%a1-%d9%85%d9%81%d8%aa%d9%88%d8%ad-%d9%85%d8%b9-%d9%85%d8%ad%d9%85%d8%af-%d8%b9%d8%a8%d8%af-%d8%a7%d9%84%d8%ac%d9%88%d8%a7%d8%af/
LOCATION:Diwan Cinema Radio\, ٢٤ طلعت حرب\, قصر النيل\, القاهرة\, مصر\, Cairo\, Egypt
CATEGORIES:Adults
ATTACH;FMTTYPE=image/jpeg:https://diwan.clue-digital.com/wp-content/uploads/2023/10/Website-1.jpg
ORGANIZER;CN="Diwan":MAILTO:info@diwanegypt.com
END:VEVENT
BEGIN:VEVENT
DTSTART;TZID=Africa/Cairo:20231013T110000
DTEND;TZID=Africa/Cairo:20231013T130000
DTSTAMP:20260425T170534
CREATED:20231004T072925Z
LAST-MODIFIED:20231004T072925Z
UID:90746-1697194800-1697202000@diwan.clue-digital.com
SUMMARY:Body Safety with Shereen ElKady
DESCRIPTION:Body Safety with Shereen ElKady\nFriday\, Oct 13\n11am to 1pm\nAge group: 5-8\nDiwan\, Zamalek\nBook your spot here
URL:https://diwan.clue-digital.com/event/body-safety-with-shereen-elkady-2/
LOCATION:Diwan Zamalek\, 159 26 July St\, Cairo\, Cairo\, 11568\, Egypt
CATEGORIES:Children
ATTACH;FMTTYPE=image/jpeg:https://diwan.clue-digital.com/wp-content/uploads/2023/10/Website-9.jpg
ORGANIZER;CN="Diwan":MAILTO:info@diwanegypt.com
END:VEVENT
BEGIN:VEVENT
DTSTART;TZID=Africa/Cairo:20231013T110000
DTEND;TZID=Africa/Cairo:20231013T130000
DTSTAMP:20260425T170534
CREATED:20231003T204330Z
LAST-MODIFIED:20231003T204330Z
UID:90720-1697194800-1697202000@diwan.clue-digital.com
SUMMARY:Wear The Author’s Hat in Maadi
DESCRIPTION:Wear The Author’s Hat with Myriam Rizkallah\nA 2-hour kids’ creative writing workshop\n11am to 1pm\nAge group: 9-13\n450LE\nDiwan Maadi: Friday\, Oct 13\nBook your spot here
URL:https://diwan.clue-digital.com/event/wear-the-authors-hat-in-maadi/
LOCATION:Diwan Maadi\, 1\, Rd. 254 (Off Rd. 213)\, Degla\, Maadi\, Cairo\, Egypt
CATEGORIES:Children
ATTACH;FMTTYPE=image/jpeg:https://diwan.clue-digital.com/wp-content/uploads/2023/10/Website-6.jpg
ORGANIZER;CN="Diwan":MAILTO:info@diwanegypt.com
END:VEVENT
BEGIN:VEVENT
DTSTART;TZID=Africa/Cairo:20231011T190000
DTEND;TZID=Africa/Cairo:20231011T210000
DTSTAMP:20260425T170534
CREATED:20231003T192117Z
LAST-MODIFIED:20231003T192117Z
UID:90698-1697050800-1697058000@diwan.clue-digital.com
SUMMARY:لقاء مفتوح مع ساندرا سراج
DESCRIPTION:لقاء مفتوح مع ساندرا سراج\nالأربعاء ١١ أكتوبر\n٧ مساءً\nديوان سينما راديو
URL:https://diwan.clue-digital.com/event/%d9%84%d9%82%d8%a7%d8%a1-%d9%85%d9%81%d8%aa%d9%88%d8%ad-%d9%85%d8%b9-%d8%b3%d8%a7%d9%86%d8%af%d8%b1%d8%a7-%d8%b3%d8%b1%d8%a7%d8%ac/
LOCATION:Diwan Cinema Radio\, ٢٤ طلعت حرب\, قصر النيل\, القاهرة\, مصر\, Cairo\, Egypt
CATEGORIES:Adults
ATTACH;FMTTYPE=image/jpeg:https://diwan.clue-digital.com/wp-content/uploads/2023/10/Website.jpg
ORGANIZER;CN="Diwan":MAILTO:info@diwanegypt.com
END:VEVENT
BEGIN:VEVENT
DTSTART;TZID=Africa/Cairo:20231010T190000
DTEND;TZID=Africa/Cairo:20231010T210000
DTSTAMP:20260425T170534
CREATED:20231003T203647Z
LAST-MODIFIED:20231003T203647Z
UID:90716-1696964400-1696971600@diwan.clue-digital.com
SUMMARY:Psychological Immunity by Ahmed El Aawar
DESCRIPTION:World Mental Health Day\nيوم الصحة النفسية العالمي\nPsychological Immunity by Ahmed El Aawar\nTuesday\, October 10\n7pm\nDiwan\, Heliopolis\nأحمد الأعور\nالثلاثاء ١٠ أكتوبر\n٧ مساءً\nديوان، مصر الجديدة
URL:https://diwan.clue-digital.com/event/psychological-immunity-by-ahmed-el-aawar/
LOCATION:Diwan Heliopolis\, 105\, Abou Bakr El Seddiq St\, Heliopolis\, Cairo\, Egypt
CATEGORIES:Adults
ATTACH;FMTTYPE=image/jpeg:https://diwan.clue-digital.com/wp-content/uploads/2023/10/Website-5.jpg
ORGANIZER;CN="Diwan":MAILTO:info@diwanegypt.com
END:VEVENT
BEGIN:VEVENT
DTSTART;TZID=Africa/Cairo:20231010T190000
DTEND;TZID=Africa/Cairo:20231010T210000
DTSTAMP:20260425T170534
CREATED:20231003T203055Z
LAST-MODIFIED:20231003T203055Z
UID:90713-1696964400-1696971600@diwan.clue-digital.com
SUMMARY:حفل إطلاق رجال عاشوا ألف عام‎
DESCRIPTION:حفل إطلاق كتاب رجال عاشوا ألف عام‎\nللدكتور جلال الشايب\nيناقشه الروائي أشرف العشماوي\nالثلاثاء ١٠ أكتوبر\n٧ مساءً\nديوان الزمالك
URL:https://diwan.clue-digital.com/event/%d8%ad%d9%81%d9%84-%d8%a5%d8%b7%d9%84%d8%a7%d9%82-%d8%b1%d8%ac%d8%a7%d9%84-%d8%b9%d8%a7%d8%b4%d9%88%d8%a7-%d8%a3%d9%84%d9%81-%d8%b9%d8%a7%d9%85/
LOCATION:Diwan Zamalek\, 159 26 July St\, Cairo\, Cairo\, 11568\, Egypt
CATEGORIES:Adults
ATTACH;FMTTYPE=image/jpeg:https://diwan.clue-digital.com/wp-content/uploads/2023/10/Website-4.jpg
ORGANIZER;CN="Diwan":MAILTO:info@diwanegypt.com
END:VEVENT
BEGIN:VEVENT
DTSTART;VALUE=DATE:20231007
DTEND;VALUE=DATE:20231105
DTSTAMP:20260425T170534
CREATED:20230911T075427Z
LAST-MODIFIED:20230911T075427Z
UID:89970-1696636800-1699142399@diwan.clue-digital.com
SUMMARY:Masterclass in Creative Nonfiction with Mai Serhan
DESCRIPTION:Masterclass in Creative Nonfiction with Mai Serhan\nLiterary Journalism. The Nonfiction Novel. The Lyric Essay. The Personal Essay. Memoir. Autofiction. Biography\nOctober 7: Literary Journalism\nOctober 14: The Nonfiction Novel\nOctober 21: The Lyric Essay\, The Personal Essay\nOctober 28: Memoir\, Autofiction\nNovember 4: Biography\nDiwan\, Heliopolis\n12pm to 3pm\n3\,900LE\nBook your spot HERE
URL:https://diwan.clue-digital.com/event/masterclass-in-creative-nonfiction-with-mai-serhan/
LOCATION:Diwan Heliopolis\, 105\, Abou Bakr El Seddiq St\, Heliopolis\, Cairo\, Egypt
CATEGORIES:Adults
ATTACH;FMTTYPE=image/jpeg:https://diwan.clue-digital.com/wp-content/uploads/2023/09/Website-3.jpg
ORGANIZER;CN="Diwan":MAILTO:info@diwanegypt.com
END:VEVENT
BEGIN:VEVENT
DTSTART;TZID=Africa/Cairo:20231006T110000
DTEND;TZID=Africa/Cairo:20231006T123000
DTSTAMP:20260425T170534
CREATED:20230906T202034Z
LAST-MODIFIED:20231004T075210Z
UID:89861-1696590000-1696595400@diwan.clue-digital.com
SUMMARY:حلوة ولا ملتوتة by Bookly Ever After - Oct. 6
DESCRIPTION:حلوة ولا ملتوتة is an engaging storytelling and activities sessions with Bookly Ever After. Every other Friday at Diwan Heliopolis\, kids get to learn along with a group through play and entertainment! They will read a story\, act it out\, enjoy a drama play and book discussion and wrap it all up with themed arts & crafts!\nFriday\, October 6th\n11am to 12:30pm\nAge group: 4-7\n300LE – Book HERE
URL:https://diwan.clue-digital.com/event/%d8%ad%d9%84%d9%88%d8%a9-%d9%88%d9%84%d8%a7-%d9%85%d9%84%d8%aa%d9%88%d8%aa%d8%a9-by-bookly-ever-after-4/
LOCATION:Diwan Heliopolis\, 105\, Abou Bakr El Seddiq St\, Heliopolis\, Cairo\, Egypt
CATEGORIES:Children
ATTACH;FMTTYPE=image/jpeg:https://diwan.clue-digital.com/wp-content/uploads/2023/09/Website-29.jpg
ORGANIZER;CN="Diwan":MAILTO:info@diwanegypt.com
END:VEVENT
BEGIN:VEVENT
DTSTART;TZID=Africa/Cairo:20230930T120000
DTEND;TZID=Africa/Cairo:20230930T180000
DTSTAMP:20260425T170534
CREATED:20230906T201309Z
LAST-MODIFIED:20230916T090813Z
UID:89856-1696075200-1696096800@diwan.clue-digital.com
SUMMARY:Punch Needle\, Not People
DESCRIPTION:Punch Needle\, Not People\nA 1-day Punch Needle workshop\nYasmeen Mokhtar – Yoko of Medyoko\nSaturday 30 September\nDiwan\, Cinema Radio\n12-6pm\n1\,200LE – SOLD OUT\nYou can book a spot in the second round on Oct. 6th here
URL:https://diwan.clue-digital.com/event/punch-needle-not-people/
LOCATION:Diwan Cinema Radio\, ٢٤ طلعت حرب\, قصر النيل\, القاهرة\, مصر\, Cairo\, Egypt
CATEGORIES:Adults
ATTACH;FMTTYPE=image/jpeg:https://diwan.clue-digital.com/wp-content/uploads/2023/09/Website.jpg
ORGANIZER;CN="Diwan":MAILTO:info@diwanegypt.com
END:VEVENT
END:VCALENDAR