BEGIN:VCALENDAR
VERSION:2.0
PRODID:-//Diwan - ECPv6.15.11//NONSGML v1.0//EN
CALSCALE:GREGORIAN
METHOD:PUBLISH
X-WR-CALNAME:Diwan
X-ORIGINAL-URL:https://diwan.clue-digital.com
X-WR-CALDESC:Events for Diwan
REFRESH-INTERVAL;VALUE=DURATION:PT1H
X-Robots-Tag:noindex
X-PUBLISHED-TTL:PT1H
BEGIN:VTIMEZONE
TZID:Africa/Cairo
BEGIN:DAYLIGHT
TZOFFSETFROM:+0200
TZOFFSETTO:+0300
TZNAME:EEST
DTSTART:20230427T220000
END:DAYLIGHT
BEGIN:STANDARD
TZOFFSETFROM:+0300
TZOFFSETTO:+0200
TZNAME:EET
DTSTART:20231026T210000
END:STANDARD
BEGIN:DAYLIGHT
TZOFFSETFROM:+0200
TZOFFSETTO:+0300
TZNAME:EEST
DTSTART:20240425T220000
END:DAYLIGHT
BEGIN:STANDARD
TZOFFSETFROM:+0300
TZOFFSETTO:+0200
TZNAME:EET
DTSTART:20241031T210000
END:STANDARD
BEGIN:DAYLIGHT
TZOFFSETFROM:+0200
TZOFFSETTO:+0300
TZNAME:EEST
DTSTART:20250424T220000
END:DAYLIGHT
BEGIN:STANDARD
TZOFFSETFROM:+0300
TZOFFSETTO:+0200
TZNAME:EET
DTSTART:20251030T210000
END:STANDARD
END:VTIMEZONE
BEGIN:VEVENT
DTSTART;TZID=Africa/Cairo:20240831T190000
DTEND;TZID=Africa/Cairo:20240831T210000
DTSTAMP:20260423T225944
CREATED:20240813T111748Z
LAST-MODIFIED:20240821T083033Z
UID:108608-1725130800-1725138000@diwan.clue-digital.com
SUMMARY:حكايات الأطفال مع منار هزاع
DESCRIPTION:حكايات للأطفال مع منار هزاع\nالسبت ١٧ أغسطس ١١ صباحًا\nالسبت ٣١ أغسطس الساعة ٧ مساءً\nديوان مصر الجديدة
URL:https://diwan.clue-digital.com/event/%d8%ad%d9%83%d8%a7%d9%8a%d8%a7%d8%aa-%d8%a7%d9%84%d8%a3%d8%b7%d9%81%d8%a7%d9%84-%d9%85%d8%b9-%d9%85%d9%86%d8%a7%d8%b1-%d9%87%d8%b2%d8%a7%d8%b9/
LOCATION:Diwan Heliopolis\, 105\, Abou Bakr El Seddiq St\, Heliopolis\, Cairo\, Egypt
CATEGORIES:Children
ATTACH;FMTTYPE=image/png:https://diwan.clue-digital.com/wp-content/uploads/2024/08/منار-هزاع-website-Thumbnail.png
ORGANIZER;CN="Diwan":MAILTO:info@diwanegypt.com
END:VEVENT
BEGIN:VEVENT
DTSTART;TZID=Africa/Cairo:20240824T170000
DTEND;TZID=Africa/Cairo:20240824T200000
DTSTAMP:20260423T225944
CREATED:20240804T092436Z
LAST-MODIFIED:20240808T142929Z
UID:107644-1724518800-1724529600@diwan.clue-digital.com
SUMMARY:Art Journaling Workshop
DESCRIPTION:Art Journaling Workshop\nSalma Shurrab\nSaturday August 24th\nDiwan Heliopolis\n5-8 pm\n750LE\nBook Here
URL:https://diwan.clue-digital.com/event/art-journaling-workshop/
LOCATION:Diwan Heliopolis\, 105\, Abou Bakr El Seddiq St\, Heliopolis\, Cairo\, Egypt
CATEGORIES:Adults
ATTACH;FMTTYPE=image/png:https://diwan.clue-digital.com/wp-content/uploads/2024/08/Thumbnail-Website-banner.png
ORGANIZER;CN="Diwan":MAILTO:info@diwanegypt.com
END:VEVENT
BEGIN:VEVENT
DTSTART;TZID=Africa/Cairo:20240820T190000
DTEND;TZID=Africa/Cairo:20240820T210000
DTSTAMP:20260423T225944
CREATED:20240815T153249Z
LAST-MODIFIED:20240815T153249Z
UID:108869-1724180400-1724187600@diwan.clue-digital.com
SUMMARY:حفل إطلاق ومناقشة كتاب "في عرض الطريق
DESCRIPTION:الحلقة الثانية من سلسلة ندوات “التنقل في المدينة”\nحفل إطلاق ومناقشة كتاب “في عرض الطريق\nد. داليا وهدان  و د. لمياء بلبل\nويناقشهما الباحث الإقتصادي محمد جاد\nالثلاثاء ٢٠ أغسطس\nديوان الزمالك\n٧ مساءً
URL:https://diwan.clue-digital.com/event/%d8%ad%d9%81%d9%84-%d8%a5%d8%b7%d9%84%d8%a7%d9%82-%d9%88%d9%85%d9%86%d8%a7%d9%82%d8%b4%d8%a9-%d9%83%d8%aa%d8%a7%d8%a8-%d9%81%d9%8a-%d8%b9%d8%b1%d8%b6-%d8%a7%d9%84%d8%b7%d8%b1%d9%8a%d9%82/
LOCATION:Diwan Heliopolis\, 105\, Abou Bakr El Seddiq St\, Heliopolis\, Cairo\, Egypt
CATEGORIES:Adults
ATTACH;FMTTYPE=image/png:https://diwan.clue-digital.com/wp-content/uploads/2024/08/في-عرض-الطريق-website-Thumbnail.png
ORGANIZER;CN="Diwan":MAILTO:info@diwanegypt.com
END:VEVENT
BEGIN:VEVENT
DTSTART;TZID=Africa/Cairo:20240814T180000
DTEND;TZID=Africa/Cairo:20240814T210000
DTSTAMP:20260423T225944
CREATED:20240727T123431Z
LAST-MODIFIED:20240727T123431Z
UID:107406-1723658400-1723669200@diwan.clue-digital.com
SUMMARY:Comic Course
DESCRIPTION:Comic Course\nMohamed Wahba El Shenawy\nWednesday August 14\nDiwan Heliopolis\n6pm – 9pm\n500LE\nBook Here
URL:https://diwan.clue-digital.com/event/comic-course/
LOCATION:Diwan Heliopolis\, 105\, Abou Bakr El Seddiq St\, Heliopolis\, Cairo\, Egypt
CATEGORIES:Adults
ATTACH;FMTTYPE=image/png:https://diwan.clue-digital.com/wp-content/uploads/2024/07/Website-Event-Thumbnail-1.png
ORGANIZER;CN="Diwan":MAILTO:info@diwanegypt.com
END:VEVENT
BEGIN:VEVENT
DTSTART;TZID=Africa/Cairo:20240810T130000
DTEND;TZID=Africa/Cairo:20240810T150000
DTSTAMP:20260423T225944
CREATED:20240731T141600Z
LAST-MODIFIED:20240731T141600Z
UID:107555-1723294800-1723302000@diwan.clue-digital.com
SUMMARY:لقاء مفتوح مع د. ريم بسيوني
DESCRIPTION:لقاء مفتوح مع د. ريم بسيوني\nالسبت ١٠ أغسطس\n١ ظهراً\nديوان، الدبلوماسيين ٣
URL:https://diwan.clue-digital.com/event/%d9%84%d9%82%d8%a7%d8%a1-%d9%85%d9%81%d8%aa%d9%88%d8%ad-%d9%85%d8%b9-%d8%af-%d8%b1%d9%8a%d9%85-%d8%a8%d8%b3%d9%8a%d9%88%d9%86%d9%8a/
LOCATION:Diwan Sahel\, Diplomats’ Compound 3\, Alex-Marsa Matrouh Rd. (Km 126)\, Sidi Abdel Rahman\, Sahel\, North Coast\, Egypt
CATEGORIES:Adults
ATTACH;FMTTYPE=image/png:https://diwan.clue-digital.com/wp-content/uploads/2024/07/Website-Event-Thumbnail-4.png
ORGANIZER;CN="Diwan":MAILTO:info@diwanegypt.com
END:VEVENT
BEGIN:VEVENT
DTSTART;TZID=Africa/Cairo:20240809T190000
DTEND;TZID=Africa/Cairo:20240809T213000
DTSTAMP:20260423T225944
CREATED:20240808T101740Z
LAST-MODIFIED:20240808T102312Z
UID:108382-1723230000-1723239000@diwan.clue-digital.com
SUMMARY:أطول من العمر... الفقد عبر ثلاثة كتب
DESCRIPTION:مناقشة حول كتب\nكتاب “عن الأسى والتأسي” وكتاب “بدون فصل أخير” وكتاب “33 عن الفقد والرهاب”\nشادي عبد العزيز و سمر علي و مينا ناجي\nالجمعة ٩ أغسطس\nديوان مصر الجديدة\n٧ مساءً
URL:https://diwan.clue-digital.com/event/%d8%a3%d8%b7%d9%88%d9%84-%d9%85%d9%86-%d8%a7%d9%84%d8%b9%d9%85%d8%b1-%d8%a7%d9%84%d9%81%d9%82%d8%af-%d8%b9%d8%a8%d8%b1-%d8%ab%d9%84%d8%a7%d8%ab%d8%a9-%d9%83%d8%aa%d8%a8/
LOCATION:Diwan Heliopolis\, 105\, Abou Bakr El Seddiq St\, Heliopolis\, Cairo\, Egypt
CATEGORIES:Adults
ATTACH;FMTTYPE=image/jpeg:https://diwan.clue-digital.com/wp-content/uploads/2024/08/Event_Website-2.jpg
END:VEVENT
BEGIN:VEVENT
DTSTART;TZID=Africa/Cairo:20240805T200000
DTEND;TZID=Africa/Cairo:20240805T220000
DTSTAMP:20260423T225944
CREATED:20240731T141254Z
LAST-MODIFIED:20240731T141254Z
UID:107552-1722888000-1722895200@diwan.clue-digital.com
SUMMARY:The Revival of Egyptian Heritage through Modern Design
DESCRIPTION:The Revival of Egyptian Heritage through Modern Design\nMahinaz ElMessiry\nMonday\, Aug 5\nDiwan\, Diplo 3\n8pm
URL:https://diwan.clue-digital.com/event/the-revival-of-egyptian-heritage-through-modern-design/
LOCATION:Diwan Sahel\, Diplomats’ Compound 3\, Alex-Marsa Matrouh Rd. (Km 126)\, Sidi Abdel Rahman\, Sahel\, North Coast\, Egypt
CATEGORIES:Adults
ATTACH;FMTTYPE=image/png:https://diwan.clue-digital.com/wp-content/uploads/2024/07/Website-Event-Thumbnail-3.png
END:VEVENT
BEGIN:VEVENT
DTSTART;TZID=Africa/Cairo:20240803T190000
DTEND;TZID=Africa/Cairo:20240803T210000
DTSTAMP:20260423T225944
CREATED:20240731T142049Z
LAST-MODIFIED:20240801T102245Z
UID:107558-1722711600-1722718800@diwan.clue-digital.com
SUMMARY:حفل نقاش وتوقيع رواية موت العالم
DESCRIPTION:حفل نقاش وتوقيع رواية موت العالم\nعبد الرحيم كمال\nيناقشه د.يسري عبدالله\nالسبت ٣ أغسطس\nديوان الزمالك\n٧ مساءً
URL:https://diwan.clue-digital.com/event/%d8%ad%d9%81%d9%84-%d9%86%d9%82%d8%a7%d8%b4-%d9%88%d8%aa%d9%88%d9%82%d9%8a%d8%b9-%d8%b1%d9%88%d8%a7%d9%8a%d8%a9-%d9%85%d9%88%d8%aa-%d8%a7%d9%84%d8%b9%d8%a7%d9%84%d9%85/
LOCATION:Diwan Zamalek\, 159 26 July St\, Cairo\, Cairo\, 11568\, Egypt
CATEGORIES:Adults
ATTACH;FMTTYPE=image/png:https://diwan.clue-digital.com/wp-content/uploads/2024/07/رواية-موت-العالم-Website-Thumbnail.png
ORGANIZER;CN="Diwan":MAILTO:info@diwanegypt.com
END:VEVENT
BEGIN:VEVENT
DTSTART;TZID=Africa/Cairo:20240803T130000
DTEND;TZID=Africa/Cairo:20240803T150000
DTSTAMP:20260423T225944
CREATED:20240729T085204Z
LAST-MODIFIED:20240729T085204Z
UID:107463-1722690000-1722697200@diwan.clue-digital.com
SUMMARY:مناقشة وحفل توقيع رحلة الحياة
DESCRIPTION:مناقشة وحفل توقيع رحلة الحياة\nد. هنا أبو الغار\nتناقشها الإعلامية ياسمين نورالدين\nالسبت ٣ أغسطس\n١ ظهراً\nديوان دبلوماسيين ٣
URL:https://diwan.clue-digital.com/event/%d9%85%d9%86%d8%a7%d9%82%d8%b4%d8%a9-%d9%88%d8%ad%d9%81%d9%84-%d8%aa%d9%88%d9%82%d9%8a%d8%b9-%d8%b1%d8%ad%d9%84%d8%a9-%d8%a7%d9%84%d8%ad%d9%8a%d8%a7%d8%a9-2/
LOCATION:Cairo
CATEGORIES:Adults
ATTACH;FMTTYPE=image/png:https://diwan.clue-digital.com/wp-content/uploads/2024/07/Website-Event-Thumbnail-2.png
ORGANIZER;CN="Diwan":MAILTO:info@diwanegypt.com
END:VEVENT
BEGIN:VEVENT
DTSTART;TZID=Africa/Cairo:20240803T110000
DTEND;TZID=Africa/Cairo:20240803T150000
DTSTAMP:20260423T225944
CREATED:20240727T122103Z
LAST-MODIFIED:20240727T122525Z
UID:107397-1722682800-1722697200@diwan.clue-digital.com
SUMMARY:Cyanotype Workshop
DESCRIPTION:Cyanotype Workshop\nAbdelrahman Fahmy\nSaturday August 3\nDiwan Heliopolis\n11:00am – 3:00pm\n800 LE\nBook Now
URL:https://diwan.clue-digital.com/event/cyanotype-workshop/
LOCATION:Diwan Heliopolis\, 105\, Abou Bakr El Seddiq St\, Heliopolis\, Cairo\, Egypt
CATEGORIES:Adults
ATTACH;FMTTYPE=image/png:https://diwan.clue-digital.com/wp-content/uploads/2024/07/Website-Event-Thumbnail.png
ORGANIZER;CN="Diwan":MAILTO:info@diwanegypt.com
END:VEVENT
BEGIN:VEVENT
DTSTART;TZID=Africa/Cairo:20240705T130000
DTEND;TZID=Africa/Cairo:20240705T140000
DTSTAMP:20260423T225944
CREATED:20240702T120241Z
LAST-MODIFIED:20240702T120241Z
UID:105111-1720184400-1720188000@diwan.clue-digital.com
SUMMARY:Storytelling with Fatma
DESCRIPTION:vent title: Storytelling with Fatma\nProvider name: Fatma Omar\nDate: Friday\, 5 of July\,2024.\nTime: 1:00-2:00 pm\nBranch: Gouna\nISBN: 9786010040427\nPrice: 170 LE\nAge group: 3-5 years old.
URL:https://diwan.clue-digital.com/event/storytelling-with-fatma-2/
LOCATION:Diwan Gouna\, Diwan Bookstore\, Unnamed Road\, Hurghada\, Red Sea Governorate\, Egypt
CATEGORIES:Children
ATTACH;FMTTYPE=image/jpeg:https://diwan.clue-digital.com/wp-content/uploads/2024/07/Gouna-Storytelling-July.jpg
ORGANIZER;CN="Diwan":MAILTO:info@diwanegypt.com
END:VEVENT
BEGIN:VEVENT
DTSTART;TZID=Africa/Cairo:20240629T130000
DTEND;TZID=Africa/Cairo:20240629T150000
DTSTAMP:20260423T225944
CREATED:20240623T143346Z
LAST-MODIFIED:20240623T143346Z
UID:104086-1719666000-1719673200@diwan.clue-digital.com
SUMMARY:Book reading for "قالوا زمان"
DESCRIPTION:Date: 29.6.2024\nTime: 1 pm\nLocation: Diwan Heliopolis\nEvent: Book reading for\n“قالوا زمان”
URL:https://diwan.clue-digital.com/event/book-reading-for-%d9%82%d8%a7%d9%84%d9%88%d8%a7-%d8%b2%d9%85%d8%a7%d9%86/
LOCATION:Diwan Heliopolis\, 105\, Abou Bakr El Seddiq St\, Heliopolis\, Cairo\, Egypt
CATEGORIES:Children
ATTACH;FMTTYPE=image/jpeg:https://diwan.clue-digital.com/wp-content/uploads/2024/06/WhatsApp-Image-2024-06-23-at-5.04.53-PM.jpeg
ORGANIZER;CN="Diwan":MAILTO:info@diwanegypt.com
END:VEVENT
BEGIN:VEVENT
DTSTART;TZID=Africa/Cairo:20240627T190000
DTEND;TZID=Africa/Cairo:20240627T210000
DTSTAMP:20260423T225944
CREATED:20240606T094623Z
LAST-MODIFIED:20240606T094623Z
UID:103703-1719514800-1719522000@diwan.clue-digital.com
SUMMARY:حفل توقيع ومناقشة كتاب الدنيا اللي في بالي
DESCRIPTION:حفل توقيع ومناقشة كتاب الدنيا اللي في بالي\nأميرة محمود يوسف\nيدير اللقاء أحمد جمال عز\nالخميس ٢٧ يونيو\nديوان سينما راديو\n٧ مساءً
URL:https://diwan.clue-digital.com/event/%d8%ad%d9%81%d9%84-%d8%aa%d9%88%d9%82%d9%8a%d8%b9-%d9%88%d9%85%d9%86%d8%a7%d9%82%d8%b4%d8%a9-%d9%83%d8%aa%d8%a7%d8%a8-%d8%a7%d9%84%d8%af%d9%86%d9%8a%d8%a7-%d8%a7%d9%84%d9%84%d9%8a-%d9%81%d9%8a-%d8%a8/
LOCATION:Diwan Cinema Radio\, ٢٤ طلعت حرب\, قصر النيل\, القاهرة\, مصر\, Cairo\, Egypt
CATEGORIES:Adults
ATTACH;FMTTYPE=image/jpeg:https://diwan.clue-digital.com/wp-content/uploads/2024/06/El-donia-el-fe-bali_Website.jpg
ORGANIZER;CN="Diwan":MAILTO:info@diwanegypt.com
END:VEVENT
BEGIN:VEVENT
DTSTART;TZID=Africa/Cairo:20240606T190000
DTEND;TZID=Africa/Cairo:20240606T210000
DTSTAMP:20260423T225944
CREATED:20240528T120558Z
LAST-MODIFIED:20240528T120558Z
UID:103474-1717700400-1717707600@diwan.clue-digital.com
SUMMARY:حفل توقيع ومناقشة كتاب 44 أصوان
DESCRIPTION:حفل توقيع ومناقشة كتاب 44 أصوان\nعائشة خليل عبد الكريم\nتدير اللقاء الصحفية يسرا الشرقاوي\nالخميس ٦ يونيو\nديوان سينما راديو\n٧ مساءً
URL:https://diwan.clue-digital.com/event/%d8%ad%d9%81%d9%84-%d8%aa%d9%88%d9%82%d9%8a%d8%b9-%d9%88%d9%85%d9%86%d8%a7%d9%82%d8%b4%d8%a9-%d9%83%d8%aa%d8%a7%d8%a8-44-%d8%a3%d8%b5%d9%88%d8%a7%d9%86/
LOCATION:Diwan Cinema Radio\, ٢٤ طلعت حرب\, قصر النيل\, القاهرة\, مصر\, Cairo\, Egypt
CATEGORIES:Adults
ATTACH;FMTTYPE=image/jpeg:https://diwan.clue-digital.com/wp-content/uploads/2024/05/Event_Website-1.jpg
END:VEVENT
BEGIN:VEVENT
DTSTART;TZID=Africa/Cairo:20240525T190000
DTEND;TZID=Africa/Cairo:20240525T210000
DTSTAMP:20260423T225944
CREATED:20240512T073036Z
LAST-MODIFIED:20240512T073036Z
UID:102123-1716663600-1716670800@diwan.clue-digital.com
SUMMARY:What is Narration?: Part 2
DESCRIPTION:What is Narration?\nA series brought to you by Diwan\nPart 2\nVisual Arts: Pieces of the Self in Search for a Narrative\nA Panel Discussion with Ibrahim Ahmed and Hana El Sagini moderated by Farida Youssef\nCo-curated by Farida Youssef and Brigitte Boulad\nSaturday\, May 25th\nDiwan\, Zamalek\n7pm
URL:https://diwan.clue-digital.com/event/what-is-narration-part-2/
LOCATION:Diwan Zamalek\, 159 26 July St\, Cairo\, Cairo\, 11568\, Egypt
CATEGORIES:Adults
ATTACH;FMTTYPE=image/jpeg:https://diwan.clue-digital.com/wp-content/uploads/2024/05/What-is-narration_Part-2-Website.jpg
ORGANIZER;CN="Diwan":MAILTO:info@diwanegypt.com
END:VEVENT
BEGIN:VEVENT
DTSTART;TZID=Africa/Cairo:20240522T183000
DTEND;TZID=Africa/Cairo:20240522T203000
DTSTAMP:20260423T225944
CREATED:20240518T075541Z
LAST-MODIFIED:20240518T075541Z
UID:102391-1716402600-1716409800@diwan.clue-digital.com
SUMMARY:توقيع وقراءة من المجموعة الشعرية "تستريح الأرض من كلامنا
DESCRIPTION:Event title: توقيع وقراءة من المجموعة الشعرية “تستريح الأرض من كلامنا\nProvider name: مصعب أبوتوهة\nيدير اللقاء الشاعرة :ندى الشعراوى\nDate: May 22\nTime: 6:30 pm\nBranch: Zamalek
URL:https://diwan.clue-digital.com/event/%d8%aa%d9%88%d9%82%d9%8a%d8%b9-%d9%88%d9%82%d8%b1%d8%a7%d8%a1%d8%a9-%d9%85%d9%86-%d8%a7%d9%84%d9%85%d8%ac%d9%85%d9%88%d8%b9%d8%a9-%d8%a7%d9%84%d8%b4%d8%b9%d8%b1%d9%8a%d8%a9-%d8%aa%d8%b3%d8%aa%d8%b1/
LOCATION:Diwan Zamalek\, 159 26 July St\, Cairo\, Cairo\, 11568\, Egypt
CATEGORIES:Adults
ATTACH;FMTTYPE=image/jpeg:https://diwan.clue-digital.com/wp-content/uploads/2024/05/Bookstore-event_Website.jpg
ORGANIZER;CN="Diwan":MAILTO:info@diwanegypt.com
END:VEVENT
BEGIN:VEVENT
DTSTART;TZID=Africa/Cairo:20240518T183000
DTEND;TZID=Africa/Cairo:20240518T203000
DTSTAMP:20260423T225944
CREATED:20240512T071808Z
LAST-MODIFIED:20240512T071808Z
UID:102119-1716057000-1716064200@diwan.clue-digital.com
SUMMARY:This is Gaza at Diwan
DESCRIPTION:This is Gaza\nMichael Adel\, Hoda Omran\, Gamal El Qassas\, Mahmoud Jouda\,\nMai Serhan and Ohoud Saad\nMusic performed by Hazem Shaheen\nSaturday\, May 18\nDiwan\, Heliopolis\n6:30pm
URL:https://diwan.clue-digital.com/event/this-is-gaza-at-diwan/
LOCATION:Diwan Heliopolis\, 105\, Abou Bakr El Seddiq St\, Heliopolis\, Cairo\, Egypt
CATEGORIES:Adults
ATTACH;FMTTYPE=image/jpeg:https://diwan.clue-digital.com/wp-content/uploads/2024/05/This-is-Gaza_Website.jpg
ORGANIZER;CN="Diwan":MAILTO:info@diwanegypt.com
END:VEVENT
BEGIN:VEVENT
DTSTART;TZID=Africa/Cairo:20240516T190000
DTEND;TZID=Africa/Cairo:20240516T210000
DTSTAMP:20260423T225944
CREATED:20240427T071403Z
LAST-MODIFIED:20240427T071403Z
UID:101062-1715886000-1715893200@diwan.clue-digital.com
SUMMARY:مناقشة كتاب أنا وابني وست أرجل
DESCRIPTION:مناقشة كتاب أنا وابني وست أرجل\nللكاتبة والمترجمة هبة هنداوي\nيحاورها د. أسامة الشاذلي\nالخميس ١٦ مايو\n٧ مساءً\nديوان مصر الجديدة
URL:https://diwan.clue-digital.com/event/%d9%85%d9%86%d8%a7%d9%82%d8%b4%d8%a9-%d9%83%d8%aa%d8%a7%d8%a8-%d8%a3%d9%86%d8%a7-%d9%88%d8%a7%d8%a8%d9%86%d9%8a-%d9%88%d8%b3%d8%aa-%d8%a3%d8%b1%d8%ac%d9%84/
LOCATION:Diwan Heliopolis\, 105\, Abou Bakr El Seddiq St\, Heliopolis\, Cairo\, Egypt
CATEGORIES:Adults
ATTACH;FMTTYPE=image/jpeg:https://diwan.clue-digital.com/wp-content/uploads/2024/04/Ana-w-Ebny_Website.jpg
ORGANIZER;CN="Diwan":MAILTO:info@diwanegypt.com
END:VEVENT
BEGIN:VEVENT
DTSTART;TZID=Africa/Cairo:20240515T190000
DTEND;TZID=Africa/Cairo:20240515T210000
DTSTAMP:20260423T225944
CREATED:20240512T071405Z
LAST-MODIFIED:20240512T071405Z
UID:102116-1715799600-1715806800@diwan.clue-digital.com
SUMMARY:What is narration?: Part 1
DESCRIPTION:What is narration?\nA series brought to you by Diwan\nPart 1\nLayers: When Fashion Practices Turn to Storytelling\nin conversation with Kegham Djeghalian\nCo-curated by Farida Youssef and Brigitte Boulad\nModerated by Farida Youssef\nWednesday\, May 15th\nDiwan\, Zamalek\n7pm
URL:https://diwan.clue-digital.com/event/what-is-narration-part-1/
LOCATION:Diwan Zamalek\, 159 26 July St\, Cairo\, Cairo\, 11568\, Egypt
CATEGORIES:Adults
ATTACH;FMTTYPE=image/jpeg:https://diwan.clue-digital.com/wp-content/uploads/2024/05/What-is-narration_Part-1-Website.jpg
ORGANIZER;CN="Diwan":MAILTO:info@diwanegypt.com
END:VEVENT
BEGIN:VEVENT
DTSTART;TZID=Africa/Cairo:20240511T120000
DTEND;TZID=Africa/Cairo:20240511T140000
DTSTAMP:20260423T225944
CREATED:20240507T110337Z
LAST-MODIFIED:20240507T110337Z
UID:101720-1715428800-1715436000@diwan.clue-digital.com
SUMMARY:Tales of Maadi Book Launch
DESCRIPTION:Book Signing and Panel Discussion for Tales of Maadi\nKathrin Sombold\nSaturday\, May 11\nDiwan\, Maadi\n12pm
URL:https://diwan.clue-digital.com/event/tales-of-maadi-book-launch/
LOCATION:Diwan Maadi\, 1\, Rd. 254 (Off Rd. 213)\, Degla\, Maadi\, Cairo\, Egypt
CATEGORIES:Adults
ATTACH;FMTTYPE=image/jpeg:https://diwan.clue-digital.com/wp-content/uploads/2024/05/1-5-4-scaled.jpg
ORGANIZER;CN="Diwan":MAILTO:info@diwanegypt.com
END:VEVENT
BEGIN:VEVENT
DTSTART;TZID=Africa/Cairo:20240508T190000
DTEND;TZID=Africa/Cairo:20240508T210000
DTSTAMP:20260423T225944
CREATED:20240502T131204Z
LAST-MODIFIED:20240502T131311Z
UID:101534-1715194800-1715202000@diwan.clue-digital.com
SUMMARY:حفل إطلاق و حوار مذكرات الموسيقار الكبير محمد عبد الوهاب
DESCRIPTION:حفل إطلاق و حوار مذكرات الموسيقار الكبير محمد عبد الوهاب\nللكاتب الصحفي محمد دياب\nيدير اللقاء الكاتب أحمد القرملاوي\nالأربعاء ٨ مايو\n٧ مساءً\nديوان الزمالك
URL:https://diwan.clue-digital.com/event/%d8%ad%d9%81%d9%84-%d8%a5%d8%b7%d9%84%d8%a7%d9%82-%d9%88-%d8%ad%d9%88%d8%a7%d8%b1-%d9%85%d8%b0%d9%83%d8%b1%d8%a7%d8%aa-%d8%a7%d9%84%d9%85%d9%88%d8%b3%d9%8a%d9%82%d8%a7%d8%b1-%d8%a7%d9%84%d9%83%d8%a8/
LOCATION:Diwan Zamalek\, 159 26 July St\, Cairo\, Cairo\, 11568\, Egypt
CATEGORIES:Adults
ATTACH;FMTTYPE=image/jpeg:https://diwan.clue-digital.com/wp-content/uploads/2024/05/Abd-El-Wahab_Website.jpg
ORGANIZER;CN="Diwan":MAILTO:info@diwanegypt.com
END:VEVENT
BEGIN:VEVENT
DTSTART;TZID=Africa/Cairo:20240503T130000
DTEND;TZID=Africa/Cairo:20240503T140000
DTSTAMP:20260423T225944
CREATED:20240501T114503Z
LAST-MODIFIED:20240501T114503Z
UID:101371-1714741200-1714744800@diwan.clue-digital.com
SUMMARY:Storytelling with Fatma
DESCRIPTION:Storytelling with Fatma Omar\nFriday\, May 3\n1-2pm\nAge group: 3-5\nDiwan ElGouna\n170 LE
URL:https://diwan.clue-digital.com/event/storytelling-with-fatma/
LOCATION:Diwan Gouna\, Diwan Bookstore\, Unnamed Road\, Hurghada\, Red Sea Governorate\, Egypt
CATEGORIES:Children
ATTACH;FMTTYPE=image/jpeg:https://diwan.clue-digital.com/wp-content/uploads/2024/05/Website-18.jpg
ORGANIZER;CN="Diwan":MAILTO:info@diwanegypt.com
END:VEVENT
BEGIN:VEVENT
DTSTART;TZID=Africa/Cairo:20240430T190000
DTEND;TZID=Africa/Cairo:20240430T210000
DTSTAMP:20260423T225944
CREATED:20240424T180911Z
LAST-MODIFIED:20240424T180911Z
UID:101021-1714503600-1714510800@diwan.clue-digital.com
SUMMARY:تقديم كتاب المرأة العربية وقضية فلسطين
DESCRIPTION:تقديم كتاب المرأة العربية وقضية فلسطين من عام ١٩٣٨\nسنية شعراوي – مهجة قحف\nفي حوار مع شرين البنهاوي\nالثلاثاء ٣٠ أبريل\n٧ مساءً\nمسرح سينما راديو
URL:https://diwan.clue-digital.com/event/%d8%aa%d9%82%d8%af%d9%8a%d9%85-%d9%83%d8%aa%d8%a7%d8%a8-%d8%a7%d9%84%d9%85%d8%b1%d8%a3%d8%a9-%d8%a7%d9%84%d8%b9%d8%b1%d8%a8%d9%8a%d8%a9-%d9%88%d9%82%d8%b6%d9%8a%d8%a9-%d9%81%d9%84%d8%b3%d8%b7%d9%8a/
LOCATION:Diwan Cinema Radio\, ٢٤ طلعت حرب\, قصر النيل\, القاهرة\, مصر\, Cairo\, Egypt
CATEGORIES:Adults
ATTACH;FMTTYPE=image/jpeg:https://diwan.clue-digital.com/wp-content/uploads/2024/04/Website-17.jpg
ORGANIZER;CN="Diwan":MAILTO:info@diwanegypt.com
END:VEVENT
BEGIN:VEVENT
DTSTART;TZID=Africa/Cairo:20240429T190000
DTEND;TZID=Africa/Cairo:20240429T210000
DTSTAMP:20260423T225944
CREATED:20240406T092926Z
LAST-MODIFIED:20240406T092926Z
UID:98977-1714417200-1714424400@diwan.clue-digital.com
SUMMARY:Diwan Bookclub: Cleopatra and Frankenstein
DESCRIPTION:Diwan Book Club\nDate: Monday 29th\nTime: 7pm\nBranch: Zamalek\nEnglish Book: Cleopatra and Frankenstein \nDiwan Book Club Registration Form
URL:https://diwan.clue-digital.com/event/diwan-bookclub-cleopatra-and-frankenstein/
LOCATION:Diwan Zamalek\, 159 26 July St\, Cairo\, Cairo\, 11568\, Egypt
CATEGORIES:Book Clubs
ATTACH;FMTTYPE=image/jpeg:https://diwan.clue-digital.com/wp-content/uploads/2024/04/Book-Club-Event_Event-ENG-1.jpg
ORGANIZER;CN="Diwan":MAILTO:info@diwanegypt.com
END:VEVENT
BEGIN:VEVENT
DTSTART;TZID=Africa/Cairo:20240428T190000
DTEND;TZID=Africa/Cairo:20240428T210000
DTSTAMP:20260423T225944
CREATED:20240423T132546Z
LAST-MODIFIED:20240423T160401Z
UID:100926-1714330800-1714338000@diwan.clue-digital.com
SUMMARY:عن حياتهن... وعن مصر (السيّر الذاتية لنساء مصريات)
DESCRIPTION:عن حياتهن… وعن مصر (السيّر الذاتية لنساء مصريات)\nخالد منصور ونولة درويش\nتدير الحوار د. هدي الصدة\nالأحد ٢٨ أبريل\n٧ مساء\nديوان الزمالك
URL:https://diwan.clue-digital.com/event/%d8%b9%d9%86-%d8%ad%d9%8a%d8%a7%d8%aa%d9%87%d9%86-%d9%88%d8%b9%d9%86-%d9%85%d8%b5%d8%b1-%d8%a7%d9%84%d8%b3%d9%8a%d9%91%d8%b1-%d8%a7%d9%84%d8%b0%d8%a7%d8%aa%d9%8a%d8%a9-%d9%84%d9%86%d8%b3%d8%a7/
LOCATION:Diwan Zamalek\, 159 26 July St\, Cairo\, Cairo\, 11568\, Egypt
CATEGORIES:Adults
ATTACH;FMTTYPE=image/jpeg:https://diwan.clue-digital.com/wp-content/uploads/2024/04/Event_Website.jpg
ORGANIZER;CN="Diwan":MAILTO:info@diwanegypt.com
END:VEVENT
BEGIN:VEVENT
DTSTART;TZID=Africa/Cairo:20240427T190000
DTEND;TZID=Africa/Cairo:20240427T210000
DTSTAMP:20260423T225944
CREATED:20240418T153354Z
LAST-MODIFIED:20240418T153354Z
UID:100771-1714244400-1714251600@diwan.clue-digital.com
SUMMARY:حفل إطلاق ديوان وضع مُحرج
DESCRIPTION:حفل إطلاق\nديوان وضع مُحرج\nلعمر طاهر\nتدير اللقاء د. غادة لبيب\nالسبت ٢٧ أبريل\n٧ مساءً\nديوان الزمالك
URL:https://diwan.clue-digital.com/event/%d8%ad%d9%81%d9%84-%d8%a5%d8%b7%d9%84%d8%a7%d9%82-%d8%af%d9%8a%d9%88%d8%a7%d9%86-%d9%88%d8%b6%d8%b9-%d9%85%d9%8f%d8%ad%d8%b1%d8%ac/
LOCATION:Diwan Zamalek\, 159 26 July St\, Cairo\, Cairo\, 11568\, Egypt
CATEGORIES:Adults
ATTACH;FMTTYPE=image/jpeg:https://diwan.clue-digital.com/wp-content/uploads/2024/04/Website-15.jpg
ORGANIZER;CN="Diwan":MAILTO:info@diwanegypt.com
END:VEVENT
BEGIN:VEVENT
DTSTART;TZID=Africa/Cairo:20240426T113000
DTEND;TZID=Africa/Cairo:20240426T133000
DTSTAMP:20260423T225944
CREATED:20240422T112352Z
LAST-MODIFIED:20240422T112414Z
UID:100861-1714131000-1714138200@diwan.clue-digital.com
SUMMARY:Tales with Gramps and Grams
DESCRIPTION:Event title: Tales with Gramps and Grams\nProvider name: Diwan\nDate: 26\, April\nTime: 11:30am\nBranch: Zamalek
URL:https://diwan.clue-digital.com/event/tales-with-gramps-and-grams/
LOCATION:Diwan Zamalek\, 159 26 July St\, Cairo\, Cairo\, 11568\, Egypt
CATEGORIES:Children
ATTACH;FMTTYPE=image/jpeg:https://diwan.clue-digital.com/wp-content/uploads/2024/04/Website-16.jpg
ORGANIZER;CN="Diwan":MAILTO:info@diwanegypt.com
END:VEVENT
BEGIN:VEVENT
DTSTART;TZID=Africa/Cairo:20240424T190000
DTEND;TZID=Africa/Cairo:20240424T210000
DTSTAMP:20260423T225944
CREATED:20240406T092611Z
LAST-MODIFIED:20240406T092611Z
UID:98973-1713985200-1713992400@diwan.clue-digital.com
SUMMARY:نادي كتاب ديوان: عن فلسطين
DESCRIPTION: نادي كتاب ديوان\nالاربعاء: 24 ابريل\nالساعة 7 مساءاً\nكتاب: عن فلسطين لنعوم تشومسكي وايلان بابيه\nاستمارة مشاركة في نادي كتاب ديوان
URL:https://diwan.clue-digital.com/event/%d9%86%d8%a7%d8%af%d9%8a-%d9%83%d8%aa%d8%a7%d8%a8-%d8%af%d9%8a%d9%88%d8%a7%d9%86-%d8%b9%d9%86-%d9%81%d9%84%d8%b3%d8%b7%d9%8a%d9%86/
LOCATION:Diwan Cinema Radio\, ٢٤ طلعت حرب\, قصر النيل\, القاهرة\, مصر\, Cairo\, Egypt
CATEGORIES:Book Clubs
ATTACH;FMTTYPE=image/jpeg:https://diwan.clue-digital.com/wp-content/uploads/2024/04/Book-Club-Event_Event-AR.jpg
ORGANIZER;CN="Diwan":MAILTO:info@diwanegypt.com
END:VEVENT
BEGIN:VEVENT
DTSTART;TZID=Africa/Cairo:20240330T130000
DTEND;TZID=Africa/Cairo:20240330T160000
DTSTAMP:20260423T225944
CREATED:20240312T092125Z
LAST-MODIFIED:20240312T092125Z
UID:97653-1711803600-1711814400@diwan.clue-digital.com
SUMMARY:ورش حكي وأنشطة مع مصطبة الحكايات
DESCRIPTION:Event title: ورشة حكي وأنشطة\nProvider name: مصطبة الحكايات\nDate: March\, 30\nTime: 1pm\nBranch: Heliopolis\nPrice: 160 L.E
URL:https://diwan.clue-digital.com/event/%d9%88%d8%b1%d8%b4-%d8%ad%d9%83%d9%8a-%d9%88%d8%a3%d9%86%d8%b4%d8%b7%d8%a9-%d9%85%d8%b9-%d9%85%d8%b5%d8%b7%d8%a8%d8%a9-%d8%a7%d9%84%d8%ad%d9%83%d8%a7%d9%8a%d8%a7%d8%aa-2/
LOCATION:Diwan Heliopolis\, 105\, Abou Bakr El Seddiq St\, Heliopolis\, Cairo\, Egypt
CATEGORIES:Children
ATTACH;FMTTYPE=image/jpeg:https://diwan.clue-digital.com/wp-content/uploads/2024/03/Mastaba_Generic-Website.jpg
ORGANIZER;CN="Diwan":MAILTO:info@diwanegypt.com
END:VEVENT
BEGIN:VEVENT
DTSTART;TZID=Africa/Cairo:20240328T213000
DTEND;TZID=Africa/Cairo:20240328T233000
DTSTAMP:20260423T225944
CREATED:20240325T111113Z
LAST-MODIFIED:20240325T111113Z
UID:98147-1711661400-1711668600@diwan.clue-digital.com
SUMMARY:أمسية إنشاد صوفي مع "وِصَالْ"
DESCRIPTION:أمسية إنشاد صوفي مع “وِصَالْ”\nالخميس ٢٨ مارس\n٩:٣٠ مساءً\nممر سينما راديو
URL:https://diwan.clue-digital.com/event/%d8%a3%d9%85%d8%b3%d9%8a%d8%a9-%d8%a5%d9%86%d8%b4%d8%a7%d8%af-%d8%b5%d9%88%d9%81%d9%8a-%d9%85%d8%b9-%d9%88%d9%90%d8%b5%d9%8e%d8%a7%d9%84%d9%92/
LOCATION:Diwan Cinema Radio\, ٢٤ طلعت حرب\, قصر النيل\, القاهرة\, مصر\, Cairo\, Egypt
CATEGORIES:Adults
ATTACH;FMTTYPE=image/jpeg:https://diwan.clue-digital.com/wp-content/uploads/2024/03/Wesal_Website.jpg
ORGANIZER;CN="Diwan":MAILTO:info@diwanegypt.com
END:VEVENT
END:VCALENDAR