BEGIN:VCALENDAR
VERSION:2.0
PRODID:-//Diwan - ECPv6.15.11//NONSGML v1.0//EN
CALSCALE:GREGORIAN
METHOD:PUBLISH
X-WR-CALNAME:Diwan
X-ORIGINAL-URL:https://diwan.clue-digital.com
X-WR-CALDESC:Events for Diwan
REFRESH-INTERVAL;VALUE=DURATION:PT1H
X-Robots-Tag:noindex
X-PUBLISHED-TTL:PT1H
BEGIN:VTIMEZONE
TZID:Africa/Cairo
BEGIN:DAYLIGHT
TZOFFSETFROM:+0200
TZOFFSETTO:+0300
TZNAME:EEST
DTSTART:20230427T220000
END:DAYLIGHT
BEGIN:STANDARD
TZOFFSETFROM:+0300
TZOFFSETTO:+0200
TZNAME:EET
DTSTART:20231026T210000
END:STANDARD
BEGIN:DAYLIGHT
TZOFFSETFROM:+0200
TZOFFSETTO:+0300
TZNAME:EEST
DTSTART:20240425T220000
END:DAYLIGHT
BEGIN:STANDARD
TZOFFSETFROM:+0300
TZOFFSETTO:+0200
TZNAME:EET
DTSTART:20241031T210000
END:STANDARD
BEGIN:DAYLIGHT
TZOFFSETFROM:+0200
TZOFFSETTO:+0300
TZNAME:EEST
DTSTART:20250424T220000
END:DAYLIGHT
BEGIN:STANDARD
TZOFFSETFROM:+0300
TZOFFSETTO:+0200
TZNAME:EET
DTSTART:20251030T210000
END:STANDARD
END:VTIMEZONE
BEGIN:VEVENT
DTSTART;TZID=Africa/Cairo:20241101T190000
DTEND;TZID=Africa/Cairo:20241101T210000
DTSTAMP:20260423T200633
CREATED:20241026T081159Z
LAST-MODIFIED:20241026T081159Z
UID:111748-1730487600-1730494800@diwan.clue-digital.com
SUMMARY:حفل توقيع الغواص أبو حامد الغزالي
DESCRIPTION:حفل توقيع رواية الغواص أبو حامد الغزالي\nللدكتورة ريم بسيوني\nالجمعة ١ نوفمبر\nديوان الأسكندرية\n٧ مساءً
URL:https://diwan.clue-digital.com/event/%d8%ad%d9%81%d9%84-%d8%aa%d9%88%d9%82%d9%8a%d8%b9-%d8%a7%d9%84%d8%ba%d9%88%d8%a7%d8%b5-%d8%a3%d8%a8%d9%88-%d8%ad%d8%a7%d9%85%d8%af-%d8%a7%d9%84%d8%ba%d8%b2%d8%a7%d9%84%d9%8a/
LOCATION:Diwan City Centre\, Alexandria\, GA19 City Centre\, Alexandria Alexandria\, Egypt\, Alexandria\, Egypt
CATEGORIES:Adults
ATTACH;FMTTYPE=image/png:https://diwan.clue-digital.com/wp-content/uploads/2024/10/Website-thumbnail-2.png
ORGANIZER;CN="Diwan":MAILTO:info@diwanegypt.com
END:VEVENT
BEGIN:VEVENT
DTSTART;TZID=Africa/Cairo:20241030T190000
DTEND;TZID=Africa/Cairo:20241030T210000
DTSTAMP:20260423T200633
CREATED:20241020T134454Z
LAST-MODIFIED:20241020T134454Z
UID:111529-1730314800-1730322000@diwan.clue-digital.com
SUMMARY:INTRODUCING THE 1ST EDITION OF SAFE SPACES BOOK LAUNCH & DISCUSSION OF Menopostal
DESCRIPTION:INTRODUCING THE 1ST EDITION OF SAFE SPACES\nBOOK LAUNCH & DISCUSSION OF\nMenopostal\nNADINE ABOU ZAHR\nIN CONVERSATION WITH\nNADIA WASSEF\nWednesday\, Oct.30\nDiwan Zamalek\n7pm
URL:https://diwan.clue-digital.com/event/introducing-the-1st-edition-of-safe-spaces-book-launch-discussion-of-menopostal/
LOCATION:Diwan Zamalek\, 159 26 July St\, Cairo\, Cairo\, 11568\, Egypt
CATEGORIES:Adults
ATTACH;FMTTYPE=image/png:https://diwan.clue-digital.com/wp-content/uploads/2024/10/Website-Thumbnail.png
ORGANIZER;CN="Diwan":MAILTO:info@diwanegypt.com
END:VEVENT
BEGIN:VEVENT
DTSTART;TZID=Africa/Cairo:20241028T190000
DTEND;TZID=Africa/Cairo:20241028T210000
DTSTAMP:20260423T200633
CREATED:20241024T093743Z
LAST-MODIFIED:20241024T093743Z
UID:111684-1730142000-1730149200@diwan.clue-digital.com
SUMMARY:عام على وفاة ماثيو بيري مناقشة مذكراته أصدقاء وعشاق والشيء الرهيب
DESCRIPTION:عام على وفاة ماثيو بيري\nمناقشة مذكراته أصدقاء وعشاق والشيء الرهيب\nالمترجمة مريم عاشور وتناقشها غادة لبيب\nالأثنين ٢٨ أكتوبر\nديوان سينما راديو\n٧ مساءً
URL:https://diwan.clue-digital.com/event/%d8%b9%d8%a7%d9%85-%d8%b9%d9%84%d9%89-%d9%88%d9%81%d8%a7%d8%a9-%d9%85%d8%a7%d8%ab%d9%8a%d9%88-%d8%a8%d9%8a%d8%b1%d9%8a-%d9%85%d9%86%d8%a7%d9%82%d8%b4%d8%a9-%d9%85%d8%b0%d9%83%d8%b1%d8%a7%d8%aa%d9%87/
LOCATION:Diwan Cinema Radio\, ٢٤ طلعت حرب\, قصر النيل\, القاهرة\, مصر\, Cairo\, Egypt
CATEGORIES:Adults
ATTACH;FMTTYPE=image/png:https://diwan.clue-digital.com/wp-content/uploads/2024/10/websit-thumbnail-1.png
ORGANIZER;CN="Diwan":MAILTO:info@diwanegypt.com
END:VEVENT
BEGIN:VEVENT
DTSTART;TZID=Africa/Cairo:20241028T190000
DTEND;TZID=Africa/Cairo:20241028T210000
DTSTAMP:20260423T200633
CREATED:20241016T080718Z
LAST-MODIFIED:20241016T080739Z
UID:111374-1730142000-1730149200@diwan.clue-digital.com
SUMMARY:Book Relaunch of The Rime of the Ancient Mariner
DESCRIPTION:Book Relaunch of The Rime of the Ancient Mariner\nA poem by Samuel Taylor Coleridge\, translated and commented by Dr. Elmessiry and illustrated by Rabab Nimr\nA panel discussion and exhibition of the artist Rabab Nimr’s work\nMonday 28th of October\nDiwan Heliopolis\n7pm\n•The book sales will be donated to a Palestinian charity organization
URL:https://diwan.clue-digital.com/event/book-relaunch-of-the-rime-of-the-ancient-mariner/
LOCATION:Diwan Heliopolis\, 105\, Abou Bakr El Seddiq St\, Heliopolis\, Cairo\, Egypt
CATEGORIES:Adults
ATTACH;FMTTYPE=image/png:https://diwan.clue-digital.com/wp-content/uploads/2024/10/website-Thumbnail-1.png
ORGANIZER;CN="Diwan":MAILTO:info@diwanegypt.com
END:VEVENT
BEGIN:VEVENT
DTSTART;TZID=Africa/Cairo:20241026T190000
DTEND;TZID=Africa/Cairo:20241026T210000
DTSTAMP:20260423T200633
CREATED:20241002T084058Z
LAST-MODIFIED:20241003T173132Z
UID:110648-1729969200-1729976400@diwan.clue-digital.com
SUMMARY:حفل توقيع ونقاش كتاب هانية وأزواجها التمانية
DESCRIPTION:حفل إطلاق هانية وأزواجها التمانية\nمنى رضوان\nيناقشها الكاتبة فاطمة العوا\nالسبت ٢٦ أكتوبر\nديوان مصر الجديدة\n٧ مساءً
URL:https://diwan.clue-digital.com/event/%d8%ad%d9%81%d9%84-%d8%aa%d9%88%d9%82%d9%8a%d8%b9-%d9%88%d9%86%d9%82%d8%a7%d8%b4-%d9%83%d8%aa%d8%a7%d8%a8-%d9%87%d8%a7%d9%86%d9%8a%d8%a9-%d9%88%d8%a3%d8%b2%d9%88%d8%a7%d8%ac%d9%87%d8%a7-%d8%a7%d9%84/
LOCATION:Diwan Heliopolis\, 105\, Abou Bakr El Seddiq St\, Heliopolis\, Cairo\, Egypt
CATEGORIES:Adults
ATTACH;FMTTYPE=image/png:https://diwan.clue-digital.com/wp-content/uploads/2024/10/Websie-thumbnail-1.png
ORGANIZER;CN="Diwan":MAILTO:info@diwanegypt.com
END:VEVENT
BEGIN:VEVENT
DTSTART;TZID=Africa/Cairo:20241026T123000
DTEND;TZID=Africa/Cairo:20241026T143000
DTSTAMP:20260423T200633
CREATED:20241002T093903Z
LAST-MODIFIED:20241002T093903Z
UID:110654-1729945800-1729953000@diwan.clue-digital.com
SUMMARY:A trip with Nefert sousou
DESCRIPTION:A trip with Nefert sousou\nSalma Kamal\nSaturday 26 October\nDiwan Heliopolis\n12:30-2:30pm\n7-10 years\n750LE
URL:https://diwan.clue-digital.com/event/a-trip-with-nefert-sousou/
LOCATION:Diwan Heliopolis\, 105\, Abou Bakr El Seddiq St\, Heliopolis\, Cairo\, Egypt
CATEGORIES:Children
ATTACH;FMTTYPE=image/jpeg:https://diwan.clue-digital.com/wp-content/uploads/2024/10/Websie-thumbnail-Nefert-SouSou.jpg
ORGANIZER;CN="Diwan":MAILTO:info@diwanegypt.com
END:VEVENT
BEGIN:VEVENT
DTSTART;TZID=Africa/Cairo:20241025T110000
DTEND;TZID=Africa/Cairo:20241025T123000
DTSTAMP:20260423T200633
CREATED:20241021T165931Z
LAST-MODIFIED:20241024T120859Z
UID:111596-1729854000-1729859400@diwan.clue-digital.com
SUMMARY:حلوة ولا ملتوتة
DESCRIPTION:حلوة ولا ملتوتة\nby Bookly Ever After\nFriday * Oct\, 25*\nDiwan\, Heliopolis\n11:00am – 12:30pm\nAge group: 4-7\n400LE per session
URL:https://diwan.clue-digital.com/event/%d8%ad%d9%84%d9%88%d8%a9-%d9%88%d9%84%d8%a7-%d9%85%d9%84%d8%aa%d9%88%d8%aa%d8%a9-2/
LOCATION:Diwan Heliopolis\, 105\, Abou Bakr El Seddiq St\, Heliopolis\, Cairo\, Egypt
CATEGORIES:Children
ATTACH;FMTTYPE=image/png:https://diwan.clue-digital.com/wp-content/uploads/2024/10/Websie-thumbnail-1-1.png
ORGANIZER;CN="Diwan":MAILTO:info@diwanegypt.com
END:VEVENT
BEGIN:VEVENT
DTSTART;TZID=Africa/Cairo:20241020T190000
DTEND;TZID=Africa/Cairo:20241020T210000
DTSTAMP:20260423T200633
CREATED:20241020T132017Z
LAST-MODIFIED:20241020T132032Z
UID:111525-1729450800-1729458000@diwan.clue-digital.com
SUMMARY:ندوة مفتوحة مع الكاتب والشاعر حازم ويفي
DESCRIPTION:ندوة مفتوحة مع الكاتب والشاعر حازم ويفي\nتناقشه الشاعرة منة أبو زهرة\nوضيف الشرف الكاتب والشاعر أشرف توفيق\nالأحد ٢٠ أكتوبر\nديوان سينما راديو\n٧ مساءً
URL:https://diwan.clue-digital.com/event/%d9%86%d8%af%d9%88%d8%a9-%d9%85%d9%81%d8%aa%d9%88%d8%ad%d8%a9-%d9%85%d8%b9-%d8%a7%d9%84%d9%83%d8%a7%d8%aa%d8%a8-%d9%88%d8%a7%d9%84%d8%b4%d8%a7%d8%b9%d8%b1-%d8%ad%d8%a7%d8%b2%d9%85-%d9%88%d9%8a%d9%81/
LOCATION:Diwan Cinema Radio\, ٢٤ طلعت حرب\, قصر النيل\, القاهرة\, مصر\, Cairo\, Egypt
CATEGORIES:Adults
ATTACH;FMTTYPE=image/jpeg:https://diwan.clue-digital.com/wp-content/uploads/2024/10/Website-Thumbnail-.jpg
ORGANIZER;CN="Diwan":MAILTO:info@diwanegypt.com
END:VEVENT
BEGIN:VEVENT
DTSTART;TZID=Africa/Cairo:20241018T180000
DTEND;TZID=Africa/Cairo:20241018T200000
DTSTAMP:20260423T200633
CREATED:20241010T075336Z
LAST-MODIFIED:20241010T075336Z
UID:111025-1729274400-1729281600@diwan.clue-digital.com
SUMMARY:حفل توقيع ونقاش كتاب بدون فصل أخير
DESCRIPTION:حفل توقيع ومناقشة بدون فصل أخير\nسمر علي\nتناقشها الكاتبة نورا ناجي\nالجمعة ١٨ أكتوبر\nديوان الأسكندرية\n٦ مساءً
URL:https://diwan.clue-digital.com/event/%d8%ad%d9%81%d9%84-%d8%aa%d9%88%d9%82%d9%8a%d8%b9-%d9%88%d9%86%d9%82%d8%a7%d8%b4-%d9%83%d8%aa%d8%a7%d8%a8-%d8%a8%d8%af%d9%88%d9%86-%d9%81%d8%b5%d9%84-%d8%a3%d8%ae%d9%8a%d8%b1/
LOCATION:Diwan City Centre\, Alexandria\, GA19 City Centre\, Alexandria Alexandria\, Egypt\, Alexandria\, Egypt
CATEGORIES:Adults
ATTACH;FMTTYPE=image/jpeg:https://diwan.clue-digital.com/wp-content/uploads/2024/10/Bedon-fasl-akhir-Event.jpg
ORGANIZER;CN="Diwan":MAILTO:info@diwanegypt.com
END:VEVENT
BEGIN:VEVENT
DTSTART;TZID=Africa/Cairo:20241018T140000
DTEND;TZID=Africa/Cairo:20241018T150000
DTSTAMP:20260423T200634
CREATED:20241016T065614Z
LAST-MODIFIED:20241016T083822Z
UID:111368-1729260000-1729263600@diwan.clue-digital.com
SUMMARY:ورشة حكي للأطفال مع حتحت وقرقر‎
DESCRIPTION:ورشة حكي للأطفال مع حتحت وقرقر\nجيلان عباس\nالجمعة ١٨ أكتوبر\nديوان مصر الجديدة\n٢ مساءً
URL:https://diwan.clue-digital.com/event/%d9%88%d8%b1%d8%b4%d8%a9-%d8%ad%d9%83%d9%8a-%d9%84%d9%84%d8%a3%d8%b7%d9%81%d8%a7%d9%84-%d9%85%d8%b9-%d8%ad%d8%aa%d8%ad%d8%aa-%d9%88%d9%82%d8%b1%d9%82%d8%b1/
LOCATION:Diwan Heliopolis\, 105\, Abou Bakr El Seddiq St\, Heliopolis\, Cairo\, Egypt
CATEGORIES:Children
ATTACH;FMTTYPE=image/png:https://diwan.clue-digital.com/wp-content/uploads/2024/10/Website-thumbnail-.png
ORGANIZER;CN="Diwan":MAILTO:info@diwanegypt.com
END:VEVENT
BEGIN:VEVENT
DTSTART;TZID=Africa/Cairo:20241017T190000
DTEND;TZID=Africa/Cairo:20241017T210000
DTSTAMP:20260423T200634
CREATED:20240930T114152Z
LAST-MODIFIED:20240930T115446Z
UID:110546-1729191600-1729198800@diwan.clue-digital.com
SUMMARY:In a Parallel Universe book launch and signing
DESCRIPTION:In a Parallel Universe book launch and signing\nSamar Saadallah\nThursday 17th October\nDiwan Heliopolis\n7pm
URL:https://diwan.clue-digital.com/event/in-a-parallel-universe-book-launch-and-signing/
LOCATION:Diwan Heliopolis\, 105\, Abou Bakr El Seddiq St\, Heliopolis\, Cairo\, Egypt
CATEGORIES:Adults
ATTACH;FMTTYPE=image/png:https://diwan.clue-digital.com/wp-content/uploads/2024/09/website-2.png
ORGANIZER;CN="Diwan":MAILTO:info@diwanegypt.com
END:VEVENT
BEGIN:VEVENT
DTSTART;TZID=Africa/Cairo:20241013T180000
DTEND;TZID=Africa/Cairo:20241201T203000
DTSTAMP:20260423T200634
CREATED:20240912T150758Z
LAST-MODIFIED:20241013T131921Z
UID:109850-1728842400-1733085000@diwan.clue-digital.com
SUMMARY:Creative Expression Workshop
DESCRIPTION:2nd Edition of the Creative Expression workshop\nwith Sara Fawcet & Helene Awad-Wahba\n7 sessions every Sunday\nStarting 13 Oct\nInpact Egypt\, Abaza Building\, 3 Mohamed Mazhar st. in Zamalek\n6 – 8:30pm\n5000LE\nBook Here
URL:https://diwan.clue-digital.com/event/creative-expression-workshop/
LOCATION:Cairo
CATEGORIES:Adults
ATTACH;FMTTYPE=image/png:https://diwan.clue-digital.com/wp-content/uploads/2024/09/Thumbnail-Website-size.png
ORGANIZER;CN="Diwan":MAILTO:info@diwanegypt.com
END:VEVENT
BEGIN:VEVENT
DTSTART;TZID=Africa/Cairo:20241012T190000
DTEND;TZID=Africa/Cairo:20241012T210000
DTSTAMP:20260423T200634
CREATED:20240928T085721Z
LAST-MODIFIED:20240928T085721Z
UID:110468-1728759600-1728766800@diwan.clue-digital.com
SUMMARY:الأسطورة عند نجيب محفوظ في ليالي ألف ليلة
DESCRIPTION:ديوان محفوظ\nتقدمه هبة عبد العليم\nالأسطورة عند نجيب محفوظ في ليالي ألف ليلة\nمع منصورة عز الدين\nالسبت ١٢ أكتوبر\nديوان الزمالك\n٧ مساءً
URL:https://diwan.clue-digital.com/event/%d8%a7%d9%84%d8%a3%d8%b3%d8%b7%d9%88%d8%b1%d8%a9-%d8%b9%d9%86%d8%af-%d9%86%d8%ac%d9%8a%d8%a8-%d9%85%d8%ad%d9%81%d9%88%d8%b8-%d9%81%d9%8a-%d9%84%d9%8a%d8%a7%d9%84%d9%8a-%d8%a3%d9%84%d9%81-%d9%84%d9%8a/
LOCATION:Diwan Zamalek\, 159 26 July St\, Cairo\, Cairo\, 11568\, Egypt
CATEGORIES:Adults
ATTACH;FMTTYPE=image/jpeg:https://diwan.clue-digital.com/wp-content/uploads/2024/09/Diwan-Mahfouz-event_Event-scaled.jpg
ORGANIZER;CN="Diwan":MAILTO:info@diwanegypt.com
END:VEVENT
BEGIN:VEVENT
DTSTART;TZID=Africa/Cairo:20241011T110000
DTEND;TZID=Africa/Cairo:20241011T123000
DTSTAMP:20260423T200634
CREATED:20241003T175054Z
LAST-MODIFIED:20241003T175630Z
UID:110724-1728644400-1728649800@diwan.clue-digital.com
SUMMARY:Round 1 – حلوة ولا ملتوتة
DESCRIPTION:حلوة ولا ملتوتة\nby Bookly Ever After\nFriday * Oct\, 11*\nDiwan\, Heliopolis\n11:00am – 12:30pm\nAge group: 4-7\n400LE per session\nBook Here
URL:https://diwan.clue-digital.com/event/%d8%ad%d9%84%d9%88%d8%a9-%d9%88%d9%84%d8%a7-%d9%85%d9%84%d8%aa%d9%88%d8%aa%d8%a9-round-1/
LOCATION:Diwan Heliopolis\, 105\, Abou Bakr El Seddiq St\, Heliopolis\, Cairo\, Egypt
CATEGORIES:Children
ATTACH;FMTTYPE=image/jpeg:https://diwan.clue-digital.com/wp-content/uploads/2024/10/Websie-thumbnail-.jpg
ORGANIZER;CN="Diwan":MAILTO:info@diwanegypt.com
END:VEVENT
BEGIN:VEVENT
DTSTART;TZID=Africa/Cairo:20241007T193000
DTEND;TZID=Africa/Cairo:20241007T213000
DTSTAMP:20260423T200634
CREATED:20240922T100729Z
LAST-MODIFIED:20240922T100729Z
UID:110167-1728329400-1728336600@diwan.clue-digital.com
SUMMARY:Music Talks pt. 2
DESCRIPTION:Music Talks Series\nRock n Roll: From Africa and Back\nPresented by:\nShady Ahmed\nMonday\, Oct 7\n7:30pm\nDiwan Zamalek\nTalk language: English \nتقديم شادي احمد\nالاثنين ٧ اكتوبر\n٧:٣٠ مساء\nديوان الزمالك
URL:https://diwan.clue-digital.com/event/music-talks-pt-2/
LOCATION:Diwan Zamalek\, 159 26 July St\, Cairo\, Cairo\, 11568\, Egypt
CATEGORIES:Adults
ATTACH;FMTTYPE=image/png:https://diwan.clue-digital.com/wp-content/uploads/2024/09/Website-Event-Thumbnail.png
ORGANIZER;CN="Diwan":MAILTO:info@diwanegypt.com
END:VEVENT
BEGIN:VEVENT
DTSTART;TZID=Africa/Cairo:20241004T180000
DTEND;TZID=Africa/Cairo:20241004T200000
DTSTAMP:20260423T200634
CREATED:20241002T081852Z
LAST-MODIFIED:20241002T081852Z
UID:110641-1728064800-1728072000@diwan.clue-digital.com
SUMMARY:"Mindset to Startup" book discussion
DESCRIPTION:Book Discussion & Signing for\nMindset to Startup\nHani Naguib\nFriday Oct 4\nDiwan Alexandria\n6pm
URL:https://diwan.clue-digital.com/event/mindset-to-startup-book-discussion/
LOCATION:Diwan City Centre\, Alexandria\, GA19 City Centre\, Alexandria Alexandria\, Egypt\, Alexandria\, Egypt
CATEGORIES:Adults
ATTACH;FMTTYPE=image/png:https://diwan.clue-digital.com/wp-content/uploads/2024/10/Websie-thumbnail-.png
ORGANIZER;CN="Diwan":MAILTO:info@diwanegypt.com
END:VEVENT
BEGIN:VEVENT
DTSTART;TZID=Africa/Cairo:20241002T190000
DTEND;TZID=Africa/Cairo:20241004T170000
DTSTAMP:20260423T200634
CREATED:20240929T134409Z
LAST-MODIFIED:20240929T134409Z
UID:110512-1727895600-1728061200@diwan.clue-digital.com
SUMMARY:جولة توقيع رواية الغواص أبو حامد الغزالي
DESCRIPTION:جولة توقيع رواية الغواص أبو حامد الغزالي\nللدكتورة ريم بسيوني\nالأربعاء ٢ أكتوبر في ديوان مصر الجديدة ٧ مساءً\n(Downtown Mall)الخميس ٣ أكتوبر في ديوان التجمع الخامس ٧ مساءً\n(Capital Promenade) جمعة ٤ أكتوبر في ديوان الشيخ زايد ٦ مساءً\nالجمعة ٤ أكتوبر في ديوان الزمالك ٧ مساءً \nفي انتظاركم
URL:https://diwan.clue-digital.com/event/%d8%ac%d9%88%d9%84%d8%a9-%d8%aa%d9%88%d9%82%d9%8a%d8%b9-%d8%b1%d9%88%d8%a7%d9%8a%d8%a9-%d8%a7%d9%84%d8%ba%d9%88%d8%a7%d8%b5-%d8%a3%d8%a8%d9%88-%d8%ad%d8%a7%d9%85%d8%af-%d8%a7%d9%84%d8%ba%d8%b2%d8%a7/
LOCATION:Diwan Heliopolis\, 105\, Abou Bakr El Seddiq St\, Heliopolis\, Cairo\, Egypt
CATEGORIES:Adults
ATTACH;FMTTYPE=image/png:https://diwan.clue-digital.com/wp-content/uploads/2024/09/Website-1.png
ORGANIZER;CN="Diwan":MAILTO:info@diwanegypt.com
END:VEVENT
BEGIN:VEVENT
DTSTART;TZID=Africa/Cairo:20241001T190000
DTEND;TZID=Africa/Cairo:20241001T210000
DTSTAMP:20260423T200634
CREATED:20240928T091119Z
LAST-MODIFIED:20240928T091119Z
UID:110473-1727809200-1727816400@diwan.clue-digital.com
SUMMARY:حفل إطلاق كتاب طلبات
DESCRIPTION:حفل إطلاق كتاب طلبات\nالكاتب طارق علي طه\nويناقشه أ. بسنت شوقي\nالثلاثاء ١ أكتوبر\nديوان الزمالك\n٧ مساءً
URL:https://diwan.clue-digital.com/event/%d8%ad%d9%81%d9%84-%d8%a5%d8%b7%d9%84%d8%a7%d9%82-%d9%83%d8%aa%d8%a7%d8%a8-%d8%b7%d9%84%d8%a8%d8%a7%d8%aa/
LOCATION:Diwan Zamalek\, 159 26 July St\, Cairo\, Cairo\, 11568\, Egypt
CATEGORIES:Adults
ATTACH;FMTTYPE=image/png:https://diwan.clue-digital.com/wp-content/uploads/2024/09/Websie-thumbnail-2.png
ORGANIZER;CN="Diwan":MAILTO:info@diwanegypt.com
END:VEVENT
BEGIN:VEVENT
DTSTART;TZID=Africa/Cairo:20240929T190000
DTEND;TZID=Africa/Cairo:20240929T210000
DTSTAMP:20260423T200634
CREATED:20240923T091758Z
LAST-MODIFIED:20240923T091758Z
UID:110207-1727636400-1727643600@diwan.clue-digital.com
SUMMARY:حفل توقيع ونقاش كتاب مسارات متقاطعة
DESCRIPTION:حفل توقيع ومنقاشة مسارات متقاطعة\nزينب عبد الرزاق\nيناقشها د. مصطفى الفقي\nالأحد ٢٩ سبتمبر\nديوان الزمالك\n٧ مساءً
URL:https://diwan.clue-digital.com/event/%d8%ad%d9%81%d9%84-%d8%aa%d9%88%d9%82%d9%8a%d8%b9-%d9%88%d9%86%d9%82%d8%a7%d8%b4-%d9%83%d8%aa%d8%a7%d8%a8-%d9%85%d8%b3%d8%a7%d8%b1%d8%a7%d8%aa-%d9%85%d8%aa%d9%82%d8%a7%d8%b7%d8%b9%d8%a9/
LOCATION:Diwan Zamalek\, 159 26 July St\, Cairo\, Cairo\, 11568\, Egypt
CATEGORIES:Adults
ATTACH;FMTTYPE=image/png:https://diwan.clue-digital.com/wp-content/uploads/2024/09/Websie-thumbnail-1.png
ORGANIZER;CN="Diwan":MAILTO:info@diwanegypt.com
END:VEVENT
BEGIN:VEVENT
DTSTART;TZID=Africa/Cairo:20240927T110000
DTEND;TZID=Africa/Cairo:20240927T183000
DTSTAMP:20260423T200634
CREATED:20240821T082421Z
LAST-MODIFIED:20240829T111525Z
UID:108998-1727434800-1727461800@diwan.clue-digital.com
SUMMARY:The Artful You
DESCRIPTION:The Artful You!\nDiwan’s Inspirational Journaling Workshop\nShaymaa El-Gammal\nFriday\, September 27\nDiwan Heliopolis\n11am – 6:30pm\n1000LE\nBook Here
URL:https://diwan.clue-digital.com/event/the-artful-you/
LOCATION:Diwan Heliopolis\, 105\, Abou Bakr El Seddiq St\, Heliopolis\, Cairo\, Egypt
CATEGORIES:Adults
ATTACH;FMTTYPE=image/jpeg:https://diwan.clue-digital.com/wp-content/uploads/2024/08/artful.jpg
ORGANIZER;CN="Diwan":MAILTO:info@diwanegypt.com
END:VEVENT
BEGIN:VEVENT
DTSTART;TZID=Africa/Cairo:20240917T190000
DTEND;TZID=Africa/Cairo:20240917T210000
DTSTAMP:20260423T200634
CREATED:20240905T112720Z
LAST-MODIFIED:20240905T112720Z
UID:109605-1726599600-1726606800@diwan.clue-digital.com
SUMMARY:What is Narration?: Part 3
DESCRIPTION:What is Narration?\nA series brought to you by Diwan\nPart 3\nHow Theatre Stages Narratives\nAhmed El Attar in conversation with Farida Youssef\nCo-curated by Farida Youssef and Brigitte Boulad\nModerated by Farida Youssef\nTuesday 17 September\nRawabet Theatre\n5 Hussein Basha Al Meamari\, Marouf Downtown\n7pm
URL:https://diwan.clue-digital.com/event/what-is-narration-part-3/
LOCATION:Cairo
CATEGORIES:Adults
ATTACH;FMTTYPE=image/png:https://diwan.clue-digital.com/wp-content/uploads/2024/09/ما-هي-السردية-website.png
ORGANIZER;CN="Diwan":MAILTO:info@diwanegypt.com
END:VEVENT
BEGIN:VEVENT
DTSTART;TZID=Africa/Cairo:20240914T120000
DTEND;TZID=Africa/Cairo:20240914T150000
DTSTAMP:20260423T200634
CREATED:20240817T100006Z
LAST-MODIFIED:20240817T100829Z
UID:108907-1726315200-1726326000@diwan.clue-digital.com
SUMMARY:Fiction Workshop with Mai Serhan
DESCRIPTION:Fiction Workshop\nwith Mai Serhan\n6 weeks every Saturday\nStarting September 14\nDiwan Heliopolis\n12-3pm\n5000LE\nBook Here
URL:https://diwan.clue-digital.com/event/fiction-workshop-with-mai-serhan/
LOCATION:Diwan Heliopolis\, 105\, Abou Bakr El Seddiq St\, Heliopolis\, Cairo\, Egypt
CATEGORIES:Adults
ATTACH;FMTTYPE=image/png:https://diwan.clue-digital.com/wp-content/uploads/2024/08/Website-2.png
ORGANIZER;CN="Diwan":MAILTO:info@diwanegypt.com
END:VEVENT
BEGIN:VEVENT
DTSTART;TZID=Africa/Cairo:20240914T120000
DTEND;TZID=Africa/Cairo:20240914T140000
DTSTAMP:20260423T200634
CREATED:20240910T123900Z
LAST-MODIFIED:20240910T123900Z
UID:109794-1726315200-1726322400@diwan.clue-digital.com
SUMMARY:حفل اطلاق كتاب لما رقصت دليلة
DESCRIPTION:حفل اطلاق كتاب لما رقصت دليلة\nميراندا بشارة\nالسبت 14 سبتمبر\nديوان الزمالك\n١٢مساءً
URL:https://diwan.clue-digital.com/event/%d8%ad%d9%81%d9%84-%d8%a7%d8%b7%d9%84%d8%a7%d9%82-%d9%83%d8%aa%d8%a7%d8%a8-%d9%84%d9%85%d8%a7-%d8%b1%d9%82%d8%b5%d8%aa-%d8%af%d9%84%d9%8a%d9%84%d8%a9/
LOCATION:Diwan Zamalek\, 159 26 July St\, Cairo\, Cairo\, 11568\, Egypt
ATTACH;FMTTYPE=image/png:https://diwan.clue-digital.com/wp-content/uploads/2024/09/Website.png
END:VEVENT
BEGIN:VEVENT
DTSTART;TZID=Africa/Cairo:20240905T190000
DTEND;TZID=Africa/Cairo:20240905T210000
DTSTAMP:20260423T200634
CREATED:20240824T080410Z
LAST-MODIFIED:20240824T080715Z
UID:109097-1725562800-1725570000@diwan.clue-digital.com
SUMMARY:حفل توقيع ونقاش أعمال الكاتب خالد ذهني‎
DESCRIPTION:حفل توقيع ونقاش أعمال الكاتب د. خالد ذهني\nكتاب (سيزيرين – نبض جنين )\nالخميس ٥ سبتمبر\nديوان مصرالجديدة\n٧ مساءً
URL:https://diwan.clue-digital.com/event/%d8%ad%d9%81%d9%84-%d8%aa%d9%88%d9%82%d9%8a%d8%b9-%d9%88%d9%86%d9%82%d8%a7%d8%b4-%d8%a3%d8%b9%d9%85%d8%a7%d9%84-%d8%a7%d9%84%d9%83%d8%a7%d8%aa%d8%a8-%d8%ae%d8%a7%d9%84%d8%af-%d8%b0%d9%87%d9%86%d9%8a/
LOCATION:Diwan Heliopolis\, 105\, Abou Bakr El Seddiq St\, Heliopolis\, Cairo\, Egypt
CATEGORIES:Adults
ATTACH;FMTTYPE=image/jpeg:https://diwan.clue-digital.com/wp-content/uploads/2024/08/Khaled-Zohnys-event_Event-scaled.jpg
ORGANIZER;CN="Diwan":MAILTO:info@diwanegypt.com
END:VEVENT
BEGIN:VEVENT
DTSTART;TZID=Africa/Cairo:20240831T190000
DTEND;TZID=Africa/Cairo:20240831T210000
DTSTAMP:20260423T200634
CREATED:20240813T111748Z
LAST-MODIFIED:20240821T083033Z
UID:108608-1725130800-1725138000@diwan.clue-digital.com
SUMMARY:حكايات الأطفال مع منار هزاع
DESCRIPTION:حكايات للأطفال مع منار هزاع\nالسبت ١٧ أغسطس ١١ صباحًا\nالسبت ٣١ أغسطس الساعة ٧ مساءً\nديوان مصر الجديدة
URL:https://diwan.clue-digital.com/event/%d8%ad%d9%83%d8%a7%d9%8a%d8%a7%d8%aa-%d8%a7%d9%84%d8%a3%d8%b7%d9%81%d8%a7%d9%84-%d9%85%d8%b9-%d9%85%d9%86%d8%a7%d8%b1-%d9%87%d8%b2%d8%a7%d8%b9/
LOCATION:Diwan Heliopolis\, 105\, Abou Bakr El Seddiq St\, Heliopolis\, Cairo\, Egypt
CATEGORIES:Children
ATTACH;FMTTYPE=image/png:https://diwan.clue-digital.com/wp-content/uploads/2024/08/منار-هزاع-website-Thumbnail.png
ORGANIZER;CN="Diwan":MAILTO:info@diwanegypt.com
END:VEVENT
BEGIN:VEVENT
DTSTART;TZID=Africa/Cairo:20240824T170000
DTEND;TZID=Africa/Cairo:20240824T200000
DTSTAMP:20260423T200634
CREATED:20240804T092436Z
LAST-MODIFIED:20240808T142929Z
UID:107644-1724518800-1724529600@diwan.clue-digital.com
SUMMARY:Art Journaling Workshop
DESCRIPTION:Art Journaling Workshop\nSalma Shurrab\nSaturday August 24th\nDiwan Heliopolis\n5-8 pm\n750LE\nBook Here
URL:https://diwan.clue-digital.com/event/art-journaling-workshop/
LOCATION:Diwan Heliopolis\, 105\, Abou Bakr El Seddiq St\, Heliopolis\, Cairo\, Egypt
CATEGORIES:Adults
ATTACH;FMTTYPE=image/png:https://diwan.clue-digital.com/wp-content/uploads/2024/08/Thumbnail-Website-banner.png
ORGANIZER;CN="Diwan":MAILTO:info@diwanegypt.com
END:VEVENT
BEGIN:VEVENT
DTSTART;TZID=Africa/Cairo:20240820T190000
DTEND;TZID=Africa/Cairo:20240820T210000
DTSTAMP:20260423T200634
CREATED:20240815T153249Z
LAST-MODIFIED:20240815T153249Z
UID:108869-1724180400-1724187600@diwan.clue-digital.com
SUMMARY:حفل إطلاق ومناقشة كتاب "في عرض الطريق
DESCRIPTION:الحلقة الثانية من سلسلة ندوات “التنقل في المدينة”\nحفل إطلاق ومناقشة كتاب “في عرض الطريق\nد. داليا وهدان  و د. لمياء بلبل\nويناقشهما الباحث الإقتصادي محمد جاد\nالثلاثاء ٢٠ أغسطس\nديوان الزمالك\n٧ مساءً
URL:https://diwan.clue-digital.com/event/%d8%ad%d9%81%d9%84-%d8%a5%d8%b7%d9%84%d8%a7%d9%82-%d9%88%d9%85%d9%86%d8%a7%d9%82%d8%b4%d8%a9-%d9%83%d8%aa%d8%a7%d8%a8-%d9%81%d9%8a-%d8%b9%d8%b1%d8%b6-%d8%a7%d9%84%d8%b7%d8%b1%d9%8a%d9%82/
LOCATION:Diwan Heliopolis\, 105\, Abou Bakr El Seddiq St\, Heliopolis\, Cairo\, Egypt
CATEGORIES:Adults
ATTACH;FMTTYPE=image/png:https://diwan.clue-digital.com/wp-content/uploads/2024/08/في-عرض-الطريق-website-Thumbnail.png
ORGANIZER;CN="Diwan":MAILTO:info@diwanegypt.com
END:VEVENT
BEGIN:VEVENT
DTSTART;TZID=Africa/Cairo:20240814T180000
DTEND;TZID=Africa/Cairo:20240814T210000
DTSTAMP:20260423T200634
CREATED:20240727T123431Z
LAST-MODIFIED:20240727T123431Z
UID:107406-1723658400-1723669200@diwan.clue-digital.com
SUMMARY:Comic Course
DESCRIPTION:Comic Course\nMohamed Wahba El Shenawy\nWednesday August 14\nDiwan Heliopolis\n6pm – 9pm\n500LE\nBook Here
URL:https://diwan.clue-digital.com/event/comic-course/
LOCATION:Diwan Heliopolis\, 105\, Abou Bakr El Seddiq St\, Heliopolis\, Cairo\, Egypt
CATEGORIES:Adults
ATTACH;FMTTYPE=image/png:https://diwan.clue-digital.com/wp-content/uploads/2024/07/Website-Event-Thumbnail-1.png
ORGANIZER;CN="Diwan":MAILTO:info@diwanegypt.com
END:VEVENT
BEGIN:VEVENT
DTSTART;TZID=Africa/Cairo:20240810T130000
DTEND;TZID=Africa/Cairo:20240810T150000
DTSTAMP:20260423T200634
CREATED:20240731T141600Z
LAST-MODIFIED:20240731T141600Z
UID:107555-1723294800-1723302000@diwan.clue-digital.com
SUMMARY:لقاء مفتوح مع د. ريم بسيوني
DESCRIPTION:لقاء مفتوح مع د. ريم بسيوني\nالسبت ١٠ أغسطس\n١ ظهراً\nديوان، الدبلوماسيين ٣
URL:https://diwan.clue-digital.com/event/%d9%84%d9%82%d8%a7%d8%a1-%d9%85%d9%81%d8%aa%d9%88%d8%ad-%d9%85%d8%b9-%d8%af-%d8%b1%d9%8a%d9%85-%d8%a8%d8%b3%d9%8a%d9%88%d9%86%d9%8a/
LOCATION:Diwan Sahel\, Diplomats’ Compound 3\, Alex-Marsa Matrouh Rd. (Km 126)\, Sidi Abdel Rahman\, Sahel\, North Coast\, Egypt
CATEGORIES:Adults
ATTACH;FMTTYPE=image/png:https://diwan.clue-digital.com/wp-content/uploads/2024/07/Website-Event-Thumbnail-4.png
ORGANIZER;CN="Diwan":MAILTO:info@diwanegypt.com
END:VEVENT
BEGIN:VEVENT
DTSTART;TZID=Africa/Cairo:20240809T190000
DTEND;TZID=Africa/Cairo:20240809T213000
DTSTAMP:20260423T200634
CREATED:20240808T101740Z
LAST-MODIFIED:20240808T102312Z
UID:108382-1723230000-1723239000@diwan.clue-digital.com
SUMMARY:أطول من العمر... الفقد عبر ثلاثة كتب
DESCRIPTION:مناقشة حول كتب\nكتاب “عن الأسى والتأسي” وكتاب “بدون فصل أخير” وكتاب “33 عن الفقد والرهاب”\nشادي عبد العزيز و سمر علي و مينا ناجي\nالجمعة ٩ أغسطس\nديوان مصر الجديدة\n٧ مساءً
URL:https://diwan.clue-digital.com/event/%d8%a3%d8%b7%d9%88%d9%84-%d9%85%d9%86-%d8%a7%d9%84%d8%b9%d9%85%d8%b1-%d8%a7%d9%84%d9%81%d9%82%d8%af-%d8%b9%d8%a8%d8%b1-%d8%ab%d9%84%d8%a7%d8%ab%d8%a9-%d9%83%d8%aa%d8%a8/
LOCATION:Diwan Heliopolis\, 105\, Abou Bakr El Seddiq St\, Heliopolis\, Cairo\, Egypt
CATEGORIES:Adults
ATTACH;FMTTYPE=image/jpeg:https://diwan.clue-digital.com/wp-content/uploads/2024/08/Event_Website-2.jpg
END:VEVENT
END:VCALENDAR