BEGIN:VCALENDAR
VERSION:2.0
PRODID:-//Diwan - ECPv6.15.11//NONSGML v1.0//EN
CALSCALE:GREGORIAN
METHOD:PUBLISH
X-WR-CALNAME:Diwan
X-ORIGINAL-URL:https://diwan.clue-digital.com
X-WR-CALDESC:Events for Diwan
REFRESH-INTERVAL;VALUE=DURATION:PT1H
X-Robots-Tag:noindex
X-PUBLISHED-TTL:PT1H
BEGIN:VTIMEZONE
TZID:Africa/Cairo
BEGIN:DAYLIGHT
TZOFFSETFROM:+0200
TZOFFSETTO:+0300
TZNAME:EEST
DTSTART:20240425T220000
END:DAYLIGHT
BEGIN:STANDARD
TZOFFSETFROM:+0300
TZOFFSETTO:+0200
TZNAME:EET
DTSTART:20241031T210000
END:STANDARD
BEGIN:DAYLIGHT
TZOFFSETFROM:+0200
TZOFFSETTO:+0300
TZNAME:EEST
DTSTART:20250424T220000
END:DAYLIGHT
BEGIN:STANDARD
TZOFFSETFROM:+0300
TZOFFSETTO:+0200
TZNAME:EET
DTSTART:20251030T210000
END:STANDARD
BEGIN:DAYLIGHT
TZOFFSETFROM:+0200
TZOFFSETTO:+0300
TZNAME:EEST
DTSTART:20260423T220000
END:DAYLIGHT
BEGIN:STANDARD
TZOFFSETFROM:+0300
TZOFFSETTO:+0200
TZNAME:EET
DTSTART:20261029T210000
END:STANDARD
END:VTIMEZONE
BEGIN:VEVENT
DTSTART;TZID=Africa/Cairo:20250206T163000
DTEND;TZID=Africa/Cairo:20250206T180000
DTSTAMP:20260421T231634
CREATED:20250129T144226Z
LAST-MODIFIED:20250129T145227Z
UID:116635-1738859400-1738864800@diwan.clue-digital.com
SUMMARY:Doll Dressmaking Workshop For Children
DESCRIPTION:A crafty workshop\, where children will receive their own plain dolls. Each child will learn how to design dresses\, accessories and personalize their dolls. A great opportunity on a Thursday afternoon for siblings and friends to gather around to create hands-on and playful experience.\nkids – 6-12 years\nBook Here
URL:https://diwan.clue-digital.com/event/doll-dressmaking-workshop-for-children/
LOCATION:Diwan Heliopolis\, 105\, Abou Bakr El Seddiq St\, Heliopolis\, Cairo\, Egypt
CATEGORIES:Children
ATTACH;FMTTYPE=image/png:https://diwan.clue-digital.com/wp-content/uploads/2025/01/9786010063235.png
ORGANIZER;CN="Diwan":MAILTO:info@diwanegypt.com
END:VEVENT
BEGIN:VEVENT
DTSTART;TZID=Africa/Cairo:20250213T163000
DTEND;TZID=Africa/Cairo:20250213T180000
DTSTAMP:20260421T231634
CREATED:20250129T144422Z
LAST-MODIFIED:20250129T145245Z
UID:116638-1739464200-1739469600@diwan.clue-digital.com
SUMMARY:Glam & Gather Workshop
DESCRIPTION:A great way of introducing the significance of accessories in outfits to young fashionistas. In this interactive workshop\, Marwa will instruct the children to create an accessory of their choice.\nkids – 6-12 years\nBook Here
URL:https://diwan.clue-digital.com/event/glam-gather-workshop/
LOCATION:Diwan Heliopolis\, 105\, Abou Bakr El Seddiq St\, Heliopolis\, Cairo\, Egypt
CATEGORIES:Children
ATTACH;FMTTYPE=image/png:https://diwan.clue-digital.com/wp-content/uploads/2025/01/9786010063242-1.png
ORGANIZER;CN="Diwan":MAILTO:info@diwanegypt.com
END:VEVENT
BEGIN:VEVENT
DTSTART;TZID=Africa/Cairo:20250215T113000
DTEND;TZID=Africa/Cairo:20250215T123000
DTSTAMP:20260421T231634
CREATED:20250210T094122Z
LAST-MODIFIED:20250210T094122Z
UID:117423-1739619000-1739622600@diwan.clue-digital.com
SUMMARY:حفلة حكي يوم من غير عسل
DESCRIPTION:حفلة حكي يوم من غير عسل\nمع المترجمة سلمى هلال\nالسبت ١٥ فبراير\n١١:٣٠ صباحاً\nديوان مچرة، زايد
URL:https://diwan.clue-digital.com/event/%d8%ad%d9%81%d9%84%d8%a9-%d8%ad%d9%83%d9%8a-%d9%8a%d9%88%d9%85-%d9%85%d9%86-%d8%ba%d9%8a%d8%b1-%d8%b9%d8%b3%d9%84/
LOCATION:Diwan Majarrah\, Block 12 26th of July Corridor\, First Al Sheikh Zayed\, Giza\,Egypt\, Giza\, Egypt
CATEGORIES:Children
ATTACH;FMTTYPE=image/png:https://diwan.clue-digital.com/wp-content/uploads/2025/02/Website-12.png
ORGANIZER;CN="Diwan":MAILTO:info@diwanegypt.com
END:VEVENT
BEGIN:VEVENT
DTSTART;TZID=Africa/Cairo:20250220T163000
DTEND;TZID=Africa/Cairo:20250220T180000
DTSTAMP:20260421T231634
CREATED:20250129T144824Z
LAST-MODIFIED:20250129T145259Z
UID:116645-1740069000-1740074400@diwan.clue-digital.com
SUMMARY:Inspire and Create workshop
DESCRIPTION:An interactive and fun workshop that will help children connect with their surroundings. The children will explore a variety of resources to inspire their designs; from nature\, to trends in their culture. Marwa will guide them to creating a mood-board of their favorite and most inspiring fashion elements.\nkids – 6-12 years\nBook Here
URL:https://diwan.clue-digital.com/event/inspire-and-create-workshop/
LOCATION:Diwan Heliopolis\, 105\, Abou Bakr El Seddiq St\, Heliopolis\, Cairo\, Egypt
CATEGORIES:Children
ATTACH;FMTTYPE=image/png:https://diwan.clue-digital.com/wp-content/uploads/2025/01/9786010063259.png
ORGANIZER;CN="Diwan":MAILTO:info@diwanegypt.com
END:VEVENT
BEGIN:VEVENT
DTSTART;TZID=Africa/Cairo:20250221T160000
DTEND;TZID=Africa/Cairo:20250221T170000
DTSTAMP:20260421T231634
CREATED:20250212T121902Z
LAST-MODIFIED:20250212T121902Z
UID:117594-1740153600-1740157200@diwan.clue-digital.com
SUMMARY:Ramadan Cookie Decoration (Capital Zayed)
DESCRIPTION:This session is a fantastic opportunity to prepare children for Ramadan. Mennatullah\, the Chef and Founder of Kookiedoo\, will teach the children the basic cookie decorating techniques. Each child will receive a box of butter-based cookies (in the shape of crescents\, Masjids\, moons\, and fanoos)\, and a set of icing pipes\, sprinkles\, glitter & sugar pearls to start their decorating journey.\nBook Here
URL:https://diwan.clue-digital.com/event/ramadan-cookie-decoration-capital-zayed/
LOCATION:Diwan Capital Business Park\, Capital Business park plot-15-16 Sheikh Zayed City\, 6th of October\, Cairo\, Cairo\, Egypt
CATEGORIES:Children
ATTACH;FMTTYPE=image/png:https://diwan.clue-digital.com/wp-content/uploads/2025/02/2.png
ORGANIZER;CN="Diwan":MAILTO:info@diwanegypt.com
END:VEVENT
BEGIN:VEVENT
DTSTART;TZID=Africa/Cairo:20250222T110000
DTEND;TZID=Africa/Cairo:20250222T123000
DTSTAMP:20260421T231634
CREATED:20250216T142755Z
LAST-MODIFIED:20250216T142755Z
UID:117770-1740222000-1740227400@diwan.clue-digital.com
SUMMARY:Get Ready For Ramadan with Shereen
DESCRIPTION:“🌙✨ Join us on a magical journey to explore Ramadan through storytelling\, crafts\, and role-playing! Discover what Ramadan is all about and why it’s such a blissful time. Dive into the vibrant Egyptian culture with tales of the mesa7araty and fanoos\, and meet our beloved Ramadan characters\, Boogy and Tamtam. Let’s learn\, create\, and celebrate the spirit of Ramadan together! 🌟🕌🌙”\nBook Here
URL:https://diwan.clue-digital.com/event/get-ready-for-ramadan-with-shereen/
CATEGORIES:Children
ATTACH;FMTTYPE=image/png:https://diwan.clue-digital.com/wp-content/uploads/2025/02/Website-Shereen-EL-Kady.png
ORGANIZER;CN="Diwan":MAILTO:info@diwanegypt.com
END:VEVENT
BEGIN:VEVENT
DTSTART;TZID=Africa/Cairo:20250227T160000
DTEND;TZID=Africa/Cairo:20250227T183000
DTSTAMP:20260421T231634
CREATED:20250129T145133Z
LAST-MODIFIED:20250223T094201Z
UID:116648-1740672000-1740681000@diwan.clue-digital.com
SUMMARY:Ramadan Crafts Workshop
DESCRIPTION:Get your child ready for the wonderful Ramadan spirits with Marwa Lotfy. The children will get an opportunity to design and make their own prayer mats alongside other activities.\nkids – 6-12 years\nBook Here
URL:https://diwan.clue-digital.com/event/ramadan-crafts-workshop/
LOCATION:Diwan Heliopolis\, 105\, Abou Bakr El Seddiq St\, Heliopolis\, Cairo\, Egypt
CATEGORIES:Children
ATTACH;FMTTYPE=image/png:https://diwan.clue-digital.com/wp-content/uploads/2025/01/New-Website-Banner-Marwa-Lotfy.png
ORGANIZER;CN="Diwan":MAILTO:info@diwanegypt.com
END:VEVENT
BEGIN:VEVENT
DTSTART;TZID=Africa/Cairo:20250228T150000
DTEND;TZID=Africa/Cairo:20250228T160000
DTSTAMP:20260421T231634
CREATED:20250212T122623Z
LAST-MODIFIED:20250212T122623Z
UID:117597-1740754800-1740758400@diwan.clue-digital.com
SUMMARY:Ramadan Cookie Decoration (Zamalek)
DESCRIPTION:This session is a fantastic opportunity to prepare children for Ramadan. Mennatullah\, the Chef and Founder of Kookiedoo\, will teach the children the basic cookie decorating techniques. Each child will receive a box of butter-based cookies (in the shape of crescents\, Masjids\, moons\, and fanoos)\, and a set of icing pipes\, sprinkles\, glitter & sugar pearls to start their decorating journey.\nBook Here
URL:https://diwan.clue-digital.com/event/ramadan-cookie-decoration-zamalek/
LOCATION:Diwan Zamalek\, 159 26 July St\, Cairo\, Cairo\, 11568\, Egypt
CATEGORIES:Children
ATTACH;FMTTYPE=image/png:https://diwan.clue-digital.com/wp-content/uploads/2025/02/1.png
ORGANIZER;CN="Diwan":MAILTO:info@diwanegypt.com
END:VEVENT
END:VCALENDAR