BEGIN:VCALENDAR
VERSION:2.0
PRODID:-//Diwan - ECPv6.15.11//NONSGML v1.0//EN
CALSCALE:GREGORIAN
METHOD:PUBLISH
X-ORIGINAL-URL:https://diwan.clue-digital.com
X-WR-CALDESC:Events for Diwan
REFRESH-INTERVAL;VALUE=DURATION:PT1H
X-Robots-Tag:noindex
X-PUBLISHED-TTL:PT1H
BEGIN:VTIMEZONE
TZID:Africa/Cairo
BEGIN:DAYLIGHT
TZOFFSETFROM:+0200
TZOFFSETTO:+0300
TZNAME:EEST
DTSTART:20230427T220000
END:DAYLIGHT
BEGIN:STANDARD
TZOFFSETFROM:+0300
TZOFFSETTO:+0200
TZNAME:EET
DTSTART:20231026T210000
END:STANDARD
BEGIN:DAYLIGHT
TZOFFSETFROM:+0200
TZOFFSETTO:+0300
TZNAME:EEST
DTSTART:20240425T220000
END:DAYLIGHT
BEGIN:STANDARD
TZOFFSETFROM:+0300
TZOFFSETTO:+0200
TZNAME:EET
DTSTART:20241031T210000
END:STANDARD
END:VTIMEZONE
BEGIN:VEVENT
DTSTART;TZID=Africa/Cairo:20230201T190000
DTEND;TZID=Africa/Cairo:20230201T200000
DTSTAMP:20260423T150255
CREATED:20230115T211839Z
LAST-MODIFIED:20230115T211839Z
UID:76210-1675278000-1675281600@diwan.clue-digital.com
SUMMARY:12 Rules For Life Workshop
DESCRIPTION:12 Rules for Life Workshop with Nevine Rostom\nWednesday\, 1 Feb\nDiwan\, Heliopolis\n7-8pm\nBook your place here! \nDescription:\nAbout the event:\nEvery new year you hear about or buy books about self-exploration and improvement and wish to read them\, but never do? This year\, it’s finally going to happen. Every first Wednesday of the month Nevine Rostom\, Corporate Trainer & Career Coach\, will be giving a workshop about a different self-help book at Diwan Heliopolis. This month will be about the book: 12 Rules For Life. \nAbout the instructor:\nNevine Rostom is a Corporate Trainer & Career Coach. She has 17 years of experience in creating & delivering programs that help her multinational clients with taking decisions\, personal branding & growing their skills; in 3 languages : French\, English & Arabic. She has been leading her own book club for over a year & growing a community that not only learns from the books insights\, but also applies them & grows for a positive impact on their own life & those around them.\nFor more about Nevine:\nhttps://nevinezaherrostom.com/about/
URL:https://diwan.clue-digital.com/event/12-rules-for-life-workshop/
LOCATION:Diwan Heliopolis\, 105\, Abou Bakr El Seddiq St\, Heliopolis\, Cairo\, Egypt
CATEGORIES:Adults
ATTACH;FMTTYPE=image/jpeg:https://diwan.clue-digital.com/wp-content/uploads/2023/01/Website-Thumbnail.jpg
ORGANIZER;CN="Diwan":MAILTO:info@diwanegypt.com
END:VEVENT
BEGIN:VEVENT
DTSTART;TZID=Africa/Cairo:20230128T190000
DTEND;TZID=Africa/Cairo:20230128T210000
DTSTAMP:20260423T150255
CREATED:20230115T215001Z
LAST-MODIFIED:20230115T215001Z
UID:76218-1674932400-1674939600@diwan.clue-digital.com
SUMMARY:حفل إطلاق الفهامة
DESCRIPTION:حفل إطلاق الفهامة\nشهاب الخشاب\nالسبت ٢٨ يناير\n٧ مساء\nديوان سينما راديو \nDescription:\nحفل إطلاق كتاب “الفهامة” أحدث إصدارات دار ديوان للنشر \nAbout the author:\nشهاب الخشاب، كاتب وباحث وأستاذ مساعد في مجال الأنثروبولوجيا البصرية في جامعة أكسفورد، له العديد من المقالات في مجال السينما والميديا والثقافة الشعبية.
URL:https://diwan.clue-digital.com/event/%d8%ad%d9%81%d9%84-%d8%a5%d8%b7%d9%84%d8%a7%d9%82-%d8%a7%d9%84%d9%81%d9%87%d8%a7%d9%85%d8%a9/
CATEGORIES:Adults
ATTACH;FMTTYPE=image/jpeg:https://diwan.clue-digital.com/wp-content/uploads/2023/01/Website.jpg
ORGANIZER;CN="Diwan":MAILTO:info@diwanegypt.com
END:VEVENT
BEGIN:VEVENT
DTSTART;TZID=Africa/Cairo:20230118T190000
DTEND;TZID=Africa/Cairo:20230118T210000
DTSTAMP:20260423T150255
CREATED:20230115T221722Z
LAST-MODIFIED:20230115T221722Z
UID:76221-1674068400-1674075600@diwan.clue-digital.com
SUMMARY:في حضرة بهاء طاهر
DESCRIPTION:في حضرة بهاء طاهر\nالأربعاء ١٨ يناير\n٧ مساء\nديوان الزمالك \nبمناسبة ذكرى ميلاد الأديب الكبير بهاء طاهر، تستضيف مكتبة ديوان أمسية بعنوان «في حضرة بهاء طاهر» بصحبة أسرة الأديب وحضور أدباء يتناولون أعماله ومسيرته المفعمة بالإبداع والعطاء:\nشعبان يوسف\nمنصورة عزالدين\nرشا سمير\nأحمد القرملاوي \nتدعوكم ديوان لحضور الأمسية، لنلتفُّ خلالها حول طاولة بهاء طاهر في ديوان الزمالك، الطاولة التي كان يجلس إليها قارئًا ومبدعًا. \nالأربعاء ١٨ يناير ٢٠٢٣ الساعة ٧:٠٠ م في مكتبة ديوان فرع الزمالك.
URL:https://diwan.clue-digital.com/event/%d9%81%d9%8a-%d8%ad%d8%b6%d8%b1%d8%a9-%d8%a8%d9%87%d8%a7%d8%a1-%d8%b7%d8%a7%d9%87%d8%b1/
LOCATION:Diwan Zamalek\, 159 26 July St\, Cairo\, Cairo\, 11568\, Egypt
CATEGORIES:Adults
ATTACH;FMTTYPE=image/jpeg:https://diwan.clue-digital.com/wp-content/uploads/2023/01/Bahaa-Taher.jpg
ORGANIZER;CN="Diwan":MAILTO:info@diwanegypt.com
END:VEVENT
BEGIN:VEVENT
DTSTART;TZID=Africa/Cairo:20220429T150000
DTEND;TZID=Africa/Cairo:20220429T170000
DTSTAMP:20260423T150255
CREATED:20220425T130434Z
LAST-MODIFIED:20220425T130506Z
UID:62405-1651244400-1651251600@diwan.clue-digital.com
SUMMARY:Blossoming Kindness Book Reading & Ramadan Food Packaging With Yasmine Hammad
DESCRIPTION:
URL:https://diwan.clue-digital.com/event/blossoming-kindness-book-reading-ramadan-food-packaging/
LOCATION:Diwan Maadi\, 1\, Rd. 254 (Off Rd. 213)\, Degla\, Maadi\, Cairo\, Egypt
CATEGORIES:Adults,Children
ATTACH;FMTTYPE=image/png:https://diwan.clue-digital.com/wp-content/uploads/2022/04/Blossoming-Kindness_Web-Thumbnail.png
ORGANIZER;CN="Diwan":MAILTO:info@diwanegypt.com
END:VEVENT
END:VCALENDAR