BEGIN:VCALENDAR
VERSION:2.0
PRODID:-//Diwan - ECPv6.15.11//NONSGML v1.0//EN
CALSCALE:GREGORIAN
METHOD:PUBLISH
X-WR-CALNAME:Diwan
X-ORIGINAL-URL:https://diwan.clue-digital.com
X-WR-CALDESC:Events for Diwan
REFRESH-INTERVAL;VALUE=DURATION:PT1H
X-Robots-Tag:noindex
X-PUBLISHED-TTL:PT1H
BEGIN:VTIMEZONE
TZID:Africa/Cairo
BEGIN:DAYLIGHT
TZOFFSETFROM:+0200
TZOFFSETTO:+0300
TZNAME:EEST
DTSTART:20240425T220000
END:DAYLIGHT
BEGIN:STANDARD
TZOFFSETFROM:+0300
TZOFFSETTO:+0200
TZNAME:EET
DTSTART:20241031T210000
END:STANDARD
BEGIN:DAYLIGHT
TZOFFSETFROM:+0200
TZOFFSETTO:+0300
TZNAME:EEST
DTSTART:20250424T220000
END:DAYLIGHT
BEGIN:STANDARD
TZOFFSETFROM:+0300
TZOFFSETTO:+0200
TZNAME:EET
DTSTART:20251030T210000
END:STANDARD
BEGIN:DAYLIGHT
TZOFFSETFROM:+0200
TZOFFSETTO:+0300
TZNAME:EEST
DTSTART:20260423T220000
END:DAYLIGHT
BEGIN:STANDARD
TZOFFSETFROM:+0300
TZOFFSETTO:+0200
TZNAME:EET
DTSTART:20261029T210000
END:STANDARD
END:VTIMEZONE
BEGIN:VEVENT
DTSTART;TZID=Africa/Cairo:20250707T080000
DTEND;TZID=Africa/Cairo:20250730T170000
DTSTAMP:20260422T083831
CREATED:20250625T125512Z
LAST-MODIFIED:20250716T141045Z
UID:124055-1751875200-1753894800@diwan.clue-digital.com
SUMMARY:ورشة الكوميكس مع محمد وهبة
DESCRIPTION:ورشة الكوميكس مع محمد وهبةالإثنين و الأربعاء لمدة ٤ أسابيعبداية من ٧ يوليوديوان مصر الجديدة٦ مساءً – ٩ مساءً٣٤٢٠جنيه\nورشة الكوميكس مع محمد وهبة
URL:https://diwan.clue-digital.com/event/%d9%88%d8%b1%d8%b4%d8%a9-%d8%a7%d9%84%d9%83%d9%88%d9%85%d9%8a%d9%83%d8%b3-%d9%85%d8%b9-%d9%85%d8%ad%d9%85%d8%af-%d9%88%d9%87%d8%a8%d8%a9/
LOCATION:Diwan Heliopolis\, 105\, Abou Bakr El Seddiq St\, Heliopolis\, Cairo\, Egypt
CATEGORIES:Adults
ATTACH;FMTTYPE=image/jpeg:https://diwan.clue-digital.com/wp-content/uploads/2025/06/Website-28.jpg
ORGANIZER;CN="Diwan":MAILTO:info@diwanegypt.com
END:VEVENT
BEGIN:VEVENT
DTSTART;TZID=Africa/Cairo:20250714T190000
DTEND;TZID=Africa/Cairo:20250714T210000
DTSTAMP:20260422T083831
CREATED:20250708T160204Z
LAST-MODIFIED:20250711T155539Z
UID:125189-1752519600-1752526800@diwan.clue-digital.com
SUMMARY:سلسلة لقاءات حياتنا من المباني للمعاني اللقاء الأول : حب الحياة من المنظور الصوفي
DESCRIPTION:سلسلة لقاءات رحلاتنا من المادة الي المعنىاللقاء الأول: الحياة من المنظور الصوفي\nمع أ.د وليد غنيم\nباحث في العلوم النفس روحية والصوفيةالإثنين ١٤ يوليوديوان سيتي سنتر الإسكندرية٧ مساءً
URL:https://diwan.clue-digital.com/event/%d8%b3%d9%84%d8%b3%d9%84%d8%a9-%d9%84%d9%82%d8%a7%d8%a1%d8%a7%d8%aa-%d8%ad%d9%8a%d8%a7%d8%aa%d9%86%d8%a7-%d9%85%d9%86-%d8%a7%d9%84%d9%85%d8%a8%d8%a7%d9%86%d9%8a-%d9%84%d9%84%d9%85%d8%b9%d8%a7%d9%86/
LOCATION:Diwan City Centre\, Alexandria\, GA19 City Centre\, Alexandria Alexandria\, Egypt\, Alexandria\, Egypt
CATEGORIES:Adults
ATTACH;FMTTYPE=image/jpeg:https://diwan.clue-digital.com/wp-content/uploads/2025/07/حب-الحياة-من-المنظور-الصوفيwebsite2.jpg
ORGANIZER;CN="Diwan":MAILTO:info@diwanegypt.com
END:VEVENT
BEGIN:VEVENT
DTSTART;TZID=Africa/Cairo:20250714T190000
DTEND;TZID=Africa/Cairo:20250714T210000
DTSTAMP:20260422T083831
CREATED:20250709T112628Z
LAST-MODIFIED:20250709T112628Z
UID:125254-1752519600-1752526800@diwan.clue-digital.com
SUMMARY:لقاء مفتوح ونقاش كتاب 6 مفاتيح للتعامل مع المراهقين
DESCRIPTION:لقاء مفتوح ونقاش كتاب 6 مفاتيح للتعامل مع المراهقينالإثنين ١٤ يوليوديوان مصر الجديدة٧ مساءً
URL:https://diwan.clue-digital.com/event/%d9%84%d9%82%d8%a7%d8%a1-%d9%85%d9%81%d8%aa%d9%88%d8%ad-%d9%88%d9%86%d9%82%d8%a7%d8%b4-%d9%83%d8%aa%d8%a7%d8%a8-6-%d9%85%d9%81%d8%a7%d8%aa%d9%8a%d8%ad-%d9%84%d9%84%d8%aa%d8%b9%d8%a7%d9%85%d9%84-%d9%85/
LOCATION:Diwan Heliopolis\, 105\, Abou Bakr El Seddiq St\, Heliopolis\, Cairo\, Egypt
CATEGORIES:Adults
ATTACH;FMTTYPE=image/jpeg:https://diwan.clue-digital.com/wp-content/uploads/2025/07/مفاتيح-التعامل-مع-المراهقينwebsite.jpg
ORGANIZER;CN="Diwan":MAILTO:info@diwanegypt.com
END:VEVENT
END:VCALENDAR