BEGIN:VCALENDAR
VERSION:2.0
PRODID:-//Diwan - ECPv6.15.11//NONSGML v1.0//EN
CALSCALE:GREGORIAN
METHOD:PUBLISH
X-ORIGINAL-URL:https://diwan.clue-digital.com
X-WR-CALDESC:Events for Diwan
REFRESH-INTERVAL;VALUE=DURATION:PT1H
X-Robots-Tag:noindex
X-PUBLISHED-TTL:PT1H
BEGIN:VTIMEZONE
TZID:Africa/Cairo
BEGIN:DAYLIGHT
TZOFFSETFROM:+0200
TZOFFSETTO:+0300
TZNAME:EEST
DTSTART:20240425T220000
END:DAYLIGHT
BEGIN:STANDARD
TZOFFSETFROM:+0300
TZOFFSETTO:+0200
TZNAME:EET
DTSTART:20241031T210000
END:STANDARD
BEGIN:DAYLIGHT
TZOFFSETFROM:+0200
TZOFFSETTO:+0300
TZNAME:EEST
DTSTART:20250424T220000
END:DAYLIGHT
BEGIN:STANDARD
TZOFFSETFROM:+0300
TZOFFSETTO:+0200
TZNAME:EET
DTSTART:20251030T210000
END:STANDARD
BEGIN:DAYLIGHT
TZOFFSETFROM:+0200
TZOFFSETTO:+0300
TZNAME:EEST
DTSTART:20260423T220000
END:DAYLIGHT
BEGIN:STANDARD
TZOFFSETFROM:+0300
TZOFFSETTO:+0200
TZNAME:EET
DTSTART:20261029T210000
END:STANDARD
END:VTIMEZONE
BEGIN:VEVENT
DTSTART;TZID=Africa/Cairo:20250625T190000
DTEND;TZID=Africa/Cairo:20250625T210000
DTSTAMP:20260421T145953
CREATED:20250612T080612Z
LAST-MODIFIED:20250612T080612Z
UID:123570-1750878000-1750885200@diwan.clue-digital.com
SUMMARY:Within talk series
DESCRIPTION:The” Within” talk series focuses on exploring the field of self developmentCurated by Shahinaz Ahmed\, an educator and seekerPowered by DiwanOur first guest speaker Eman Mandour\, an internationally accredited systemic coachWednesday 25th JuneDiwan Zamalek7pm
URL:https://diwan.clue-digital.com/event/within-talk-series/
LOCATION:Diwan Zamalek\, 159 26 July St\, Cairo\, Cairo\, 11568\, Egypt
CATEGORIES:Adults
ATTACH;FMTTYPE=image/jpeg:https://diwan.clue-digital.com/wp-content/uploads/2025/06/Website-9.jpg
ORGANIZER;CN="Diwan":MAILTO:info@diwanegypt.com
END:VEVENT
END:VCALENDAR