BEGIN:VCALENDAR
VERSION:2.0
PRODID:-//Diwan - ECPv6.15.11//NONSGML v1.0//EN
CALSCALE:GREGORIAN
METHOD:PUBLISH
X-WR-CALNAME:Diwan
X-ORIGINAL-URL:https://diwan.clue-digital.com
X-WR-CALDESC:Events for Diwan
REFRESH-INTERVAL;VALUE=DURATION:PT1H
X-Robots-Tag:noindex
X-PUBLISHED-TTL:PT1H
BEGIN:VTIMEZONE
TZID:Africa/Cairo
BEGIN:DAYLIGHT
TZOFFSETFROM:+0200
TZOFFSETTO:+0300
TZNAME:EEST
DTSTART:20240425T220000
END:DAYLIGHT
BEGIN:STANDARD
TZOFFSETFROM:+0300
TZOFFSETTO:+0200
TZNAME:EET
DTSTART:20241031T210000
END:STANDARD
BEGIN:DAYLIGHT
TZOFFSETFROM:+0200
TZOFFSETTO:+0300
TZNAME:EEST
DTSTART:20250424T220000
END:DAYLIGHT
BEGIN:STANDARD
TZOFFSETFROM:+0300
TZOFFSETTO:+0200
TZNAME:EET
DTSTART:20251030T210000
END:STANDARD
BEGIN:DAYLIGHT
TZOFFSETFROM:+0200
TZOFFSETTO:+0300
TZNAME:EEST
DTSTART:20260423T220000
END:DAYLIGHT
BEGIN:STANDARD
TZOFFSETFROM:+0300
TZOFFSETTO:+0200
TZNAME:EET
DTSTART:20261029T210000
END:STANDARD
END:VTIMEZONE
BEGIN:VEVENT
DTSTART;TZID=Africa/Cairo:20250613T180000
DTEND;TZID=Africa/Cairo:20250613T200000
DTSTAMP:20260421T075809
CREATED:20250604T092523Z
LAST-MODIFIED:20250604T092523Z
UID:123358-1749837600-1749844800@diwan.clue-digital.com
SUMMARY:حكايات فى ظل المقامات .. من منظور مرشدة سياحية
DESCRIPTION:حكايات فى ظل المقامات .. من منظور مرشدة سياحيةلقاء مفتوح تتحدث فيه المرشدة السياحية نسرين البنا عن أشهر الجوامع فى الاسكندرية و حكايات من واقع عملها كمرشدة سياحية وبعض من الانطباعات عن تلك الأماكن المعروفة وربما المجهولة عند كثير من الناسالجمعة ١٣ يونيوديوان سيتى سنتر إسكندرية٦ مساءً
URL:https://diwan.clue-digital.com/event/%d8%ad%d9%83%d8%a7%d9%8a%d8%a7%d8%aa-%d9%81%d9%89-%d8%b8%d9%84-%d8%a7%d9%84%d9%85%d9%82%d8%a7%d9%85%d8%a7%d8%aa-%d9%85%d9%86-%d9%85%d9%86%d8%b8%d9%88%d8%b1-%d9%85%d8%b1%d8%b4%d8%af%d8%a9-%d8%b3/
LOCATION:Diwan City Centre\, Alexandria\, GA19 City Centre\, Alexandria Alexandria\, Egypt\, Alexandria\, Egypt
CATEGORIES:Adults
ATTACH;FMTTYPE=image/jpeg:https://diwan.clue-digital.com/wp-content/uploads/2025/06/Event_Website-5.jpg
ORGANIZER;CN="Diwan":MAILTO:info@diwanegypt.com
END:VEVENT
END:VCALENDAR