BEGIN:VCALENDAR
VERSION:2.0
PRODID:-//Diwan - ECPv6.15.11//NONSGML v1.0//EN
CALSCALE:GREGORIAN
METHOD:PUBLISH
X-WR-CALNAME:Diwan
X-ORIGINAL-URL:https://diwan.clue-digital.com
X-WR-CALDESC:Events for Diwan
REFRESH-INTERVAL;VALUE=DURATION:PT1H
X-Robots-Tag:noindex
X-PUBLISHED-TTL:PT1H
BEGIN:VTIMEZONE
TZID:Africa/Cairo
BEGIN:DAYLIGHT
TZOFFSETFROM:+0200
TZOFFSETTO:+0300
TZNAME:EEST
DTSTART:20240425T220000
END:DAYLIGHT
BEGIN:STANDARD
TZOFFSETFROM:+0300
TZOFFSETTO:+0200
TZNAME:EET
DTSTART:20241031T210000
END:STANDARD
BEGIN:DAYLIGHT
TZOFFSETFROM:+0200
TZOFFSETTO:+0300
TZNAME:EEST
DTSTART:20250424T220000
END:DAYLIGHT
BEGIN:STANDARD
TZOFFSETFROM:+0300
TZOFFSETTO:+0200
TZNAME:EET
DTSTART:20251030T210000
END:STANDARD
BEGIN:DAYLIGHT
TZOFFSETFROM:+0200
TZOFFSETTO:+0300
TZNAME:EEST
DTSTART:20260423T220000
END:DAYLIGHT
BEGIN:STANDARD
TZOFFSETFROM:+0300
TZOFFSETTO:+0200
TZNAME:EET
DTSTART:20261029T210000
END:STANDARD
END:VTIMEZONE
BEGIN:VEVENT
DTSTART;TZID=Africa/Cairo:20250509T130000
DTEND;TZID=Africa/Cairo:20250509T160000
DTSTAMP:20260423T135728
CREATED:20250422T145905Z
LAST-MODIFIED:20250422T145905Z
UID:121139-1746795600-1746806400@diwan.clue-digital.com
SUMMARY:ورشة الكتابة الإبداعية غير الخياليّة
DESCRIPTION:ورشة الكتابة الإبداعية غير الخياليّةمينا ناجيFriday 9th MayDiwan Heliopolis1-4 pm2500 L.E
URL:https://diwan.clue-digital.com/event/%d9%88%d8%b1%d8%b4%d8%a9-%d8%a7%d9%84%d9%83%d8%aa%d8%a7%d8%a8%d8%a9-%d8%a7%d9%84%d8%a5%d8%a8%d8%af%d8%a7%d8%b9%d9%8a%d8%a9-%d8%ba%d9%8a%d8%b1-%d8%a7%d9%84%d8%ae%d9%8a%d8%a7%d9%84%d9%8a%d9%91%d8%a9/
LOCATION:Diwan Heliopolis\, 105\, Abou Bakr El Seddiq St\, Heliopolis\, Cairo\, Egypt
CATEGORIES:Adults
ATTACH;FMTTYPE=image/png:https://diwan.clue-digital.com/wp-content/uploads/2025/04/website-15.png
ORGANIZER;CN="Diwan":MAILTO:info@diwanegypt.com
END:VEVENT
BEGIN:VEVENT
DTSTART;TZID=Africa/Cairo:20250509T190000
DTEND;TZID=Africa/Cairo:20250509T210000
DTSTAMP:20260423T135728
CREATED:20250506T092803Z
LAST-MODIFIED:20250506T092803Z
UID:122163-1746817200-1746824400@diwan.clue-digital.com
SUMMARY:حفل توقيع ومناقشة رواية الحصيد
DESCRIPTION:حفل توقيع ومناقشة رواية الحصيدمع الكاتب يوسف زيدانالجمعة ٩ مايوديوان سيتى سنتر إسكندرية٧ مساءً
URL:https://diwan.clue-digital.com/event/%d8%ad%d9%81%d9%84-%d8%aa%d9%88%d9%82%d9%8a%d8%b9-%d9%88%d9%85%d9%86%d8%a7%d9%82%d8%b4%d8%a9-%d8%b1%d9%88%d8%a7%d9%8a%d8%a9-%d8%a7%d9%84%d8%ad%d8%b5%d9%8a%d8%af/
LOCATION:Cairo
CATEGORIES:Adults
ATTACH;FMTTYPE=image/png:https://diwan.clue-digital.com/wp-content/uploads/2025/05/Website-22.png
ORGANIZER;CN="Diwan":MAILTO:info@diwanegypt.com
END:VEVENT
END:VCALENDAR