BEGIN:VCALENDAR
VERSION:2.0
PRODID:-//Diwan - ECPv6.15.11//NONSGML v1.0//EN
CALSCALE:GREGORIAN
METHOD:PUBLISH
X-ORIGINAL-URL:https://diwan.clue-digital.com
X-WR-CALDESC:Events for Diwan
REFRESH-INTERVAL;VALUE=DURATION:PT1H
X-Robots-Tag:noindex
X-PUBLISHED-TTL:PT1H
BEGIN:VTIMEZONE
TZID:Africa/Cairo
BEGIN:DAYLIGHT
TZOFFSETFROM:+0200
TZOFFSETTO:+0300
TZNAME:EEST
DTSTART:20240425T220000
END:DAYLIGHT
BEGIN:STANDARD
TZOFFSETFROM:+0300
TZOFFSETTO:+0200
TZNAME:EET
DTSTART:20241031T210000
END:STANDARD
BEGIN:DAYLIGHT
TZOFFSETFROM:+0200
TZOFFSETTO:+0300
TZNAME:EEST
DTSTART:20250424T220000
END:DAYLIGHT
BEGIN:STANDARD
TZOFFSETFROM:+0300
TZOFFSETTO:+0200
TZNAME:EET
DTSTART:20251030T210000
END:STANDARD
BEGIN:DAYLIGHT
TZOFFSETFROM:+0200
TZOFFSETTO:+0300
TZNAME:EEST
DTSTART:20260423T220000
END:DAYLIGHT
BEGIN:STANDARD
TZOFFSETFROM:+0300
TZOFFSETTO:+0200
TZNAME:EET
DTSTART:20261029T210000
END:STANDARD
END:VTIMEZONE
BEGIN:VEVENT
DTSTART;TZID=Africa/Cairo:20250408T190000
DTEND;TZID=Africa/Cairo:20250408T210000
DTSTAMP:20260423T135056
CREATED:20250405T093049Z
LAST-MODIFIED:20250405T093049Z
UID:119904-1744138800-1744146000@diwan.clue-digital.com
SUMMARY:حفل توقيع ومناقشة رواية حتى الموت
DESCRIPTION:حفل توقيع ومناقشة رواية حتى الموتالمؤلفة راكيل روبلس وتناقشها دكتورة هبة شريف الثلاثاء ٨ أبريلديوان الزمالك٧ مساءً
URL:https://diwan.clue-digital.com/event/%d8%ad%d9%81%d9%84-%d8%aa%d9%88%d9%82%d9%8a%d8%b9-%d9%88%d9%85%d9%86%d8%a7%d9%82%d8%b4%d8%a9-%d8%b1%d9%88%d8%a7%d9%8a%d8%a9-%d8%ad%d8%aa%d9%89-%d8%a7%d9%84%d9%85%d9%88%d8%aa/
LOCATION:Diwan Zamalek\, 159 26 July St\, Cairo\, Cairo\, 11568\, Egypt
CATEGORIES:Adults
ATTACH;FMTTYPE=image/png:https://diwan.clue-digital.com/wp-content/uploads/2025/04/Website-12.png
ORGANIZER;CN="Diwan":MAILTO:info@diwanegypt.com
END:VEVENT
BEGIN:VEVENT
DTSTART;TZID=Africa/Cairo:20250409T190000
DTEND;TZID=Africa/Cairo:20250409T210000
DTSTAMP:20260423T135056
CREATED:20250405T093527Z
LAST-MODIFIED:20250405T093527Z
UID:119907-1744225200-1744232400@diwan.clue-digital.com
SUMMARY:حفل توقيع ومناقشة كتاب وأجمل الذكريات ستأتي حتماً
DESCRIPTION:حفل توقيع ومناقشة كتاب وأجمل الذكريات ستأتي حتماًالمؤلفة نولا درويشفرع الزمالك\nيوم الأربعاء ٩ أبريل٧ مساءً
URL:https://diwan.clue-digital.com/event/%d8%ad%d9%81%d9%84-%d8%aa%d9%88%d9%82%d9%8a%d8%b9-%d9%88%d9%85%d9%86%d8%a7%d9%82%d8%b4%d8%a9-%d9%83%d8%aa%d8%a7%d8%a8-%d9%88%d8%a3%d8%ac%d9%85%d9%84-%d8%a7%d9%84%d8%b0%d9%83%d8%b1%d9%8a%d8%a7%d8%aa/
LOCATION:Diwan Zamalek\, 159 26 July St\, Cairo\, Cairo\, 11568\, Egypt
CATEGORIES:Adults
ATTACH;FMTTYPE=image/png:https://diwan.clue-digital.com/wp-content/uploads/2025/04/website-13.png
ORGANIZER;CN="Diwan":MAILTO:info@diwanegypt.com
END:VEVENT
BEGIN:VEVENT
DTSTART;TZID=Africa/Cairo:20250412T110000
DTEND;TZID=Africa/Cairo:20250412T140000
DTSTAMP:20260423T135056
CREATED:20250407T091544Z
LAST-MODIFIED:20250407T091544Z
UID:119971-1744455600-1744466400@diwan.clue-digital.com
SUMMARY:From Heart To Story
DESCRIPTION:Join Yasmine and Wahba in creating wonderful recollections of stories for your children.\nThis unique workshop will guide attendees in writing a short story for their children.\nEquipping them with social-emotional tools\, writing techniques\, and instructions on how to illustrate their books.
URL:https://diwan.clue-digital.com/event/from-heart-to-story/
LOCATION:Diwan Majarrah\, Block 12 26th of July Corridor\, First Al Sheikh Zayed\, Giza\,Egypt\, Giza\, Egypt
CATEGORIES:Adults
ATTACH;FMTTYPE=image/png:https://diwan.clue-digital.com/wp-content/uploads/2025/04/Website-From-Heart-To-story.png
ORGANIZER;CN="Diwan":MAILTO:info@diwanegypt.com
END:VEVENT
BEGIN:VEVENT
DTSTART;TZID=Africa/Cairo:20250423T190000
DTEND;TZID=Africa/Cairo:20250423T210000
DTSTAMP:20260423T135056
CREATED:20250405T103416Z
LAST-MODIFIED:20250405T103416Z
UID:119912-1745434800-1745442000@diwan.clue-digital.com
SUMMARY:حفل توقيع ومناقشة كتاب وأجمل الذكريات ستأتي حتماً
DESCRIPTION:حفل توقيع ومناقشة كتاب وأجمل الذكريات ستأتي حتماًالمؤلفة نولا درويشفرع مصر الجديدة\nيوم الأربعاء ٢٣ أبريل٧ مساءً
URL:https://diwan.clue-digital.com/event/%d8%ad%d9%81%d9%84-%d8%aa%d9%88%d9%82%d9%8a%d8%b9-%d9%88%d9%85%d9%86%d8%a7%d9%82%d8%b4%d8%a9-%d9%83%d8%aa%d8%a7%d8%a8-%d9%88%d8%a3%d8%ac%d9%85%d9%84-%d8%a7%d9%84%d8%b0%d9%83%d8%b1%d9%8a%d8%a7%d8%aa-2/
LOCATION:Diwan Heliopolis\, 105\, Abou Bakr El Seddiq St\, Heliopolis\, Cairo\, Egypt
CATEGORIES:Adults
ATTACH;FMTTYPE=image/png:https://diwan.clue-digital.com/wp-content/uploads/2025/04/website-13.png
END:VEVENT
BEGIN:VEVENT
DTSTART;TZID=Africa/Cairo:20250426T190000
DTEND;TZID=Africa/Cairo:20250426T210000
DTSTAMP:20260423T135056
CREATED:20250422T132025Z
LAST-MODIFIED:20250422T132025Z
UID:121084-1745694000-1745701200@diwan.clue-digital.com
SUMMARY:حفل توقيع ومناقشة كتاب أخوية الطبقة المتوسطة
DESCRIPTION:حفل توقيع ومناقشة كتاب أخوية الطبقة المتوسطةالكاتب عمر طاهر تناقشه الكاتبة نورا ناجي السبت ٢٦ أبريلديوان زمالك٧ مساءً
URL:https://diwan.clue-digital.com/event/%d8%ad%d9%81%d9%84-%d8%aa%d9%88%d9%82%d9%8a%d8%b9-%d9%88%d9%85%d9%86%d8%a7%d9%82%d8%b4%d8%a9-%d9%83%d8%aa%d8%a7%d8%a8-%d8%a3%d8%ae%d9%88%d9%8a%d8%a9-%d8%a7%d9%84%d8%b7%d8%a8%d9%82%d8%a9-%d8%a7%d9%84/
LOCATION:Diwan Zamalek\, 159 26 July St\, Cairo\, Cairo\, 11568\, Egypt
CATEGORIES:Adults
ATTACH;FMTTYPE=image/png:https://diwan.clue-digital.com/wp-content/uploads/2025/04/website-14.png
ORGANIZER;CN="Diwan":MAILTO:info@diwanegypt.com
END:VEVENT
BEGIN:VEVENT
DTSTART;TZID=Africa/Cairo:20250427T190000
DTEND;TZID=Africa/Cairo:20250427T210000
DTSTAMP:20260423T135056
CREATED:20250422T150142Z
LAST-MODIFIED:20250422T150142Z
UID:121143-1745780400-1745787600@diwan.clue-digital.com
SUMMARY:Threads of Hope
DESCRIPTION:“Threads of Hope”: Reweaving the fashion systemwith Ethics. Margarita Andrade in conversation with Laura DayoubSunday 27th AprilDiwan Zamalek7pm
URL:https://diwan.clue-digital.com/event/threads-of-hope/
LOCATION:Diwan Zamalek\, 159 26 July St\, Cairo\, Cairo\, 11568\, Egypt
CATEGORIES:Adults
ATTACH;FMTTYPE=image/png:https://diwan.clue-digital.com/wp-content/uploads/2025/04/website-16.png
ORGANIZER;CN="Diwan":MAILTO:info@diwanegypt.com
END:VEVENT
BEGIN:VEVENT
DTSTART;TZID=Africa/Cairo:20250428T190000
DTEND;TZID=Africa/Cairo:20250428T210000
DTSTAMP:20260423T135056
CREATED:20250422T131731Z
LAST-MODIFIED:20250422T131731Z
UID:121081-1745866800-1745874000@diwan.clue-digital.com
SUMMARY:حفل توقيع ومناقشة الليلة الكبيرة
DESCRIPTION:حفل توقيع ومناقشة الليلة الكبيرةمحمد الفوليمع نورا ناجي و محمد عبد الجوادالأثنين ٢٨ أبريلديوان مصر الجديدة٧ مساءً
URL:https://diwan.clue-digital.com/event/%d8%ad%d9%81%d9%84-%d8%aa%d9%88%d9%82%d9%8a%d8%b9-%d9%88%d9%85%d9%86%d8%a7%d9%82%d8%b4%d8%a9-%d8%a7%d9%84%d9%84%d9%8a%d9%84%d8%a9-%d8%a7%d9%84%d9%83%d8%a8%d9%8a%d8%b1%d8%a9/
LOCATION:Diwan Heliopolis\, 105\, Abou Bakr El Seddiq St\, Heliopolis\, Cairo\, Egypt
CATEGORIES:Adults
ATTACH;FMTTYPE=image/png:https://diwan.clue-digital.com/wp-content/uploads/2025/04/wessite.png
ORGANIZER;CN="Diwan":MAILTO:info@diwanegypt.com
END:VEVENT
BEGIN:VEVENT
DTSTART;TZID=Africa/Cairo:20250429T190000
DTEND;TZID=Africa/Cairo:20250429T210000
DTSTAMP:20260423T135056
CREATED:20250428T091906Z
LAST-MODIFIED:20250428T091906Z
UID:121730-1745953200-1745960400@diwan.clue-digital.com
SUMMARY:حفل إطلاق ومناقشة مسرحية يوم قام سقراط
DESCRIPTION:حفل إطلاق ومناقشة مسرحيةيوم قام سقراط لعصام الشماعمع المخرج د. عمرو دوارة والنجم ياسر علي ماهرتدير النقاش الكاتبة الصحفية والإعلامية عائشة نصاريوم الثلاثاء ٢٩ ابريلالساعة ٧ مساءديوان مصر الجديدة
URL:https://diwan.clue-digital.com/event/%d8%ad%d9%81%d9%84-%d8%a5%d8%b7%d9%84%d8%a7%d9%82-%d9%88%d9%85%d9%86%d8%a7%d9%82%d8%b4%d8%a9-%d9%85%d8%b3%d8%b1%d8%ad%d9%8a%d8%a9-%d9%8a%d9%88%d9%85-%d9%82%d8%a7%d9%85-%d8%b3%d9%82%d8%b1%d8%a7%d8%b7/
LOCATION:Diwan Heliopolis\, 105\, Abou Bakr El Seddiq St\, Heliopolis\, Cairo\, Egypt
CATEGORIES:Adults
ATTACH;FMTTYPE=image/png:https://diwan.clue-digital.com/wp-content/uploads/2025/04/Website-18.png
ORGANIZER;CN="Diwan":MAILTO:info@diwanegypt.com
END:VEVENT
END:VCALENDAR