BEGIN:VCALENDAR
VERSION:2.0
PRODID:-//Diwan - ECPv6.15.11//NONSGML v1.0//EN
CALSCALE:GREGORIAN
METHOD:PUBLISH
X-WR-CALNAME:Diwan
X-ORIGINAL-URL:https://diwan.clue-digital.com
X-WR-CALDESC:Events for Diwan
REFRESH-INTERVAL;VALUE=DURATION:PT1H
X-Robots-Tag:noindex
X-PUBLISHED-TTL:PT1H
BEGIN:VTIMEZONE
TZID:Africa/Cairo
BEGIN:DAYLIGHT
TZOFFSETFROM:+0200
TZOFFSETTO:+0300
TZNAME:EEST
DTSTART:20240425T220000
END:DAYLIGHT
BEGIN:STANDARD
TZOFFSETFROM:+0300
TZOFFSETTO:+0200
TZNAME:EET
DTSTART:20241031T210000
END:STANDARD
BEGIN:DAYLIGHT
TZOFFSETFROM:+0200
TZOFFSETTO:+0300
TZNAME:EEST
DTSTART:20250424T220000
END:DAYLIGHT
BEGIN:STANDARD
TZOFFSETFROM:+0300
TZOFFSETTO:+0200
TZNAME:EET
DTSTART:20251030T210000
END:STANDARD
BEGIN:DAYLIGHT
TZOFFSETFROM:+0200
TZOFFSETTO:+0300
TZNAME:EEST
DTSTART:20260423T220000
END:DAYLIGHT
BEGIN:STANDARD
TZOFFSETFROM:+0300
TZOFFSETTO:+0200
TZNAME:EET
DTSTART:20261029T210000
END:STANDARD
END:VTIMEZONE
BEGIN:VEVENT
DTSTART;TZID=Africa/Cairo:20250507T190000
DTEND;TZID=Africa/Cairo:20250521T210000
DTSTAMP:20260424T085650
CREATED:20250428T090943Z
LAST-MODIFIED:20250428T090943Z
UID:121725-1746644400-1747861200@diwan.clue-digital.com
SUMMARY:3 Masterclass on: Know yourself: The Divine in us
DESCRIPTION:3 Masterclass on: Know yourself: The Divine in us\nMasterclass 1Wednesday May 7th \nMasterclass 2Wednesday May 14th \nMasterclass 3Wednesday May 21thWith Tabea Elisabeth Taja
URL:https://diwan.clue-digital.com/event/3-masterclass-on-know-yourself-the-divine-in-us/
LOCATION:Diwan Zamalek\, 159 26 July St\, Cairo\, Cairo\, 11568\, Egypt
ATTACH;FMTTYPE=image/png:https://diwan.clue-digital.com/wp-content/uploads/2025/04/website-17.png
ORGANIZER;CN="Diwan":MAILTO:info@diwanegypt.com
END:VEVENT
BEGIN:VEVENT
DTSTART;TZID=Africa/Cairo:20250517T110000
DTEND;TZID=Africa/Cairo:20250517T140000
DTSTAMP:20260424T085650
CREATED:20250513T064441Z
LAST-MODIFIED:20250513T064441Z
UID:122472-1747479600-1747490400@diwan.clue-digital.com
SUMMARY:From Heart To Story (Teens)
DESCRIPTION:From bedtime tales to life-long values…\nJoin Yasmine & Wahba for a heart-led storytelling workshop that helps you turn your values into vibrant short stories your children will cherish.\n🧡 Learn how to write\, illustrate\, and emotionally connect with your little ones through stories that stay.\nBook Here \nAges: 12 to 17 years old  \nDate: 17th May 2025  \nTime: 11am till 2pm  \nVenue: Diwan Majarrah\, Zayed  \nEarly Bird Booking EGP 855 (Valid until 13th May)  \nPrice: EGP 970  \n 
URL:https://diwan.clue-digital.com/event/from-heart-to-story-teens/
LOCATION:Diwan Majarrah\, Block 12 26th of July Corridor\, First Al Sheikh Zayed\, Giza\,Egypt\, Giza\, Egypt
CATEGORIES:Young Adult
ATTACH;FMTTYPE=image/jpeg:https://diwan.clue-digital.com/wp-content/uploads/2025/05/WhatsApp-Image-2025-05-11-at-15.05.17_c322beb3.jpg
ORGANIZER;CN="Diwan":MAILTO:info@diwanegypt.com
END:VEVENT
BEGIN:VEVENT
DTSTART;TZID=Africa/Cairo:20250517T190000
DTEND;TZID=Africa/Cairo:20250517T210000
DTSTAMP:20260424T085650
CREATED:20250506T091938Z
LAST-MODIFIED:20250506T091938Z
UID:122157-1747508400-1747515600@diwan.clue-digital.com
SUMMARY:حفل توقيع ومناقشة كتاب بيت الجاز‎
DESCRIPTION:حفل توقيع ومناقشة كتاب بيت الجاز‎الكاتبة نورا ناجي تناقشها الكاتبة هبة عبد العليم و الكاتبة سمر عليالسبت ١٧ مايوديوان مصر الجديدة٧ مساءً
URL:https://diwan.clue-digital.com/event/%d8%ad%d9%81%d9%84-%d8%aa%d9%88%d9%82%d9%8a%d8%b9-%d9%88%d9%85%d9%86%d8%a7%d9%82%d8%b4%d8%a9-%d9%83%d8%aa%d8%a7%d8%a8-%d8%a8%d9%8a%d8%aa-%d8%a7%d9%84%d8%ac%d8%a7%d8%b2/
LOCATION:Diwan Heliopolis\, 105\, Abou Bakr El Seddiq St\, Heliopolis\, Cairo\, Egypt
CATEGORIES:Adults
ATTACH;FMTTYPE=image/png:https://diwan.clue-digital.com/wp-content/uploads/2025/05/Website-20.png
ORGANIZER;CN="Diwan":MAILTO:info@diwanegypt.com
END:VEVENT
END:VCALENDAR