BEGIN:VCALENDAR
VERSION:2.0
PRODID:-//Diwan - ECPv6.15.11//NONSGML v1.0//EN
CALSCALE:GREGORIAN
METHOD:PUBLISH
X-WR-CALNAME:Diwan
X-ORIGINAL-URL:https://diwan.clue-digital.com
X-WR-CALDESC:Events for Diwan
REFRESH-INTERVAL;VALUE=DURATION:PT1H
X-Robots-Tag:noindex
X-PUBLISHED-TTL:PT1H
BEGIN:VTIMEZONE
TZID:Africa/Cairo
BEGIN:DAYLIGHT
TZOFFSETFROM:+0200
TZOFFSETTO:+0300
TZNAME:EEST
DTSTART:20230427T220000
END:DAYLIGHT
BEGIN:STANDARD
TZOFFSETFROM:+0300
TZOFFSETTO:+0200
TZNAME:EET
DTSTART:20231026T210000
END:STANDARD
BEGIN:DAYLIGHT
TZOFFSETFROM:+0200
TZOFFSETTO:+0300
TZNAME:EEST
DTSTART:20240425T220000
END:DAYLIGHT
BEGIN:STANDARD
TZOFFSETFROM:+0300
TZOFFSETTO:+0200
TZNAME:EET
DTSTART:20241031T210000
END:STANDARD
BEGIN:DAYLIGHT
TZOFFSETFROM:+0200
TZOFFSETTO:+0300
TZNAME:EEST
DTSTART:20250424T220000
END:DAYLIGHT
BEGIN:STANDARD
TZOFFSETFROM:+0300
TZOFFSETTO:+0200
TZNAME:EET
DTSTART:20251030T210000
END:STANDARD
END:VTIMEZONE
BEGIN:VEVENT
DTSTART;TZID=Africa/Cairo:20241013T180000
DTEND;TZID=Africa/Cairo:20241201T203000
DTSTAMP:20260425T191936
CREATED:20240912T150758Z
LAST-MODIFIED:20241013T131921Z
UID:109850-1728842400-1733085000@diwan.clue-digital.com
SUMMARY:Creative Expression Workshop
DESCRIPTION:2nd Edition of the Creative Expression workshop\nwith Sara Fawcet & Helene Awad-Wahba\n7 sessions every Sunday\nStarting 13 Oct\nInpact Egypt\, Abaza Building\, 3 Mohamed Mazhar st. in Zamalek\n6 – 8:30pm\n5000LE\nBook Here
URL:https://diwan.clue-digital.com/event/creative-expression-workshop/
LOCATION:Cairo
CATEGORIES:Adults
ATTACH;FMTTYPE=image/png:https://diwan.clue-digital.com/wp-content/uploads/2024/09/Thumbnail-Website-size.png
ORGANIZER;CN="Diwan":MAILTO:info@diwanegypt.com
END:VEVENT
BEGIN:VEVENT
DTSTART;TZID=Africa/Cairo:20241018T140000
DTEND;TZID=Africa/Cairo:20241018T150000
DTSTAMP:20260425T191936
CREATED:20241016T065614Z
LAST-MODIFIED:20241016T083822Z
UID:111368-1729260000-1729263600@diwan.clue-digital.com
SUMMARY:ورشة حكي للأطفال مع حتحت وقرقر‎
DESCRIPTION:ورشة حكي للأطفال مع حتحت وقرقر\nجيلان عباس\nالجمعة ١٨ أكتوبر\nديوان مصر الجديدة\n٢ مساءً
URL:https://diwan.clue-digital.com/event/%d9%88%d8%b1%d8%b4%d8%a9-%d8%ad%d9%83%d9%8a-%d9%84%d9%84%d8%a3%d8%b7%d9%81%d8%a7%d9%84-%d9%85%d8%b9-%d8%ad%d8%aa%d8%ad%d8%aa-%d9%88%d9%82%d8%b1%d9%82%d8%b1/
LOCATION:Diwan Heliopolis\, 105\, Abou Bakr El Seddiq St\, Heliopolis\, Cairo\, Egypt
CATEGORIES:Children
ATTACH;FMTTYPE=image/png:https://diwan.clue-digital.com/wp-content/uploads/2024/10/Website-thumbnail-.png
ORGANIZER;CN="Diwan":MAILTO:info@diwanegypt.com
END:VEVENT
BEGIN:VEVENT
DTSTART;TZID=Africa/Cairo:20241018T180000
DTEND;TZID=Africa/Cairo:20241018T200000
DTSTAMP:20260425T191936
CREATED:20241010T075336Z
LAST-MODIFIED:20241010T075336Z
UID:111025-1729274400-1729281600@diwan.clue-digital.com
SUMMARY:حفل توقيع ونقاش كتاب بدون فصل أخير
DESCRIPTION:حفل توقيع ومناقشة بدون فصل أخير\nسمر علي\nتناقشها الكاتبة نورا ناجي\nالجمعة ١٨ أكتوبر\nديوان الأسكندرية\n٦ مساءً
URL:https://diwan.clue-digital.com/event/%d8%ad%d9%81%d9%84-%d8%aa%d9%88%d9%82%d9%8a%d8%b9-%d9%88%d9%86%d9%82%d8%a7%d8%b4-%d9%83%d8%aa%d8%a7%d8%a8-%d8%a8%d8%af%d9%88%d9%86-%d9%81%d8%b5%d9%84-%d8%a3%d8%ae%d9%8a%d8%b1/
LOCATION:Diwan City Centre\, Alexandria\, GA19 City Centre\, Alexandria Alexandria\, Egypt\, Alexandria\, Egypt
CATEGORIES:Adults
ATTACH;FMTTYPE=image/jpeg:https://diwan.clue-digital.com/wp-content/uploads/2024/10/Bedon-fasl-akhir-Event.jpg
ORGANIZER;CN="Diwan":MAILTO:info@diwanegypt.com
END:VEVENT
END:VCALENDAR