BEGIN:VCALENDAR
VERSION:2.0
PRODID:-//Diwan - ECPv6.15.11//NONSGML v1.0//EN
CALSCALE:GREGORIAN
METHOD:PUBLISH
X-WR-CALNAME:Diwan
X-ORIGINAL-URL:https://diwan.clue-digital.com
X-WR-CALDESC:Events for Diwan
REFRESH-INTERVAL;VALUE=DURATION:PT1H
X-Robots-Tag:noindex
X-PUBLISHED-TTL:PT1H
BEGIN:VTIMEZONE
TZID:Africa/Cairo
BEGIN:STANDARD
TZOFFSETFROM:+0200
TZOFFSETTO:+0200
TZNAME:EET
DTSTART:20190101T000000
END:STANDARD
END:VTIMEZONE
BEGIN:VEVENT
DTSTART;TZID=Africa/Cairo:20201128T200000
DTEND;TZID=Africa/Cairo:20201128T213000
DTSTAMP:20260425T215549
CREATED:20201121T134744Z
LAST-MODIFIED:20201121T134744Z
UID:12756-1606593600-1606599000@diwan.clue-digital.com
SUMMARY:Using the Enneagram to Truly Grow and Change
DESCRIPTION:It’s Know Yourself November.  This is the fourth in our series of event on the Enneagram\, a way of understanding your own personality\, strengths\, and weaknesses.
URL:https://diwan.clue-digital.com/event/using-the-enneagram-to-truly-grow-and-change/
LOCATION:Diwan Facebook Live
ATTACH;FMTTYPE=image/png:https://diwan.clue-digital.com/wp-content/uploads/2020/11/2020-015web.png
END:VEVENT
END:VCALENDAR