BEGIN:VCALENDAR
VERSION:2.0
PRODID:-//Diwan - ECPv6.15.11//NONSGML v1.0//EN
CALSCALE:GREGORIAN
METHOD:PUBLISH
X-WR-CALNAME:Diwan
X-ORIGINAL-URL:https://diwan.clue-digital.com
X-WR-CALDESC:Events for Diwan
REFRESH-INTERVAL;VALUE=DURATION:PT1H
X-Robots-Tag:noindex
X-PUBLISHED-TTL:PT1H
BEGIN:VTIMEZONE
TZID:Africa/Cairo
BEGIN:DAYLIGHT
TZOFFSETFROM:+0200
TZOFFSETTO:+0300
TZNAME:EEST
DTSTART:20240425T220000
END:DAYLIGHT
BEGIN:STANDARD
TZOFFSETFROM:+0300
TZOFFSETTO:+0200
TZNAME:EET
DTSTART:20241031T210000
END:STANDARD
BEGIN:DAYLIGHT
TZOFFSETFROM:+0200
TZOFFSETTO:+0300
TZNAME:EEST
DTSTART:20250424T220000
END:DAYLIGHT
BEGIN:STANDARD
TZOFFSETFROM:+0300
TZOFFSETTO:+0200
TZNAME:EET
DTSTART:20251030T210000
END:STANDARD
BEGIN:DAYLIGHT
TZOFFSETFROM:+0200
TZOFFSETTO:+0300
TZNAME:EEST
DTSTART:20260423T220000
END:DAYLIGHT
BEGIN:STANDARD
TZOFFSETFROM:+0300
TZOFFSETTO:+0200
TZNAME:EET
DTSTART:20261029T210000
END:STANDARD
END:VTIMEZONE
BEGIN:VEVENT
DTSTART;TZID=Africa/Cairo:20250322T130000
DTEND;TZID=Africa/Cairo:20250322T150000
DTSTAMP:20260422T103900
CREATED:20250310T104722Z
LAST-MODIFIED:20250310T104731Z
UID:118953-1742648400-1742655600@diwan.clue-digital.com
SUMMARY:Mommy & Me Fashion Workshop
DESCRIPTION:In recognition of Mothers and their amazing roles in our lives\, we are inviting all moms and their girls to join us in our ‘Mommy & Me Fashion Workshop.’ We will help you and your little ones unleash your inner fashionista because we believe in creating special memories on this special day. Our motto is that every shared smile sparkles in style.\nBook Here\nThe workshop will include:\n– Creating a Mother’s Day card\n– Creating and dressing up a special doll together.\n– Decorating and matching sunglasses for both of you.
URL:https://diwan.clue-digital.com/event/mommy-me-fashion-workshop/
LOCATION:Diwan Heliopolis\, 105\, Abou Bakr El Seddiq St\, Heliopolis\, Cairo\, Egypt
CATEGORIES:Children
ATTACH;FMTTYPE=image/png:https://diwan.clue-digital.com/wp-content/uploads/2025/03/Website-Banner_Marwa-Lotfy-Mothers-Day3-1.png
ORGANIZER;CN="Diwan":MAILTO:info@diwanegypt.com
END:VEVENT
END:VCALENDAR