BEGIN:VCALENDAR
VERSION:2.0
PRODID:-//Diwan - ECPv6.15.11//NONSGML v1.0//EN
CALSCALE:GREGORIAN
METHOD:PUBLISH
X-WR-CALNAME:Diwan
X-ORIGINAL-URL:https://diwan.clue-digital.com
X-WR-CALDESC:Events for Diwan
REFRESH-INTERVAL;VALUE=DURATION:PT1H
X-Robots-Tag:noindex
X-PUBLISHED-TTL:PT1H
BEGIN:VTIMEZONE
TZID:Africa/Cairo
BEGIN:STANDARD
TZOFFSETFROM:+0200
TZOFFSETTO:+0200
TZNAME:EET
DTSTART:20190101T000000
END:STANDARD
END:VTIMEZONE
BEGIN:VEVENT
DTSTART;TZID=Africa/Cairo:20201225T160000
DTEND;TZID=Africa/Cairo:20201225T180000
DTSTAMP:20260425T175409
CREATED:20201222T095629Z
LAST-MODIFIED:20201222T095629Z
UID:13676-1608912000-1608919200@diwan.clue-digital.com
SUMMARY:HALF a Christmas Day Book Signing
DESCRIPTION:Dear Friends and Readers\,\nAnother year to end …\nYet a “New” year to begin ..\nWe invite you to join us next Friday the 25th of December from 4 pm to 6 pm at Diwan Bookstore outdoors in the open air in « Capital Promenade » Sheikh Zayed.\nThere will be a short open air read session by the author with candle lights & carols.\nThere will also be a chance for you to be the winner of a signed copy of HALF to enjoy its adventures\, stories\, & photography through the end of a year and the beginning of a new one.\nWe hope to see you!
URL:https://diwan.clue-digital.com/event/half-a-christmas-day-book-signing/
LOCATION:Diwan Capital Business Park\, Capital Business park plot-15-16 Sheikh Zayed City\, 6th of October\, Cairo\, Cairo\, Egypt
ATTACH;FMTTYPE=image/png:https://diwan.clue-digital.com/wp-content/uploads/2020/12/Events-01.png
ORGANIZER;CN="Diwan":MAILTO:info@diwanegypt.com
END:VEVENT
END:VCALENDAR