BEGIN:VCALENDAR
VERSION:2.0
PRODID:-//Diwan - ECPv6.15.11//NONSGML v1.0//EN
CALSCALE:GREGORIAN
METHOD:PUBLISH
X-WR-CALNAME:Diwan
X-ORIGINAL-URL:https://diwan.clue-digital.com
X-WR-CALDESC:Events for Diwan
REFRESH-INTERVAL;VALUE=DURATION:PT1H
X-Robots-Tag:noindex
X-PUBLISHED-TTL:PT1H
BEGIN:VTIMEZONE
TZID:Africa/Cairo
BEGIN:DAYLIGHT
TZOFFSETFROM:+0200
TZOFFSETTO:+0300
TZNAME:EEST
DTSTART:20240425T220000
END:DAYLIGHT
BEGIN:STANDARD
TZOFFSETFROM:+0300
TZOFFSETTO:+0200
TZNAME:EET
DTSTART:20241031T210000
END:STANDARD
BEGIN:DAYLIGHT
TZOFFSETFROM:+0200
TZOFFSETTO:+0300
TZNAME:EEST
DTSTART:20250424T220000
END:DAYLIGHT
BEGIN:STANDARD
TZOFFSETFROM:+0300
TZOFFSETTO:+0200
TZNAME:EET
DTSTART:20251030T210000
END:STANDARD
BEGIN:DAYLIGHT
TZOFFSETFROM:+0200
TZOFFSETTO:+0300
TZNAME:EEST
DTSTART:20260423T220000
END:DAYLIGHT
BEGIN:STANDARD
TZOFFSETFROM:+0300
TZOFFSETTO:+0200
TZNAME:EET
DTSTART:20261029T210000
END:STANDARD
END:VTIMEZONE
BEGIN:VEVENT
DTSTART;TZID=Africa/Cairo:20250510T110000
DTEND;TZID=Africa/Cairo:20250510T140000
DTSTAMP:20260423T115629
CREATED:20250506T094936Z
LAST-MODIFIED:20250506T094936Z
UID:122166-1746874800-1746885600@diwan.clue-digital.com
SUMMARY:From Heart to Story
DESCRIPTION:“From bedtime tales to life-long values…\nJoin Yasmine & Wahba for a heart-led storytelling workshop that helps you turn your values into vibrant short stories your children will cherish.\n🧡 Learn how to write\, illustrate\, and emotionally connect with your little ones through stories that stay. \n📅 Date: 10 May 2025\n🕚 Time: 11 AM – 2 PM\n📍 Location: Diwan Majarrah\, Zayed\n🎟 Early Bird: EGP 855 (until 5 April) | Regular Price: EGP 970\nBook Here \nSpots are limited — let your family story begin!”
URL:https://diwan.clue-digital.com/event/from-heart-to-story-2/
LOCATION:Diwan Majarrah\, Block 12 26th of July Corridor\, First Al Sheikh Zayed\, Giza\,Egypt\, Giza\, Egypt
CATEGORIES:Adults
ATTACH;FMTTYPE=image/jpeg:https://diwan.clue-digital.com/wp-content/uploads/2025/05/Parents-Edition-WB-1.jpg
ORGANIZER;CN="Diwan":MAILTO:info@diwanegypt.com
END:VEVENT
END:VCALENDAR