BEGIN:VCALENDAR
VERSION:2.0
PRODID:-//Diwan - ECPv6.15.11//NONSGML v1.0//EN
CALSCALE:GREGORIAN
METHOD:PUBLISH
X-WR-CALNAME:Diwan
X-ORIGINAL-URL:https://diwan.clue-digital.com
X-WR-CALDESC:Events for Diwan
REFRESH-INTERVAL;VALUE=DURATION:PT1H
X-Robots-Tag:noindex
X-PUBLISHED-TTL:PT1H
BEGIN:VTIMEZONE
TZID:Africa/Cairo
BEGIN:STANDARD
TZOFFSETFROM:+0200
TZOFFSETTO:+0200
TZNAME:EET
DTSTART:20190101T000000
END:STANDARD
END:VTIMEZONE
BEGIN:VEVENT
DTSTART;TZID=Africa/Cairo:20201118T200000
DTEND;TZID=Africa/Cairo:20201118T230000
DTSTAMP:20260424T153436
CREATED:20201102T135005Z
LAST-MODIFIED:20201102T135101Z
UID:11373-1605729600-1605740400@diwan.clue-digital.com
SUMMARY:Enneagram Webinar 3: The Instincts (w/ Russ Hudson)
DESCRIPTION:It’s Know Yourself November!  Join us for the third in our series of webinars about enneagrams!
URL:https://diwan.clue-digital.com/event/enneagram-webinar-3-the-instincts-w-russ-hudson/
LOCATION:Diwan Facebook Live
ATTACH;FMTTYPE=image/png:https://diwan.clue-digital.com/wp-content/uploads/2020/11/2020-014web.png
END:VEVENT
END:VCALENDAR