BEGIN:VCALENDAR
VERSION:2.0
PRODID:-//Diwan - ECPv6.15.11//NONSGML v1.0//EN
CALSCALE:GREGORIAN
METHOD:PUBLISH
X-WR-CALNAME:Diwan
X-ORIGINAL-URL:https://diwan.clue-digital.com
X-WR-CALDESC:Events for Diwan
REFRESH-INTERVAL;VALUE=DURATION:PT1H
X-Robots-Tag:noindex
X-PUBLISHED-TTL:PT1H
BEGIN:VTIMEZONE
TZID:Africa/Cairo
BEGIN:STANDARD
TZOFFSETFROM:+0200
TZOFFSETTO:+0200
TZNAME:EET
DTSTART:20190101T000000
END:STANDARD
END:VTIMEZONE
BEGIN:VEVENT
DTSTART;TZID=Africa/Cairo:20201104T190000
DTEND;TZID=Africa/Cairo:20201104T210000
DTSTAMP:20260423T175009
CREATED:20201026T082355Z
LAST-MODIFIED:20201026T082414Z
UID:11234-1604516400-1604523600@diwan.clue-digital.com
SUMMARY:Booksigning - 4 Nov - حفل توقيع
DESCRIPTION:حفل إطلاق رواية “النظرة الأخيرة” للكاتبة دينا طاهر
URL:https://diwan.clue-digital.com/event/booksigning-%d8%ad%d9%81%d9%84-%d8%aa%d9%88%d9%82%d9%8a%d8%b9-2/
LOCATION:Diwan Capital Business Park\, Capital Business park plot-15-16 Sheikh Zayed City\, 6th of October\, Cairo\, Cairo\, Egypt
ATTACH;FMTTYPE=image/png:https://diwan.clue-digital.com/wp-content/uploads/2020/10/2020-008web.png
END:VEVENT
END:VCALENDAR