BEGIN:VCALENDAR
VERSION:2.0
PRODID:-//Diwan - ECPv6.15.11//NONSGML v1.0//EN
CALSCALE:GREGORIAN
METHOD:PUBLISH
X-WR-CALNAME:Diwan
X-ORIGINAL-URL:https://diwan.clue-digital.com
X-WR-CALDESC:Events for Diwan
REFRESH-INTERVAL;VALUE=DURATION:PT1H
X-Robots-Tag:noindex
X-PUBLISHED-TTL:PT1H
BEGIN:VTIMEZONE
TZID:Africa/Cairo
BEGIN:STANDARD
TZOFFSETFROM:+0200
TZOFFSETTO:+0200
TZNAME:EET
DTSTART:20190101T000000
END:STANDARD
END:VTIMEZONE
BEGIN:VEVENT
DTSTART;TZID=Africa/Cairo:20201111T190000
DTEND;TZID=Africa/Cairo:20201111T200000
DTSTAMP:20260424T015800
CREATED:20201014T073813Z
LAST-MODIFIED:20201024T105636Z
UID:10990-1605121200-1605124800@diwan.clue-digital.com
SUMMARY:نادي كتاب ديوان  كاتبان وكتاب
DESCRIPTION:في ديوان مصر الجديدة وفي بث مباشر على صفحة ديوان على الفيس بوك\n١١/١١/٢٠٢٠ الساعة ٧ مساء
URL:https://diwan.clue-digital.com/event/%d9%86%d8%a7%d8%af%d9%8a-%d9%83%d8%aa%d8%a7%d8%a8-%d8%af%d9%8a%d9%88%d8%a7%d9%86-%d9%83%d8%a7%d8%aa%d8%a8%d8%a7%d9%86-%d9%88%d9%83%d8%aa%d8%a7%d8%a8-2/
ATTACH;FMTTYPE=image/png:https://diwan.clue-digital.com/wp-content/uploads/2020/10/nov11.png
END:VEVENT
END:VCALENDAR