BEGIN:VCALENDAR
VERSION:2.0
PRODID:-//Diwan - ECPv6.15.11//NONSGML v1.0//EN
CALSCALE:GREGORIAN
METHOD:PUBLISH
X-WR-CALNAME:Diwan
X-ORIGINAL-URL:https://diwan.clue-digital.com
X-WR-CALDESC:Events for Diwan
REFRESH-INTERVAL;VALUE=DURATION:PT1H
X-Robots-Tag:noindex
X-PUBLISHED-TTL:PT1H
BEGIN:VTIMEZONE
TZID:Africa/Cairo
BEGIN:STANDARD
TZOFFSETFROM:+0200
TZOFFSETTO:+0200
TZNAME:EET
DTSTART:20190101T000000
END:STANDARD
END:VTIMEZONE
BEGIN:VEVENT
DTSTART;TZID=Africa/Cairo:20201228T180000
DTEND;TZID=Africa/Cairo:20201228T200000
DTSTAMP:20260425T210004
CREATED:20201226T074548Z
LAST-MODIFIED:20201227T154942Z
UID:14510-1609178400-1609185600@diwan.clue-digital.com
SUMMARY:مناقشة كتاب “حكايات التعب والشفاء” مع الكاتب د. نبيل القط
DESCRIPTION:
URL:https://diwan.clue-digital.com/event/%d9%85%d9%86%d8%a7%d9%82%d8%b4%d8%a9-%d9%83%d8%aa%d8%a7%d8%a8-%d8%ad%d9%83%d8%a7%d9%8a%d8%a7%d8%aa-%d8%a7%d9%84%d8%aa%d8%b9%d8%a8-%d9%88%d8%a7%d9%84%d8%b4%d9%82%d8%a7%d8%a1-%d9%85/
LOCATION:Diwan Facebook Live
ATTACH;FMTTYPE=image/png:https://diwan.clue-digital.com/wp-content/uploads/2020/12/Events-05-1.png
ORGANIZER;CN="Diwan":MAILTO:info@diwanegypt.com
END:VEVENT
END:VCALENDAR