BEGIN:VCALENDAR
VERSION:2.0
PRODID:-//Diwan - ECPv6.15.11//NONSGML v1.0//EN
CALSCALE:GREGORIAN
METHOD:PUBLISH
X-WR-CALNAME:Diwan
X-ORIGINAL-URL:https://diwan.clue-digital.com
X-WR-CALDESC:Events for Diwan
REFRESH-INTERVAL;VALUE=DURATION:PT1H
X-Robots-Tag:noindex
X-PUBLISHED-TTL:PT1H
BEGIN:VTIMEZONE
TZID:Africa/Cairo
BEGIN:STANDARD
TZOFFSETFROM:+0200
TZOFFSETTO:+0200
TZNAME:EET
DTSTART:20200101T000000
END:STANDARD
END:VTIMEZONE
BEGIN:VEVENT
DTSTART;TZID=Africa/Cairo:20210826T160000
DTEND;TZID=Africa/Cairo:20210826T170000
DTSTAMP:20260425T155408
CREATED:20210809T084209Z
LAST-MODIFIED:20210809T084209Z
UID:28361-1629993600-1629997200@diwan.clue-digital.com
SUMMARY:لقاء مع خالد حبيب‎‎
DESCRIPTION:Diwan Diplo\, North Coast
URL:https://diwan.clue-digital.com/event/%d9%84%d9%82%d8%a7%d8%a1-%d9%85%d8%b9-%d8%ae%d8%a7%d9%84%d8%af-%d8%ad%d8%a8%d9%8a%d8%a8%e2%80%8e%e2%80%8e/
ATTACH;FMTTYPE=image/png:https://diwan.clue-digital.com/wp-content/uploads/2021/08/خالد-حبيب-website.png
ORGANIZER;CN="Diwan":MAILTO:info@diwanegypt.com
END:VEVENT
END:VCALENDAR