BEGIN:VCALENDAR
VERSION:2.0
PRODID:-//Diwan - ECPv6.15.11//NONSGML v1.0//EN
CALSCALE:GREGORIAN
METHOD:PUBLISH
X-WR-CALNAME:Diwan
X-ORIGINAL-URL:https://diwan.clue-digital.com
X-WR-CALDESC:Events for Diwan
REFRESH-INTERVAL;VALUE=DURATION:PT1H
X-Robots-Tag:noindex
X-PUBLISHED-TTL:PT1H
BEGIN:VTIMEZONE
TZID:Africa/Cairo
BEGIN:STANDARD
TZOFFSETFROM:+0200
TZOFFSETTO:+0200
TZNAME:EET
DTSTART:20200101T000000
END:STANDARD
END:VTIMEZONE
BEGIN:VEVENT
DTSTART;TZID=Africa/Cairo:20210916T190000
DTEND;TZID=Africa/Cairo:20210916T210000
DTSTAMP:20260424T232156
CREATED:20210907T122424Z
LAST-MODIFIED:20210907T122637Z
UID:30495-1631818800-1631826000@diwan.clue-digital.com
SUMMARY:توقيع ومناقشة كتاب ايمن الحكيم
DESCRIPTION:
URL:https://diwan.clue-digital.com/event/%d9%81%d9%8a-%d8%b0%d9%83%d8%b1%d9%89-%d8%a8%d9%84%d9%8a%d8%ba-%d8%ad%d9%85%d8%af%d9%8a-%d8%aa%d9%88%d9%82%d9%8a%d8%b9-%d9%88%d9%85%d9%86%d8%a7%d9%82%d8%b4%d8%a9-%d9%83%d8%aa%d8%a7%d8%a8-%d8%a7/
LOCATION:Diwan Heliopolis\, 105\, Abou Bakr El Seddiq St\, Heliopolis\, Cairo\, Egypt
ATTACH;FMTTYPE=image/png:https://diwan.clue-digital.com/wp-content/uploads/2021/09/بليغ-حمدي-website.png
ORGANIZER;CN="Diwan":MAILTO:info@diwanegypt.com
END:VEVENT
END:VCALENDAR