BEGIN:VCALENDAR
VERSION:2.0
PRODID:-//Diwan - ECPv6.15.11//NONSGML v1.0//EN
CALSCALE:GREGORIAN
METHOD:PUBLISH
X-WR-CALNAME:Diwan
X-ORIGINAL-URL:https://diwan.clue-digital.com
X-WR-CALDESC:Events for Diwan
REFRESH-INTERVAL;VALUE=DURATION:PT1H
X-Robots-Tag:noindex
X-PUBLISHED-TTL:PT1H
BEGIN:VTIMEZONE
TZID:Africa/Cairo
BEGIN:STANDARD
TZOFFSETFROM:+0200
TZOFFSETTO:+0200
TZNAME:EET
DTSTART:20200101T000000
END:STANDARD
END:VTIMEZONE
BEGIN:VEVENT
DTSTART;TZID=Africa/Cairo:20210130T200000
DTEND;TZID=Africa/Cairo:20210130T200000
DTSTAMP:20260426T050441
CREATED:20210126T175444Z
LAST-MODIFIED:20210126T175444Z
UID:16675-1612036800-1612036800@diwan.clue-digital.com
SUMMARY:حكايات ريم بسيوني في عيون النقاد والقراء
DESCRIPTION:
URL:https://diwan.clue-digital.com/event/%d8%ad%d9%83%d8%a7%d9%8a%d8%a7%d8%aa-%d8%b1%d9%8a%d9%85-%d8%a8%d8%b3%d9%8a%d9%88%d9%86%d9%8a-%d9%81%d9%8a-%d8%b9%d9%8a%d9%88%d9%86-%d8%a7%d9%84%d9%86%d9%82%d8%a7%d8%af-%d9%88%d8%a7%d9%84%d9%82%d8%b1/
LOCATION:Diwan Facebook Live
ATTACH;FMTTYPE=image/png:https://diwan.clue-digital.com/wp-content/uploads/2021/01/Basic-Event-Templates-04.png
ORGANIZER;CN="Diwan":MAILTO:info@diwanegypt.com
END:VEVENT
END:VCALENDAR