BEGIN:VCALENDAR
VERSION:2.0
PRODID:-//Diwan - ECPv6.15.11//NONSGML v1.0//EN
CALSCALE:GREGORIAN
METHOD:PUBLISH
X-WR-CALNAME:Diwan
X-ORIGINAL-URL:https://diwan.clue-digital.com
X-WR-CALDESC:Events for Diwan
REFRESH-INTERVAL;VALUE=DURATION:PT1H
X-Robots-Tag:noindex
X-PUBLISHED-TTL:PT1H
BEGIN:VTIMEZONE
TZID:Africa/Cairo
BEGIN:STANDARD
TZOFFSETFROM:+0200
TZOFFSETTO:+0200
TZNAME:EET
DTSTART:20200101T000000
END:STANDARD
END:VTIMEZONE
BEGIN:VEVENT
DTSTART;TZID=Africa/Cairo:20211019T190000
DTEND;TZID=Africa/Cairo:20211019T203000
DTSTAMP:20260422T214105
CREATED:20211015T190610Z
LAST-MODIFIED:20211015T190610Z
UID:31839-1634670000-1634675400@diwan.clue-digital.com
SUMMARY:حفل توقيع ومناقشة هَوامِش في المُدن والسَفر والرحيل للكاتبة عَائشة سُلطان
DESCRIPTION:
URL:https://diwan.clue-digital.com/event/%d8%ad%d9%81%d9%84-%d8%aa%d9%88%d9%82%d9%8a%d8%b9-%d9%88%d9%85%d9%86%d8%a7%d9%82%d8%b4%d8%a9-%d9%87%d9%8e%d9%88%d8%a7%d9%85%d9%90%d8%b4-%d9%81%d9%8a-%d8%a7%d9%84%d9%85%d9%8f%d8%af%d9%86-%d9%88%d8%a7/
LOCATION:Diwan Heliopolis\, 105\, Abou Bakr El Seddiq St\, Heliopolis\, Cairo\, Egypt
ATTACH;FMTTYPE=image/png:https://diwan.clue-digital.com/wp-content/uploads/2021/10/Aisha_Web.png
ORGANIZER;CN="Diwan":MAILTO:info@diwanegypt.com
END:VEVENT
END:VCALENDAR