BEGIN:VCALENDAR
VERSION:2.0
PRODID:-//Diwan - ECPv6.15.11//NONSGML v1.0//EN
CALSCALE:GREGORIAN
METHOD:PUBLISH
X-WR-CALNAME:Diwan
X-ORIGINAL-URL:https://diwan.clue-digital.com
X-WR-CALDESC:Events for Diwan
REFRESH-INTERVAL;VALUE=DURATION:PT1H
X-Robots-Tag:noindex
X-PUBLISHED-TTL:PT1H
BEGIN:VTIMEZONE
TZID:Africa/Cairo
BEGIN:STANDARD
TZOFFSETFROM:+0200
TZOFFSETTO:+0200
TZNAME:EET
DTSTART:20200101T000000
END:STANDARD
END:VTIMEZONE
BEGIN:VEVENT
DTSTART;TZID=Africa/Cairo:20210820T190000
DTEND;TZID=Africa/Cairo:20210820T200000
DTSTAMP:20260426T012655
CREATED:20210815T214739Z
LAST-MODIFIED:20210815T214739Z
UID:29096-1629486000-1629489600@diwan.clue-digital.com
SUMMARY:حفل توقيع  كتاب "٣٣: عن الفقد والرُهاب" مع مينا ناجي
DESCRIPTION:حفل توقيع\nكتاب “٣٣: عن الفقد والرُهاب”\nمع مينا ناجي\nيدير اللقاء د/ أحمد عبدالحميد عمر
URL:https://diwan.clue-digital.com/event/%d8%ad%d9%81%d9%84-%d8%aa%d9%88%d9%82%d9%8a%d8%b9-%d9%83%d8%aa%d8%a7%d8%a8-%d9%a3%d9%a3-%d8%b9%d9%86-%d8%a7%d9%84%d9%81%d9%82%d8%af-%d9%88%d8%a7%d9%84%d8%b1%d9%8f%d9%87%d8%a7%d8%a8-%d9%85%d8%b9/
LOCATION:Diwan Heliopolis\, 105\, Abou Bakr El Seddiq St\, Heliopolis\, Cairo\, Egypt
ATTACH;FMTTYPE=image/png:https://diwan.clue-digital.com/wp-content/uploads/2021/08/Mina-Nagy_Web.png
ORGANIZER;CN="Diwan":MAILTO:info@diwanegypt.com
END:VEVENT
END:VCALENDAR