BEGIN:VCALENDAR
VERSION:2.0
PRODID:-//Diwan - ECPv6.15.11//NONSGML v1.0//EN
CALSCALE:GREGORIAN
METHOD:PUBLISH
X-WR-CALNAME:Diwan
X-ORIGINAL-URL:https://diwan.clue-digital.com
X-WR-CALDESC:Events for Diwan
REFRESH-INTERVAL;VALUE=DURATION:PT1H
X-Robots-Tag:noindex
X-PUBLISHED-TTL:PT1H
BEGIN:VTIMEZONE
TZID:Africa/Cairo
BEGIN:DAYLIGHT
TZOFFSETFROM:+0200
TZOFFSETTO:+0300
TZNAME:EEST
DTSTART:20230427T220000
END:DAYLIGHT
BEGIN:STANDARD
TZOFFSETFROM:+0300
TZOFFSETTO:+0200
TZNAME:EET
DTSTART:20231026T210000
END:STANDARD
BEGIN:DAYLIGHT
TZOFFSETFROM:+0200
TZOFFSETTO:+0300
TZNAME:EEST
DTSTART:20240425T220000
END:DAYLIGHT
BEGIN:STANDARD
TZOFFSETFROM:+0300
TZOFFSETTO:+0200
TZNAME:EET
DTSTART:20241031T210000
END:STANDARD
END:VTIMEZONE
BEGIN:VEVENT
DTSTART;TZID=Africa/Cairo:20230211T190000
DTEND;TZID=Africa/Cairo:20230211T203000
DTSTAMP:20260423T181505
CREATED:20230209T001243Z
LAST-MODIFIED:20230209T001243Z
UID:77373-1676142000-1676147400@diwan.clue-digital.com
SUMMARY:حفل إطلاق إنت والتانيين
DESCRIPTION:في انتظاركم لحفل إطلاق إنت والتانيين لشيماء الجمال يوم السبت ١١ فبراير الساعة ٧ مساء في ديوان مصر الجديدة \nإنت والتانيين\nألبوم نفسي لفهم ذاتك وعلاقاتك\nيدير الندوة أخصائي الصحة النفسية أ. محمد البدراوي \n“إنت والتانيين” كتاب يأخذك فى جولة متسعة أفقًا وعمقًا في العلاقة مع\n.النفس والتصالح معها والعلاقة بالآخرين كانعكاس للعلاقة بأنفسنا\nمرورًا بأشهر الصراعات والمشكلات التي قد تعترض طريقنا نحو رحلة\n.التعافي والنضج النفسي
URL:https://diwan.clue-digital.com/event/%d8%ad%d9%81%d9%84-%d8%a5%d8%b7%d9%84%d8%a7%d9%82-%d8%a5%d9%86%d8%aa-%d9%88%d8%a7%d9%84%d8%aa%d8%a7%d9%86%d9%8a%d9%8a%d9%86/
LOCATION:Diwan Heliopolis\, 105\, Abou Bakr El Seddiq St\, Heliopolis\, Cairo\, Egypt
ATTACH;FMTTYPE=image/jpeg:https://diwan.clue-digital.com/wp-content/uploads/2023/02/Website.jpg
ORGANIZER;CN="Diwan":MAILTO:info@diwanegypt.com
END:VEVENT
END:VCALENDAR