BEGIN:VCALENDAR
VERSION:2.0
PRODID:-//Diwan - ECPv6.15.11//NONSGML v1.0//EN
CALSCALE:GREGORIAN
METHOD:PUBLISH
X-WR-CALNAME:Diwan
X-ORIGINAL-URL:https://diwan.clue-digital.com
X-WR-CALDESC:Events for Diwan
REFRESH-INTERVAL;VALUE=DURATION:PT1H
X-Robots-Tag:noindex
X-PUBLISHED-TTL:PT1H
BEGIN:VTIMEZONE
TZID:Africa/Cairo
BEGIN:STANDARD
TZOFFSETFROM:+0200
TZOFFSETTO:+0200
TZNAME:EET
DTSTART:20190101T000000
END:STANDARD
END:VTIMEZONE
BEGIN:VEVENT
DTSTART;TZID=Africa/Cairo:20200922T170000
DTEND;TZID=Africa/Cairo:20200922T190000
DTSTAMP:20260419T193953
CREATED:20200914T084703Z
LAST-MODIFIED:20200921T140635Z
UID:10389-1600794000-1600801200@diwan.clue-digital.com
SUMMARY:جولة ريم بسيوني الأولى في مكتبات ديوان لتوقيع أحدث أعمالها، رواية "سبيل الغارق الطريق والبحر"
DESCRIPTION:Before it’s release in stores\, author Reem Bassiouny tours Diwan’s Cairo branches to sign the first copies of her new novel.
URL:https://diwan.clue-digital.com/event/%d8%ac%d9%88%d9%84%d8%a9-%d8%b1%d9%8a%d9%85-%d8%a8%d8%b3%d9%8a%d9%88%d9%86%d9%8a-%d8%a7%d9%84%d8%a3%d9%88%d9%84%d9%89-%d9%81%d9%8a-%d9%85%d9%83%d8%aa%d8%a8%d8%a7%d8%aa-%d8%af%d9%8a%d9%88%d8%a7%d9%86/
LOCATION:Diwan Capital Business Park\, Capital Business park plot-15-16 Sheikh Zayed City\, 6th of October\, Cairo\, Cairo\, Egypt
ATTACH;FMTTYPE=image/png:https://diwan.clue-digital.com/wp-content/uploads/2020/09/facebook-live-sept18v2-1.png
ORGANIZER;CN="Diwan":MAILTO:info@diwanegypt.com
END:VEVENT
END:VCALENDAR