BEGIN:VCALENDAR
VERSION:2.0
PRODID:-//Diwan - ECPv6.15.11//NONSGML v1.0//EN
CALSCALE:GREGORIAN
METHOD:PUBLISH
X-WR-CALNAME:Diwan
X-ORIGINAL-URL:https://diwan.clue-digital.com
X-WR-CALDESC:Events for Diwan
REFRESH-INTERVAL;VALUE=DURATION:PT1H
X-Robots-Tag:noindex
X-PUBLISHED-TTL:PT1H
BEGIN:VTIMEZONE
TZID:Africa/Cairo
BEGIN:STANDARD
TZOFFSETFROM:+0200
TZOFFSETTO:+0200
TZNAME:EET
DTSTART:20200101T000000
END:STANDARD
END:VTIMEZONE
BEGIN:VEVENT
DTSTART;TZID=Africa/Cairo:20210930T190000
DTEND;TZID=Africa/Cairo:20210930T203000
DTSTAMP:20260424T011833
CREATED:20210915T181551Z
LAST-MODIFIED:20210915T181551Z
UID:30730-1633028400-1633033800@diwan.clue-digital.com
SUMMARY:الصحفي في أدب نجيب محفوظ
DESCRIPTION:ندعوكم لحضور حفل توقيع ومناقشة\n“الصحفي في أدب نجيب محفوظ”\nمع الكاتب د. محمد حسام الدين إسماعيل\nيدير اللقاء د. خالد عاشور\nوذلك الخميس ٣٠ سبتمبر\nالساعة السابعة مساءً في ديوان مصر الجديدة
URL:https://diwan.clue-digital.com/event/%d8%a7%d9%84%d8%b5%d8%ad%d9%81%d9%8a-%d9%81%d9%8a-%d8%a3%d8%af%d8%a8-%d9%86%d8%ac%d9%8a%d8%a8-%d9%85%d8%ad%d9%81%d9%88%d8%b8/
LOCATION:Diwan Heliopolis\, 105\, Abou Bakr El Seddiq St\, Heliopolis\, Cairo\, Egypt
ATTACH;FMTTYPE=image/png:https://diwan.clue-digital.com/wp-content/uploads/2021/09/الصحفي-في-أدب-نجيب-محفوظ-website.png
ORGANIZER;CN="Diwan":MAILTO:info@diwanegypt.com
END:VEVENT
END:VCALENDAR